BEGIN:VCALENDAR
VERSION:2.0
PRODID:-//Ev. Kirchengemeinde Alt-Pankow - ECPv6.15.15//NONSGML v1.0//EN
CALSCALE:GREGORIAN
METHOD:PUBLISH
X-ORIGINAL-URL:https://alt.alt-pankow.de
X-WR-CALDESC:Veranstaltungen fÃ¼r Ev. Kirchengemeinde Alt-Pankow
REFRESH-INTERVAL;VALUE=DURATION:PT1H
X-Robots-Tag:noindex
X-PUBLISHED-TTL:PT1H
BEGIN:VTIMEZONE
TZID:Europe/Berlin
BEGIN:DAYLIGHT
TZOFFSETFROM:+0100
TZOFFSETTO:+0200
TZNAME:CEST
DTSTART:20240331T010000
END:DAYLIGHT
BEGIN:STANDARD
TZOFFSETFROM:+0200
TZOFFSETTO:+0100
TZNAME:CET
DTSTART:20241027T010000
END:STANDARD
BEGIN:DAYLIGHT
TZOFFSETFROM:+0100
TZOFFSETTO:+0200
TZNAME:CEST
DTSTART:20250330T010000
END:DAYLIGHT
BEGIN:STANDARD
TZOFFSETFROM:+0200
TZOFFSETTO:+0100
TZNAME:CET
DTSTART:20251026T010000
END:STANDARD
BEGIN:DAYLIGHT
TZOFFSETFROM:+0100
TZOFFSETTO:+0200
TZNAME:CEST
DTSTART:20260329T010000
END:DAYLIGHT
BEGIN:STANDARD
TZOFFSETFROM:+0200
TZOFFSETTO:+0100
TZNAME:CET
DTSTART:20261025T010000
END:STANDARD
END:VTIMEZONE
BEGIN:VEVENT
DTSTART;TZID=Europe/Berlin:20250901T180000
DTEND;TZID=Europe/Berlin:20250901T193000
DTSTAMP:20260421T115811
CREATED:20250825T112217Z
LAST-MODIFIED:20250825T112255Z
UID:14920-1756749600-1756755000@alt.alt-pankow.de
SUMMARY:Konzert und Andacht zum Weltfriedenstag
DESCRIPTION:Musik: hardChorElla Â· Erich-Fried-Chor\nTexte: Pfarrer Michael Hufen
URL:https://alt.alt-pankow.de/veranstaltung/konzert-und-andacht-zum-weltfriedenstag/
LOCATION:Alte Pfarrkirche &#8222;Zu den vier Evangelisten&#8220;\, Breite StraÃŸe 37\, Berlin\, 13187\, Deutschland
CATEGORIES:Andacht,im Kiez,Konzerte
ATTACH;FMTTYPE=image/png:https://alt.alt-pankow.de/wp-content/uploads/2025/08/weltfriedenstag.png
END:VEVENT
BEGIN:VEVENT
DTSTART;TZID=Europe/Berlin:20250901T193000
DTEND;TZID=Europe/Berlin:20250901T213000
DTSTAMP:20260421T115811
CREATED:20250825T150852Z
LAST-MODIFIED:20250825T150852Z
UID:14996-1756755000-1756762200@alt.alt-pankow.de
SUMMARY:Kirchenchor
DESCRIPTION:
URL:https://alt.alt-pankow.de/veranstaltung/kirchenchor/
LOCATION:Alte Pfarrkirche &#8222;Zu den vier Evangelisten&#8220;\, Breite StraÃŸe 37\, Berlin\, 13187\, Deutschland
CATEGORIES:Kirchenmusik,Proben
END:VEVENT
BEGIN:VEVENT
DTSTART;TZID=Europe/Berlin:20250902T200000
DTEND;TZID=Europe/Berlin:20250902T200000
DTSTAMP:20260421T115811
CREATED:20250805T095305Z
LAST-MODIFIED:20250805T095305Z
UID:14864-1756843200-1756843200@alt.alt-pankow.de
SUMMARY:Komplet - Das Gebet zur Nacht
DESCRIPTION:â€¦ in der Tradition christlicher KlÃ¶ster. Zur Ruhe kommen &#8211; Psalmen singen &#8211; um Frieden beten.
URL:https://alt.alt-pankow.de/veranstaltung/komplet-das-gebet-zur-nacht-5/
LOCATION:Alte Pfarrkirche &#8222;Zu den vier Evangelisten&#8220;\, Breite StraÃŸe 37\, Berlin\, 13187\, Deutschland
CATEGORIES:Andacht
END:VEVENT
BEGIN:VEVENT
DTSTART;TZID=Europe/Berlin:20250903T190000
DTEND;TZID=Europe/Berlin:20250903T210000
DTSTAMP:20260421T115811
CREATED:20250522T081843Z
LAST-MODIFIED:20250825T113711Z
UID:14567-1756926000-1756933200@alt.alt-pankow.de
SUMMARY:Orgelkonzert mit LKMD Gunter Kennel
DESCRIPTION:ErÃ¶ffnungskonzert zum 5. Orgelherbst 2025\nÂ»Verleih uns FriedenÂ«\nWerke von Bach\, Mendelssohn und Gunter KennelÂ  \nFelix Mendelssohn Bartholdy\n(1809-1847)\nSonate I f-Moll op 65/1\nAllegro moderato â€“ Andante â€“ Recitativ â€“ Allegro assai vivace \nGunter Kennel\n(geb. 1961)\nGib Frieden\, Herr\, gib Frieden\nChoralprÃ¤ludium \nFelix Mendelssohn Bartholdy\nPrÃ¤ludium und Fuge d-Moll op. 37/3\nEntfÃ¤llt ggf. \nGunter Kennel\nDa-Pacem-Tocca-Li-ta-nei \nJohann Sebastian Bach\n(1685-1750)\nPrÃ¤ludium in e\nBWV 548/I \nFelix Woyrsch\n(1860-1944)\nVerleihâ€™ uns Frieden gnÃ¤diglich\nop. 59 Nr. 10 (Im Kriegsjahr 1918) \nJohann Sebastian Bach\nFuga in e\nBWV 548/II \nJoseph Gabriel Rheinberger\n(1834-1901)\nAus der Sonate Nr. 20 F-Dur â€žZur Friedensfeierâ€œ\nPastorale &#8211; Finale \n\nGunther Kennel (geb. 1961) studierte Kirchenmusik\, Orgel und Theologie in MÃ¼nchen und London. Er konzertierte und dirigierte in Deutschland\, Europa und Ãœbersee. Neben der Pflege des traditionellen Orgelrepertoires ergÃ¤nzt er seine Programme hÃ¤ufig mit eigenen Kompositionen. Seit 2002 ist Gunter Kennel Landeskirchenmusikdirektor in Berlin\, Brandenburg und der schlesischen Oberlausitz. Er lehrt Kirchenmusik an der UniversitÃ¤t der KÃ¼nste und der Humboldt-UniversitÃ¤t Berlin. \n\nEintritt frei. Kollekte am Ausgang.
URL:https://alt.alt-pankow.de/veranstaltung/orgelkonzert-mit-prof-gunter-kennel-landeskirchenmusikdirektor-berlin/
LOCATION:Alte Pfarrkirche &#8222;Zu den vier Evangelisten&#8220;\, Breite StraÃŸe 37\, Berlin\, 13187\, Deutschland
CATEGORIES:Konzerte,Orgelherbst 2025
ATTACH;FMTTYPE=image/jpeg:https://alt.alt-pankow.de/wp-content/uploads/2025/05/KWG-4-Gunter_Kennel_web.jpg
END:VEVENT
BEGIN:VEVENT
DTSTART;TZID=Europe/Berlin:20250903T193000
DTEND;TZID=Europe/Berlin:20250903T210000
DTSTAMP:20260421T115811
CREATED:20250110T143746Z
LAST-MODIFIED:20250110T143746Z
UID:13844-1756927800-1756933200@alt.alt-pankow.de
SUMMARY:Tanz und Besinnung
DESCRIPTION:Kontakt: Sandra Pawlig Tel. 015906739626
URL:https://alt.alt-pankow.de/veranstaltung/tanz-und-besinnung-46/
LOCATION:Ev. Gemeindehaus Alt-Pankow Â· Gemeindesaal\, Breite StraÃŸe 38\, Berlin\, 13187\, Deutschland
CATEGORIES:Gemeindekreise,Meditation
END:VEVENT
BEGIN:VEVENT
DTSTART;TZID=Europe/Berlin:20250904T193000
DTEND;TZID=Europe/Berlin:20250904T213000
DTSTAMP:20260421T115811
CREATED:20250825T151855Z
LAST-MODIFIED:20250825T151855Z
UID:15046-1757014200-1757021400@alt.alt-pankow.de
SUMMARY:collegium instrumentale
DESCRIPTION:
URL:https://alt.alt-pankow.de/veranstaltung/collegium-instrumentale/
LOCATION:Ev. Gemeindehaus Alt-Pankow Â· Gemeindesaal\, Breite StraÃŸe 38\, Berlin\, 13187\, Deutschland
CATEGORIES:Kirchenmusik,Proben
END:VEVENT
BEGIN:VEVENT
DTSTART;TZID=Europe/Berlin:20250905T120000
DTEND;TZID=Europe/Berlin:20250905T123000
DTSTAMP:20260421T115811
CREATED:20250825T150227Z
LAST-MODIFIED:20250825T150227Z
UID:14965-1757073600-1757075400@alt.alt-pankow.de
SUMMARY:Friedensgebet mit Orgelandacht
DESCRIPTION:
URL:https://alt.alt-pankow.de/veranstaltung/friedensgebet-mit-orgelandacht-2/
LOCATION:Alte Pfarrkirche &#8222;Zu den vier Evangelisten&#8220;\, Breite StraÃŸe 37\, Berlin\, 13187\, Deutschland
CATEGORIES:Andacht
END:VEVENT
BEGIN:VEVENT
DTSTART;TZID=Europe/Berlin:20250907T100000
DTEND;TZID=Europe/Berlin:20250907T110000
DTSTAMP:20260421T115811
CREATED:20250826T102959Z
LAST-MODIFIED:20250826T102959Z
UID:15092-1757239200-1757242800@alt.alt-pankow.de
SUMMARY:Gottesdienst
DESCRIPTION:12. Sonntag nach Trinitatis\nmit Abendmahl / Kinderkirche \nPastor i.R. Thies Gundlach \nanschlieÃŸend KirchencafÃ© \n  \n 
URL:https://alt.alt-pankow.de/veranstaltung/gottesdienst-24/
LOCATION:Alte Pfarrkirche &#8222;Zu den vier Evangelisten&#8220;\, Breite StraÃŸe 37\, Berlin\, 13187\, Deutschland
CATEGORIES:Gottesdienste
END:VEVENT
BEGIN:VEVENT
DTSTART;TZID=Europe/Berlin:20250908T160000
DTEND;TZID=Europe/Berlin:20250908T163000
DTSTAMP:20260421T115811
CREATED:20250826T154428Z
LAST-MODIFIED:20250826T154428Z
UID:15157-1757347200-1757349000@alt.alt-pankow.de
SUMMARY:Kinderchor Â· 4-6 Jahre
DESCRIPTION:Wir singen\, was SpaÃŸ macht: Kinderlieder und Volkslieder\, Traditionelles und Modernes\, Christliches und Weltliches\, Klassik und Pop. Und nÃ¤chstes Jahr ein Singspiel.\nUnsere nÃ¤chsten Projekte sind ein Auftritt zum Adventsnachmittag in Alt-Pankow am 30. November sowie das Krippenspiel an Heiligabend. \nKontakt\nKirchenmusikerin Rudite Livmane\nT 0157- 387 80 926\nkirchenmusik@alt-pankow.de
URL:https://alt.alt-pankow.de/veranstaltung/kinderchor-%c2%b7-4-6-jahre-2/
LOCATION:Ev. Gemeindehaus Alt-Pankow Â· Gemeindesaal\, Breite StraÃŸe 38\, Berlin\, 13187\, Deutschland
CATEGORIES:fÃ¼r Kinder,Kirchenmusik,Proben
END:VEVENT
BEGIN:VEVENT
DTSTART;TZID=Europe/Berlin:20250908T180000
DTEND;TZID=Europe/Berlin:20250908T183000
DTSTAMP:20260421T115811
CREATED:20250825T145719Z
LAST-MODIFIED:20250825T145719Z
UID:14938-1757354400-1757356200@alt.alt-pankow.de
SUMMARY:Friedensgebet
DESCRIPTION:
URL:https://alt.alt-pankow.de/veranstaltung/friedensgebet-2/
LOCATION:Alte Pfarrkirche &#8222;Zu den vier Evangelisten&#8220;\, Breite StraÃŸe 37\, Berlin\, 13187\, Deutschland
CATEGORIES:Andacht,Gottesdienste
END:VEVENT
BEGIN:VEVENT
DTSTART;TZID=Europe/Berlin:20250908T193000
DTEND;TZID=Europe/Berlin:20250908T213000
DTSTAMP:20260421T115811
CREATED:20250825T150905Z
LAST-MODIFIED:20250825T150905Z
UID:14997-1757359800-1757367000@alt.alt-pankow.de
SUMMARY:Kirchenchor
DESCRIPTION:
URL:https://alt.alt-pankow.de/veranstaltung/kirchenchor-2/
LOCATION:Alte Pfarrkirche &#8222;Zu den vier Evangelisten&#8220;\, Breite StraÃŸe 37\, Berlin\, 13187\, Deutschland
CATEGORIES:Kirchenmusik,Proben
END:VEVENT
BEGIN:VEVENT
DTSTART;TZID=Europe/Berlin:20250909T170000
DTEND;TZID=Europe/Berlin:20250909T183000
DTSTAMP:20260421T115811
CREATED:20250110T142630Z
LAST-MODIFIED:20250610T103140Z
UID:13825-1757437200-1757442600@alt.alt-pankow.de
SUMMARY:TrauercafÃ©
DESCRIPTION:des Ambulanten Caritas-Hospizes \nBonhoeffer-Saal in der Alten Pfarrkirche Pankow\, Breite StraÃŸe 37\nAnmeldung erbeten unter Tel. 030-666340360
URL:https://alt.alt-pankow.de/veranstaltung/trauercafe-25/
LOCATION:Alte Pfarrkirche Â· Bonhoeffer-Saal\, Breite StraÃŸe 37\, Berlin\, 13187\, Deutschland
CATEGORIES:Beratung,GesprÃ¤che
END:VEVENT
BEGIN:VEVENT
DTSTART;TZID=Europe/Berlin:20250909T180000
DTEND;TZID=Europe/Berlin:20250909T220000
DTSTAMP:20260421T115811
CREATED:20250825T151333Z
LAST-MODIFIED:20250825T151333Z
UID:15022-1757440800-1757455200@alt.alt-pankow.de
SUMMARY:Junge Gemeinde
DESCRIPTION:
URL:https://alt.alt-pankow.de/veranstaltung/junge-gemeinde/
LOCATION:Ev. Gemeindehaus Alt-Pankow Â· Garten\, Breite StraÃŸe 38\, Berlin\, 13187\, Deutschland
CATEGORIES:Gemeindekreise,GesprÃ¤che,Jugendliche
END:VEVENT
BEGIN:VEVENT
DTSTART;TZID=Europe/Berlin:20250909T193000
DTEND;TZID=Europe/Berlin:20250909T210000
DTSTAMP:20260421T115811
CREATED:20250825T104952Z
LAST-MODIFIED:20250909T140043Z
UID:14914-1757446200-1757451600@alt.alt-pankow.de
SUMMARY:Johannes Bobrowski: Lesung Â· Musik Â· Film
DESCRIPTION:ZeitÂ \ngeht umherÂ \nin KleidernÂ \naus GlÃ¼ckÂ \nund UnglÃ¼ck. \nJohannes Bobrowski\nRuf und Zuruf\nVor 60 Jahren\, am 2. September 1965\, starb Johannes Bobrowski im Alter von nur 48 Jahren in Ost-Berlin. Aus diesem Anlass wollen wir ihn auch wieder hÃ¶rbar machen. Heute zÃ¤hlt Bobrowski zu den markantesten Vertretern der deutschsprachigen Literatur des 20. Jahrhunderts. Corinna Harfouch wird ihre Auswahl des groÃŸen Dichters und Prosaautoren vortragen. Dietrich Sagert spricht Verbindendes Â und ergÃ¤nzt die Textauswahl. Klaus VÃ¶lker war ein Freund Bobrowskis und steht heute auch der Internationalen Johannes-Bobrowski-Gesellschaft vor. Er wird auch von der Beerdigung in Berlin-Friedrichshagen erzÃ¤hlen. Kristian Wegscheider wird die Buxtehude-ErzÃ¤hlung vortragen. Als Orgelbaumeister hat seine Werkstatt im Jahr 2021 die Orgel fÃ¼r die Alte Pfarrkirche Pankow fertiggestellt. So ergibt sich an diesem Abend eine besondere Verbindung zum Dichter: Johannes Bobrowski spielte schon in seiner Jugend Orgel\, bevorzugt auch Buxtehude und Bach. Die Kantorin und Organistin der Pfarrkirche\, Rudite Livmane\, spielt heute deren Werke. Zum Beginn des Abends werden auf einer Leinwand Ausschnitte aus Filmen von Volker Koepp zu Johannes Bobrowskis Landschaften zu sehen sein. \n\n\n\n\n\nIn Kooperation mit Vineta Film. Bildrechte: Volker Koepp \n\n\n\n\n\nEintritt frei. Kollekte am Ausgang
URL:https://alt.alt-pankow.de/veranstaltung/14914/
LOCATION:Alte Pfarrkirche &#8222;Zu den vier Evangelisten&#8220;\, Breite StraÃŸe 37\, Berlin\, 13187\, Deutschland
CATEGORIES:im Kiez,Lesung
ATTACH;FMTTYPE=image/jpeg:https://alt.alt-pankow.de/wp-content/uploads/2025/08/9-8-2025-bobrowski.jpg
END:VEVENT
BEGIN:VEVENT
DTSTART;TZID=Europe/Berlin:20250910T190000
DTEND;TZID=Europe/Berlin:20250910T210000
DTSTAMP:20260421T115811
CREATED:20250522T082221Z
LAST-MODIFIED:20250825T105347Z
UID:14572-1757530800-1757538000@alt.alt-pankow.de
SUMMARY:Orgelkonzert mit Tom Rioult Â· Frankreich
DESCRIPTION:Orgelherbst 2025\nChant de Paix (Gesang des Friedens)\nWerke von Bach\, Jehan Alain\, DuruflÃ© und Langlais \nDie klagenden Â»LitaniesÂ« sind das wohl bekannteste Orgelwerk des franzÃ¶sischen Komponisten Jehan Alain (1911-1940). 1939 wurde er zum Krieg einberufen und fiel 29-jÃ¤hrig. Er hinterlieÃŸ eine Frau und drei kleine Kinder. Maurice DuruflÃ© (1902-1986) komponierte als Nachruf das Â»PrÃ©lude and Fugue on A-L-A-I-NÂ«. Tom Rioult umrahmt diese Werke mit Johann Sebastian Bachs Fantaisie und Fuge g-moll und Jean Langlais&#8216; Â»Chant de PaixÂ«. \n\nTom Rioult\, geboren 1997\, ist PreistrÃ¤ger internationaler Orgelwettbewerbe in Freiburg\, Saint-Maurice\, Vicenza\, Armagh\, Saint-Albans\, Atlanta\, Miami und Seoul. Er studierte am Konservatorium von Caen (Normandie) Posaune und Orgel. Am Lyoner Konservatorium folgte das Orgel-Masterstudium. Derzeit ist Tom Rioult Titularorganist der CavaillÃ©-Coll-Orgel in der Kathedrale von Lisieux (Normandie). AuÃŸerdem unterrichtet er Orgel am Konservatorium von Lisieux und verfolgt eine rege KonzerttÃ¤tigkeit. \n\nEintritt frei. Kollekte am Ausgang.
URL:https://alt.alt-pankow.de/veranstaltung/orgelkonzert-mit-tom-rioult-frankreich/
LOCATION:Alte Pfarrkirche &#8222;Zu den vier Evangelisten&#8220;\, Breite StraÃŸe 37\, Berlin\, 13187\, Deutschland
CATEGORIES:Konzerte,Orgelherbst 2025
ATTACH;FMTTYPE=image/jpeg:https://alt.alt-pankow.de/wp-content/uploads/2025/05/Tom_rioult_web.jpg
END:VEVENT
BEGIN:VEVENT
DTSTART;TZID=Europe/Berlin:20250911T160000
DTEND;TZID=Europe/Berlin:20250911T164500
DTSTAMP:20260421T115811
CREATED:20250110T141353Z
LAST-MODIFIED:20250826T155702Z
UID:13757-1757606400-1757609100@alt.alt-pankow.de
SUMMARY:Kinderchor Â· Kinder ab 2. Klasse
DESCRIPTION:Wir singen\, was SpaÃŸ macht: Kinderlieder und Volkslieder\, Traditionelles und Modernes\, Christliches und Weltliches\, Klassik und Pop. Und nÃ¤chstes Jahr ein Singspiel.\nUnsere nÃ¤chsten Projekte sind ein Auftritt zum Adventsnachmittag in Alt-Pankow am 30. November sowie das Krippenspiel an Heiligabend. \nKontakt\nKirchenmusikerin Rudite Livmane\nT 0157- 387 80 926\nkirchenmusik@alt-pankow.de
URL:https://alt.alt-pankow.de/veranstaltung/kinderchor-%c2%b7-kinder-ab-2-klasse-74/
LOCATION:Ev. Gemeindehaus Alt-Pankow Â· Gemeindesaal\, Breite StraÃŸe 38\, Berlin\, 13187\, Deutschland
CATEGORIES:fÃ¼r Kinder,Kirchenmusik,Proben
END:VEVENT
BEGIN:VEVENT
DTSTART;TZID=Europe/Berlin:20250911T180000
DTEND;TZID=Europe/Berlin:20250911T200000
DTSTAMP:20260421T115811
CREATED:20250110T154838Z
LAST-MODIFIED:20250110T154849Z
UID:14071-1757613600-1757620800@alt.alt-pankow.de
SUMMARY:GesprÃ¤chskreis
DESCRIPTION:Kontakt: Donata Kleber\, Tel. 030-9122323 \n 
URL:https://alt.alt-pankow.de/veranstaltung/gespraechskreis-22/
LOCATION:Ev. Gemeindehaus Alt-Pankow Â· Gemeindesaal\, Breite StraÃŸe 38\, Berlin\, 13187\, Deutschland
CATEGORIES:Gemeindekreise,GesprÃ¤che
END:VEVENT
BEGIN:VEVENT
DTSTART;TZID=Europe/Berlin:20250911T193000
DTEND;TZID=Europe/Berlin:20250911T213000
DTSTAMP:20260421T115811
CREATED:20250825T151906Z
LAST-MODIFIED:20250825T151906Z
UID:15047-1757619000-1757626200@alt.alt-pankow.de
SUMMARY:collegium instrumentale
DESCRIPTION:
URL:https://alt.alt-pankow.de/veranstaltung/collegium-instrumentale-2/
LOCATION:Ev. Gemeindehaus Alt-Pankow Â· Gemeindesaal\, Breite StraÃŸe 38\, Berlin\, 13187\, Deutschland
CATEGORIES:Kirchenmusik,Proben
END:VEVENT
BEGIN:VEVENT
DTSTART;TZID=Europe/Berlin:20250912T120000
DTEND;TZID=Europe/Berlin:20250912T123000
DTSTAMP:20260421T115811
CREATED:20250825T150243Z
LAST-MODIFIED:20250825T150243Z
UID:14966-1757678400-1757680200@alt.alt-pankow.de
SUMMARY:Friedensgebet mit Orgelandacht
DESCRIPTION:
URL:https://alt.alt-pankow.de/veranstaltung/friedensgebet-mit-orgelandacht-3/
LOCATION:Alte Pfarrkirche &#8222;Zu den vier Evangelisten&#8220;\, Breite StraÃŸe 37\, Berlin\, 13187\, Deutschland
CATEGORIES:Andacht
END:VEVENT
BEGIN:VEVENT
DTSTART;TZID=Europe/Berlin:20250912T190000
DTEND;TZID=Europe/Berlin:20250912T210000
DTSTAMP:20260421T115811
CREATED:20250825T152913Z
LAST-MODIFIED:20250825T152913Z
UID:15072-1757703600-1757710800@alt.alt-pankow.de
SUMMARY:BlÃ¤serkreis
DESCRIPTION:Fortgeschrittene BlÃ¤ser sind herzlich willkommen!Â  \nAnmeldung: Michael Timm\nTel. 0175-2044747\nE-Mail: post@michatimm.de
URL:https://alt.alt-pankow.de/veranstaltung/blaeserkreis-7/
LOCATION:Ev. Gemeindehaus Alt-Pankow Â· Gemeindesaal\, Breite StraÃŸe 38\, Berlin\, 13187\, Deutschland
CATEGORIES:BlÃ¤serkreis,Kirchenmusik,Proben
END:VEVENT
BEGIN:VEVENT
DTSTART;TZID=Europe/Berlin:20250913T100000
DTEND;TZID=Europe/Berlin:20250913T110000
DTSTAMP:20260421T115811
CREATED:20250828T074648Z
LAST-MODIFIED:20250828T074956Z
UID:15240-1757757600-1757761200@alt.alt-pankow.de
SUMMARY:SchuleinfÃ¼hrung Evangelische Schule Pankow
DESCRIPTION:Ev. Schule Pankow / Pfarrer Michael Hufen
URL:https://alt.alt-pankow.de/veranstaltung/schuleinfuehrung-evangelische-schule-pankow/
LOCATION:Alte Pfarrkirche &#8222;Zu den vier Evangelisten&#8220;\, Breite StraÃŸe 37\, Berlin\, 13187\, Deutschland
CATEGORIES:Gottesdienste,im Kiez
ATTACH;FMTTYPE=image/jpeg:https://alt.alt-pankow.de/wp-content/uploads/2025/08/schultuete2025.jpg
END:VEVENT
BEGIN:VEVENT
DTSTART;TZID=Europe/Berlin:20250914T100000
DTEND;TZID=Europe/Berlin:20250914T110000
DTSTAMP:20260421T115811
CREATED:20250526T110253Z
LAST-MODIFIED:20250828T074322Z
UID:15094-1757844000-1757847600@alt.alt-pankow.de
SUMMARY:Gottesdienst
DESCRIPTION:13. Sonntag nach Trinitatis \nGottesdienst zum Schuljahresanfang\nPfarrer Michael Hufen \n  \n  \n 
URL:https://alt.alt-pankow.de/veranstaltung/gottesdienst-25/
LOCATION:Alte Pfarrkirche &#8222;Zu den vier Evangelisten&#8220;\, Breite StraÃŸe 37\, Berlin\, 13187\, Deutschland
CATEGORIES:Gottesdienste
END:VEVENT
BEGIN:VEVENT
DTSTART;TZID=Europe/Berlin:20250914T110000
DTEND;TZID=Europe/Berlin:20250914T123000
DTSTAMP:20260421T115811
CREATED:20250522T082526Z
LAST-MODIFIED:20250522T084512Z
UID:14575-1757847600-1757853000@alt.alt-pankow.de
SUMMARY:Wir bauen eine Orgel
DESCRIPTION:Angebot zum Fest an der Panke\n\nEine Orgel selber bauen\, geht denn das? Mit dem Bausatz einer echten kleinen Pfeifenorgel schaffen wir das unter fachkundiger Anleitung in 60 Minuten. Am Ende kann die Miniaturorgel sogar gespielt werden. Den Aufbau leitet unsere Kirchenmusikerin Rudite Livmane.\nFÃ¼r groÃŸe und kleine Menschen ab 8 Jahren. \nDer Al:legrO Orgelbausatz kann selbst von Kindern aufgebaut werden. Es handelt sich um eine echte Pfeifenorgel im Miniaturformat. Etwa 100 Teile\, wie Pfeifen\, Tasten\, Magazinbalg\, SchÃ¶pfbalg\, Windlade und Windrohr werden auf einem Tisch zusammengesteckt. \n\nEintritt frei. Kollekte am Ausgang.
URL:https://alt.alt-pankow.de/veranstaltung/wir-bauen-eine-orgel/
LOCATION:Alte Pfarrkirche Â· Bonhoeffer-Saal\, Breite StraÃŸe 37\, Berlin\, 13187\, Deutschland
CATEGORIES:Orgelherbst 2025
ATTACH;FMTTYPE=image/jpeg:https://alt.alt-pankow.de/wp-content/uploads/2025/05/allegro_web.jpg
END:VEVENT
BEGIN:VEVENT
DTSTART;TZID=Europe/Berlin:20250914T140000
DTEND;TZID=Europe/Berlin:20250914T170000
DTSTAMP:20260421T115811
CREATED:20250522T082754Z
LAST-MODIFIED:20250825T105400Z
UID:14579-1757858400-1757869200@alt.alt-pankow.de
SUMMARY:Orgelmarathon
DESCRIPTION:Angebot zum Fest an der Panke\nOrganistinnen und Organisten aus der Region spielen ihre Lieblingswerke. Jeder Interpret spielt etwa Â½ Stunde; dazwischen gibt es kurze EinfÃ¼hrungen zu den Musikern und Werken. Es erklingt Musik von Barock bis Moderne. Die KirchentÃ¼r steht offen\, sodass Sie jederzeit eintreten und verweilen kÃ¶nnen.
URL:https://alt.alt-pankow.de/veranstaltung/orgelmarathon/
LOCATION:Alte Pfarrkirche &#8222;Zu den vier Evangelisten&#8220;\, Breite StraÃŸe 37\, Berlin\, 13187\, Deutschland
CATEGORIES:Konzerte,Orgelherbst 2025
ATTACH;FMTTYPE=image/jpeg:https://alt.alt-pankow.de/wp-content/uploads/2022/06/orgelakademie.jpg
END:VEVENT
BEGIN:VEVENT
DTSTART;TZID=Europe/Berlin:20250915T160000
DTEND;TZID=Europe/Berlin:20250915T163000
DTSTAMP:20260421T115811
CREATED:20250826T155000Z
LAST-MODIFIED:20250826T155000Z
UID:15159-1757952000-1757953800@alt.alt-pankow.de
SUMMARY:Kinderchor Â· 4-6 Jahre
DESCRIPTION:Wir singen\, was SpaÃŸ macht: Kinderlieder und Volkslieder\, Traditionelles und Modernes\, Christliches und Weltliches\, Klassik und Pop. Und nÃ¤chstes Jahr ein Singspiel.\nUnsere nÃ¤chsten Projekte sind ein Auftritt zum Adventsnachmittag in Alt-Pankow am 30. November sowie das Krippenspiel an Heiligabend. \nKontakt\nKirchenmusikerin Rudite Livmane\nT 0157- 387 80 926\nkirchenmusik@alt-pankow.de
URL:https://alt.alt-pankow.de/veranstaltung/kinderchor-%c2%b7-4-6-jahre-3/
LOCATION:Ev. Gemeindehaus Alt-Pankow Â· Gemeindesaal\, Breite StraÃŸe 38\, Berlin\, 13187\, Deutschland
CATEGORIES:fÃ¼r Kinder,Kirchenmusik,Proben
END:VEVENT
BEGIN:VEVENT
DTSTART;TZID=Europe/Berlin:20250915T180000
DTEND;TZID=Europe/Berlin:20250915T183000
DTSTAMP:20260421T115811
CREATED:20250825T145730Z
LAST-MODIFIED:20250825T145730Z
UID:14940-1757959200-1757961000@alt.alt-pankow.de
SUMMARY:Friedensgebet
DESCRIPTION:
URL:https://alt.alt-pankow.de/veranstaltung/friedensgebet-3/
LOCATION:Alte Pfarrkirche &#8222;Zu den vier Evangelisten&#8220;\, Breite StraÃŸe 37\, Berlin\, 13187\, Deutschland
CATEGORIES:Andacht,Gottesdienste
END:VEVENT
BEGIN:VEVENT
DTSTART;TZID=Europe/Berlin:20250915T193000
DTEND;TZID=Europe/Berlin:20250915T213000
DTSTAMP:20260421T115811
CREATED:20250825T150913Z
LAST-MODIFIED:20250825T150913Z
UID:14998-1757964600-1757971800@alt.alt-pankow.de
SUMMARY:Kirchenchor
DESCRIPTION:
URL:https://alt.alt-pankow.de/veranstaltung/kirchenchor-3/
LOCATION:Alte Pfarrkirche &#8222;Zu den vier Evangelisten&#8220;\, Breite StraÃŸe 37\, Berlin\, 13187\, Deutschland
CATEGORIES:Kirchenmusik,Proben
END:VEVENT
BEGIN:VEVENT
DTSTART;TZID=Europe/Berlin:20250916T153000
DTEND;TZID=Europe/Berlin:20250916T163000
DTSTAMP:20260421T115811
CREATED:20250910T103617Z
LAST-MODIFIED:20250910T103617Z
UID:15310-1758036600-1758040200@alt.alt-pankow.de
SUMMARY:Christenlehre 4.+5. Klasse
DESCRIPTION:mit Renate Wagner-Schill \n\nEinmal pro Woche treffen sich Kinder unserer Gemeinde bzw. aus dem Pankower Kiez zur Christenlehre. Wir hÃ¶ren Geschichten\, meist aus der Bibel\, singen\, beten\, tanzen\, spielen und basteln\, essen und feiern gemeinsam\, bereiten Feste vor\, gestalten die Kinderecke unserer Kirche und Familiengottesdienste &#8211; herzlich willkommen!
URL:https://alt.alt-pankow.de/veranstaltung/christenlehre-4-5-klasse/
LOCATION:Ev. Gemeindehaus Alt-Pankow Â· Keller\, Breite StraÃŸe 38\, Berlin\, 13187\, Deutschland
CATEGORIES:fÃ¼r Kinder
END:VEVENT
BEGIN:VEVENT
DTSTART;TZID=Europe/Berlin:20250916T163000
DTEND;TZID=Europe/Berlin:20250916T180000
DTSTAMP:20260421T115811
CREATED:20250911T115939Z
LAST-MODIFIED:20250911T120106Z
UID:15396-1758040200-1758045600@alt.alt-pankow.de
SUMMARY:KonfiZeit
DESCRIPTION:EinjÃ¤hrige Vorbereitung auf die Konfirmation 2026\nmit Pfarrer Michael Hufen \nin der Alten Pfarrkirche Pankow \nKontakt\nPfarrer Michael Hufen\nE-Mail \n 
URL:https://alt.alt-pankow.de/veranstaltung/konfizeit/
LOCATION:Alte Pfarrkirche &#8222;Zu den vier Evangelisten&#8220;\, Breite StraÃŸe 37\, Berlin\, 13187\, Deutschland
CATEGORIES:Jugendliche
END:VEVENT
BEGIN:VEVENT
DTSTART;TZID=Europe/Berlin:20250916T170000
DTEND;TZID=Europe/Berlin:20250916T180000
DTSTAMP:20260421T115811
CREATED:20250910T104111Z
LAST-MODIFIED:20250910T104111Z
UID:15334-1758042000-1758045600@alt.alt-pankow.de
SUMMARY:Christenlehre 6.+7. Klasse
DESCRIPTION:mit Renate Wagner-Schill \n\nEinmal pro Woche treffen sich Kinder unserer Gemeinde bzw. aus dem Pankower Kiez zur Christenlehre. Wir hÃ¶ren Geschichten\, meist aus der Bibel\, singen\, beten\, tanzen\, spielen und basteln\, essen und feiern gemeinsam\, bereiten Feste vor\, gestalten die Kinderecke unserer Kirche und Familiengottesdienste &#8211; herzlich willkommen!
URL:https://alt.alt-pankow.de/veranstaltung/christenlehre-6-7-klasse/
LOCATION:Ev. Gemeindehaus Alt-Pankow Â· Keller\, Breite StraÃŸe 38\, Berlin\, 13187\, Deutschland
CATEGORIES:fÃ¼r Kinder
END:VEVENT
END:VCALENDAR