BEGIN:VCALENDAR
VERSION:2.0
PRODID:-//Ev. Kirchengemeinde Alt-Pankow - ECPv6.15.15//NONSGML v1.0//EN
CALSCALE:GREGORIAN
METHOD:PUBLISH
X-WR-CALNAME:Ev. Kirchengemeinde Alt-Pankow
X-ORIGINAL-URL:https://alt.alt-pankow.de
X-WR-CALDESC:Veranstaltungen fÃ¼r Ev. Kirchengemeinde Alt-Pankow
REFRESH-INTERVAL;VALUE=DURATION:PT1H
X-Robots-Tag:noindex
X-PUBLISHED-TTL:PT1H
BEGIN:VTIMEZONE
TZID:Europe/Berlin
BEGIN:DAYLIGHT
TZOFFSETFROM:+0100
TZOFFSETTO:+0200
TZNAME:CEST
DTSTART:20240331T010000
END:DAYLIGHT
BEGIN:STANDARD
TZOFFSETFROM:+0200
TZOFFSETTO:+0100
TZNAME:CET
DTSTART:20241027T010000
END:STANDARD
BEGIN:DAYLIGHT
TZOFFSETFROM:+0100
TZOFFSETTO:+0200
TZNAME:CEST
DTSTART:20250330T010000
END:DAYLIGHT
BEGIN:STANDARD
TZOFFSETFROM:+0200
TZOFFSETTO:+0100
TZNAME:CET
DTSTART:20251026T010000
END:STANDARD
BEGIN:DAYLIGHT
TZOFFSETFROM:+0100
TZOFFSETTO:+0200
TZNAME:CEST
DTSTART:20260329T010000
END:DAYLIGHT
BEGIN:STANDARD
TZOFFSETFROM:+0200
TZOFFSETTO:+0100
TZNAME:CET
DTSTART:20261025T010000
END:STANDARD
END:VTIMEZONE
BEGIN:VEVENT
DTSTART;TZID=Europe/Berlin:20250803T100000
DTEND;TZID=Europe/Berlin:20250803T110000
DTSTAMP:20260421T133106
CREATED:20250522T113035Z
LAST-MODIFIED:20250522T113126Z
UID:14625-1754215200-1754218800@alt.alt-pankow.de
SUMMARY:Gottesdienst
DESCRIPTION:7. Sonntag nach Trinitatis \nPastor i.R.Â  Thies Gundlach\nOrgel: Rudite Livmane \nanschlieÃŸend KirchencafÃ© \n  \n 
URL:https://alt.alt-pankow.de/veranstaltung/gottesdienst-18/
LOCATION:Alte Pfarrkirche &#8222;Zu den vier Evangelisten&#8220;\, Breite StraÃŸe 37\, Berlin\, 13187\, Deutschland
CATEGORIES:Gottesdienste
END:VEVENT
BEGIN:VEVENT
DTSTART;TZID=Europe/Berlin:20250805T200000
DTEND;TZID=Europe/Berlin:20250805T200000
DTSTAMP:20260421T133106
CREATED:20250805T095222Z
LAST-MODIFIED:20250805T095222Z
UID:14860-1754424000-1754424000@alt.alt-pankow.de
SUMMARY:Komplet - Das Gebet zur Nacht
DESCRIPTION:â€¦ in der Tradition christlicher KlÃ¶ster. Zur Ruhe kommen &#8211; Psalmen singen &#8211; um Frieden beten.
URL:https://alt.alt-pankow.de/veranstaltung/komplet-das-gebet-zur-nacht/
LOCATION:Alte Pfarrkirche &#8222;Zu den vier Evangelisten&#8220;\, Breite StraÃŸe 37\, Berlin\, 13187\, Deutschland
CATEGORIES:Andacht
END:VEVENT
BEGIN:VEVENT
DTSTART;TZID=Europe/Berlin:20250806T190000
DTEND;TZID=Europe/Berlin:20250806T210000
DTSTAMP:20260421T133106
CREATED:20250402T142056Z
LAST-MODIFIED:20250721T122140Z
UID:14467-1754506800-1754514000@alt.alt-pankow.de
SUMMARY:In manus tuas
DESCRIPTION:Orgelkonzert\nWerke von Arvo PÃ¤rt und franzÃ¶sische Orgelmusik\nOrgel: Ligita Sneibe (Stockholm/Riga) \n\nEintritt frei. Kollekte am Ausgang
URL:https://alt.alt-pankow.de/veranstaltung/in-manus-tuas/
LOCATION:Alte Pfarrkirche &#8222;Zu den vier Evangelisten&#8220;\, Breite StraÃŸe 37\, Berlin\, 13187\, Deutschland
CATEGORIES:Konzerte,Orgelkonzerte
ATTACH;FMTTYPE=image/jpeg:https://alt.alt-pankow.de/wp-content/uploads/2025/04/ligita_sneibe.jpg
END:VEVENT
BEGIN:VEVENT
DTSTART;TZID=Europe/Berlin:20250806T193000
DTEND;TZID=Europe/Berlin:20250806T210000
DTSTAMP:20260421T133106
CREATED:20250110T143701Z
LAST-MODIFIED:20250110T143701Z
UID:13843-1754508600-1754514000@alt.alt-pankow.de
SUMMARY:Tanz und Besinnung
DESCRIPTION:Kontakt: Sandra Pawlig Tel. 015906739626
URL:https://alt.alt-pankow.de/veranstaltung/tanz-und-besinnung-43/
LOCATION:Ev. Gemeindehaus Alt-Pankow Â· Gemeindesaal\, Breite StraÃŸe 38\, Berlin\, 13187\, Deutschland
CATEGORIES:Gemeindekreise,Meditation
END:VEVENT
BEGIN:VEVENT
DTSTART;TZID=Europe/Berlin:20250810T100000
DTEND;TZID=Europe/Berlin:20250810T110000
DTSTAMP:20260421T133106
CREATED:20250522T113208Z
LAST-MODIFIED:20250522T113208Z
UID:14626-1754820000-1754823600@alt.alt-pankow.de
SUMMARY:Gottesdienst
DESCRIPTION:8. Sonntag nach Trinitatis \nPastor i.R. Thies Gundlach\nOrgel: Rudite Livmane \n  \n 
URL:https://alt.alt-pankow.de/veranstaltung/gottesdienst-19/
LOCATION:Alte Pfarrkirche &#8222;Zu den vier Evangelisten&#8220;\, Breite StraÃŸe 37\, Berlin\, 13187\, Deutschland
CATEGORIES:Gottesdienste
END:VEVENT
BEGIN:VEVENT
DTSTART;TZID=Europe/Berlin:20250812T170000
DTEND;TZID=Europe/Berlin:20250812T183000
DTSTAMP:20260421T133106
CREATED:20250110T142621Z
LAST-MODIFIED:20250610T103128Z
UID:13824-1755018000-1755023400@alt.alt-pankow.de
SUMMARY:TrauercafÃ©
DESCRIPTION:des Ambulanten Caritas-Hospizes \nBonhoeffer-Saal in der Alten Pfarrkirche Pankow\, Breite StraÃŸe 37\nAnmeldung erbeten unter Tel. 030-666340360
URL:https://alt.alt-pankow.de/veranstaltung/trauercafe-24/
LOCATION:Alte Pfarrkirche Â· Bonhoeffer-Saal\, Breite StraÃŸe 37\, Berlin\, 13187\, Deutschland
CATEGORIES:Beratung,GesprÃ¤che
END:VEVENT
BEGIN:VEVENT
DTSTART;TZID=Europe/Berlin:20250812T200000
DTEND;TZID=Europe/Berlin:20250812T200000
DTSTAMP:20260421T133106
CREATED:20250805T095233Z
LAST-MODIFIED:20250805T095233Z
UID:14861-1755028800-1755028800@alt.alt-pankow.de
SUMMARY:Komplet - Das Gebet zur Nacht
DESCRIPTION:â€¦ in der Tradition christlicher KlÃ¶ster. Zur Ruhe kommen &#8211; Psalmen singen &#8211; um Frieden beten.
URL:https://alt.alt-pankow.de/veranstaltung/komplet-das-gebet-zur-nacht-2/
LOCATION:Alte Pfarrkirche &#8222;Zu den vier Evangelisten&#8220;\, Breite StraÃŸe 37\, Berlin\, 13187\, Deutschland
CATEGORIES:Andacht
END:VEVENT
BEGIN:VEVENT
DTSTART;TZID=Europe/Berlin:20250817T100000
DTEND;TZID=Europe/Berlin:20250817T110000
DTSTAMP:20260421T133106
CREATED:20250522T113242Z
LAST-MODIFIED:20250522T113242Z
UID:14627-1755424800-1755428400@alt.alt-pankow.de
SUMMARY:Gottesdienst
DESCRIPTION:9. Sonntag nach Trinitatis \nPfarrer Michael Hufen\nOrgel: Matthias Wilke \n  \n 
URL:https://alt.alt-pankow.de/veranstaltung/gottesdienst-20/
LOCATION:Alte Pfarrkirche &#8222;Zu den vier Evangelisten&#8220;\, Breite StraÃŸe 37\, Berlin\, 13187\, Deutschland
CATEGORIES:Gottesdienste
END:VEVENT
BEGIN:VEVENT
DTSTART;TZID=Europe/Berlin:20250819T200000
DTEND;TZID=Europe/Berlin:20250819T200000
DTSTAMP:20260421T133106
CREATED:20250805T095243Z
LAST-MODIFIED:20250805T095243Z
UID:14862-1755633600-1755633600@alt.alt-pankow.de
SUMMARY:Komplet - Das Gebet zur Nacht
DESCRIPTION:â€¦ in der Tradition christlicher KlÃ¶ster. Zur Ruhe kommen &#8211; Psalmen singen &#8211; um Frieden beten.
URL:https://alt.alt-pankow.de/veranstaltung/komplet-das-gebet-zur-nacht-3/
LOCATION:Alte Pfarrkirche &#8222;Zu den vier Evangelisten&#8220;\, Breite StraÃŸe 37\, Berlin\, 13187\, Deutschland
CATEGORIES:Andacht
END:VEVENT
BEGIN:VEVENT
DTSTART;TZID=Europe/Berlin:20250820T110000
DTEND;TZID=Europe/Berlin:20250820T130000
DTSTAMP:20260421T133106
CREATED:20250110T144519Z
LAST-MODIFIED:20250110T144519Z
UID:13872-1755687600-1755694800@alt.alt-pankow.de
SUMMARY:SeniorenfrÃ¼hstÃ¼ck
DESCRIPTION:Wir bitten um Anmeldung bei Regina Burger\,\nTel. 030-485 6709.
URL:https://alt.alt-pankow.de/veranstaltung/seniorenfruehstueck-27/
LOCATION:Alte Pfarrkirche Â· Bonhoeffer-Saal\, Breite StraÃŸe 37\, Berlin\, 13187\, Deutschland
CATEGORIES:Gemeindekreise,GesprÃ¤che
END:VEVENT
BEGIN:VEVENT
DTSTART;TZID=Europe/Berlin:20250820T193000
DTEND;TZID=Europe/Berlin:20250820T210000
DTSTAMP:20260421T133106
CREATED:20250110T144950Z
LAST-MODIFIED:20250110T145009Z
UID:13892-1755718200-1755723600@alt.alt-pankow.de
SUMMARY:Tanz und Besinnung
DESCRIPTION:Kontakt: Sandra Pawlig Tel. 015906739626
URL:https://alt.alt-pankow.de/veranstaltung/tanz-und-besinnung-58/
LOCATION:Ev. Gemeindehaus Alt-Pankow Â· Gemeindesaal\, Breite StraÃŸe 38\, Berlin\, 13187\, Deutschland
CATEGORIES:Gemeindekreise,Meditation
END:VEVENT
BEGIN:VEVENT
DTSTART;TZID=Europe/Berlin:20250824T100000
DTEND;TZID=Europe/Berlin:20250824T110000
DTSTAMP:20260421T133106
CREATED:20250522T113329Z
LAST-MODIFIED:20250522T113329Z
UID:14628-1756029600-1756033200@alt.alt-pankow.de
SUMMARY:Gottesdienst
DESCRIPTION:10. Sonntag nach Trinitatis \nPfarrer Michael Hufen\nOrgel: Matthias Wilke \n  \n 
URL:https://alt.alt-pankow.de/veranstaltung/gottesdienst-21/
LOCATION:Alte Pfarrkirche &#8222;Zu den vier Evangelisten&#8220;\, Breite StraÃŸe 37\, Berlin\, 13187\, Deutschland
CATEGORIES:Gottesdienste
END:VEVENT
BEGIN:VEVENT
DTSTART;TZID=Europe/Berlin:20250825T180000
DTEND;TZID=Europe/Berlin:20250825T183000
DTSTAMP:20260421T133106
CREATED:20250825T145703Z
LAST-MODIFIED:20250825T145703Z
UID:14939-1756144800-1756146600@alt.alt-pankow.de
SUMMARY:Friedensgebet
DESCRIPTION:
URL:https://alt.alt-pankow.de/veranstaltung/friedensgebet/
LOCATION:Alte Pfarrkirche &#8222;Zu den vier Evangelisten&#8220;\, Breite StraÃŸe 37\, Berlin\, 13187\, Deutschland
CATEGORIES:Andacht,Gottesdienste
END:VEVENT
BEGIN:VEVENT
DTSTART;TZID=Europe/Berlin:20250826T200000
DTEND;TZID=Europe/Berlin:20250826T200000
DTSTAMP:20260421T133106
CREATED:20250805T095253Z
LAST-MODIFIED:20250805T095253Z
UID:14863-1756238400-1756238400@alt.alt-pankow.de
SUMMARY:Komplet - Das Gebet zur Nacht
DESCRIPTION:â€¦ in der Tradition christlicher KlÃ¶ster. Zur Ruhe kommen &#8211; Psalmen singen &#8211; um Frieden beten.
URL:https://alt.alt-pankow.de/veranstaltung/komplet-das-gebet-zur-nacht-4/
LOCATION:Alte Pfarrkirche &#8222;Zu den vier Evangelisten&#8220;\, Breite StraÃŸe 37\, Berlin\, 13187\, Deutschland
CATEGORIES:Andacht
END:VEVENT
BEGIN:VEVENT
DTSTART;TZID=Europe/Berlin:20250829T120000
DTEND;TZID=Europe/Berlin:20250829T123000
DTSTAMP:20260421T133106
CREATED:20250825T150213Z
LAST-MODIFIED:20250825T150213Z
UID:14964-1756468800-1756470600@alt.alt-pankow.de
SUMMARY:Friedensgebet mit Orgelandacht
DESCRIPTION:
URL:https://alt.alt-pankow.de/veranstaltung/friedensgebet-mit-orgelandacht/
LOCATION:Alte Pfarrkirche &#8222;Zu den vier Evangelisten&#8220;\, Breite StraÃŸe 37\, Berlin\, 13187\, Deutschland
CATEGORIES:Andacht
END:VEVENT
BEGIN:VEVENT
DTSTART;TZID=Europe/Berlin:20250831T100000
DTEND;TZID=Europe/Berlin:20250831T110000
DTSTAMP:20260421T133106
CREATED:20250522T113424Z
LAST-MODIFIED:20250522T113424Z
UID:14635-1756634400-1756638000@alt.alt-pankow.de
SUMMARY:Gottesdienst
DESCRIPTION:11. Sonntag nach Trinitatis \nPfarrer Michael Hufen\nOrgel: Rudite Livmane \n  \n 
URL:https://alt.alt-pankow.de/veranstaltung/gottesdienst-22/
LOCATION:Alte Pfarrkirche &#8222;Zu den vier Evangelisten&#8220;\, Breite StraÃŸe 37\, Berlin\, 13187\, Deutschland
CATEGORIES:Gottesdienste
END:VEVENT
END:VCALENDAR