BEGIN:VCALENDAR
VERSION:2.0
PRODID:-//Ev. Kirchengemeinde Alt-Pankow - ECPv6.15.15//NONSGML v1.0//EN
CALSCALE:GREGORIAN
METHOD:PUBLISH
X-ORIGINAL-URL:https://alt.alt-pankow.de
X-WR-CALDESC:Veranstaltungen fÃ¼r Ev. Kirchengemeinde Alt-Pankow
REFRESH-INTERVAL;VALUE=DURATION:PT1H
X-Robots-Tag:noindex
X-PUBLISHED-TTL:PT1H
BEGIN:VTIMEZONE
TZID:Europe/Berlin
BEGIN:DAYLIGHT
TZOFFSETFROM:+0100
TZOFFSETTO:+0200
TZNAME:CEST
DTSTART:20240331T010000
END:DAYLIGHT
BEGIN:STANDARD
TZOFFSETFROM:+0200
TZOFFSETTO:+0100
TZNAME:CET
DTSTART:20241027T010000
END:STANDARD
BEGIN:DAYLIGHT
TZOFFSETFROM:+0100
TZOFFSETTO:+0200
TZNAME:CEST
DTSTART:20250330T010000
END:DAYLIGHT
BEGIN:STANDARD
TZOFFSETFROM:+0200
TZOFFSETTO:+0100
TZNAME:CET
DTSTART:20251026T010000
END:STANDARD
BEGIN:DAYLIGHT
TZOFFSETFROM:+0100
TZOFFSETTO:+0200
TZNAME:CEST
DTSTART:20260329T010000
END:DAYLIGHT
BEGIN:STANDARD
TZOFFSETFROM:+0200
TZOFFSETTO:+0100
TZNAME:CET
DTSTART:20261025T010000
END:STANDARD
END:VTIMEZONE
BEGIN:VEVENT
DTSTART;TZID=Europe/Berlin:20250502T193000
DTEND;TZID=Europe/Berlin:20250502T210000
DTSTAMP:20260421T181533
CREATED:20250127T133427Z
LAST-MODIFIED:20250414T134303Z
UID:14252-1746214200-1746219600@alt.alt-pankow.de
SUMMARY:Eine Stimme aus dem Jahr 1945. Das Tagebuch des Panzersoldaten Iwan Panarin
DESCRIPTION:Lesung und GesprÃ¤ch mit Dr. Natalja Jeske\, Rostock\nModeration: Renate Wegener \n&#8222;Panarins Tagebuch lag bis 1996 unberÃ¼hrt in einem Koffer seiner Familie. In Russland bleibt die VerÃ¶ffentlichung 1999 fast unbemerkt. &#8230; Bisherige Kriegsschilderungen aus Sicht von Sowjetsoldaten waren oft verklÃ¤rt oder zensiert. Panarins Tagebuch scheint dagegen frei von Ideologie\, es beschreibt den Kriegsalltag â€“ schonungslos.â€œ\, schreibt DIE ZEIT im Mai 2015. Die Historikerin Dr. Natalja Jeske hat zur geschilderten Kriegssituation bei der Einnahme von Rostock recherchiert\, Kontakt zur Familie Panarin aufgenommen\, das Tagebuch von Iwan Panarin Ã¼bersetzt und kommentiert. \nSeit der Rede von Richard von WeiszÃ¤cker am 8. Mai 1985 wurde in beiden Teilen Deutschlands vom â€žTag der Befreiungâ€œ gesprochen. Am 8. Mai 2025 wird es den Menschen aus den postsowjetischen Gesellschaften nicht mÃ¶glich sein\, den Tag gemeinsam zu erinnern. Wie werden wir dem Gedenken im Spannungsfeld zwischen unseren persÃ¶nlichen\, familiÃ¤ren ErzÃ¤hlungen und dem kollektiven\, ritualisierten Erinnern gerecht? 80 Jahre nach Kriegsende wollen wir ins GesprÃ¤ch und in den Austausch kommen. \n\nIn Zusammenarbeit mit der Komission fÃ¼r BÃ¼rgerarbeit Pankow / VVN-BdA Berlin-Pankow e.V.
URL:https://alt.alt-pankow.de/veranstaltung/eine-stimme-aus-dem-jahr-1945-das-tagebuch-des-panzersoldaten-iwan-panarin/
LOCATION:Ev. Gemeindehaus Alt-Pankow Â· Gemeindesaal\, Breite StraÃŸe 38\, Berlin\, 13187\, Deutschland
CATEGORIES:GesprÃ¤che,im Kiez
ATTACH;FMTTYPE=image/jpeg:https://alt.alt-pankow.de/wp-content/uploads/2025/01/Foto-2_panarin.jpg
END:VEVENT
BEGIN:VEVENT
DTSTART;TZID=Europe/Berlin:20250504T100000
DTEND;TZID=Europe/Berlin:20250504T110000
DTSTAMP:20260421T181533
CREATED:20250127T131409Z
LAST-MODIFIED:20250127T131409Z
UID:14233-1746352800-1746356400@alt.alt-pankow.de
SUMMARY:Gottesdienst
DESCRIPTION:Misericordias domini \nPfarrer Michael Hufen\nOrgel: N.N. \nmit Abendmahl\nmit KirchencafÃ©
URL:https://alt.alt-pankow.de/veranstaltung/gottesdienst-6/
LOCATION:Alte Pfarrkirche &#8222;Zu den vier Evangelisten&#8220;\, Breite StraÃŸe 37\, Berlin\, 13187\, Deutschland
CATEGORIES:Gottesdienste
END:VEVENT
BEGIN:VEVENT
DTSTART;TZID=Europe/Berlin:20250505T160000
DTEND;TZID=Europe/Berlin:20250505T163000
DTSTAMP:20260421T181533
CREATED:20250110T140250Z
LAST-MODIFIED:20250110T140250Z
UID:13696-1746460800-1746462600@alt.alt-pankow.de
SUMMARY:Kinderchor Â· 4-6 Jahre
DESCRIPTION:Kontakt\nKirchenmusikerin Rudite Livmane\nT 0157- 387 80 926\nkirchenmusik@alt-pankow.de
URL:https://alt.alt-pankow.de/veranstaltung/kinderchor-%c2%b7-4-6-jahre-65/
LOCATION:Ev. Gemeindehaus Alt-Pankow Â· Gemeindesaal\, Breite StraÃŸe 38\, Berlin\, 13187\, Deutschland
CATEGORIES:fÃ¼r Kinder,Kirchenmusik,Proben
END:VEVENT
BEGIN:VEVENT
DTSTART;TZID=Europe/Berlin:20250505T180000
DTEND;TZID=Europe/Berlin:20250505T183000
DTSTAMP:20260421T181533
CREATED:20250110T153600Z
LAST-MODIFIED:20250110T153616Z
UID:14036-1746468000-1746469800@alt.alt-pankow.de
SUMMARY:Friedensgebet
DESCRIPTION:
URL:https://alt.alt-pankow.de/veranstaltung/friedensgebet-81/
LOCATION:Alte Pfarrkirche &#8222;Zu den vier Evangelisten&#8220;\, Breite StraÃŸe 37\, Berlin\, 13187\, Deutschland
CATEGORIES:Andacht,Gottesdienste
END:VEVENT
BEGIN:VEVENT
DTSTART;TZID=Europe/Berlin:20250505T193000
DTEND;TZID=Europe/Berlin:20250505T213000
DTSTAMP:20260421T181533
CREATED:20250110T104217Z
LAST-MODIFIED:20250110T104217Z
UID:13596-1746473400-1746480600@alt.alt-pankow.de
SUMMARY:Kirchenchor
DESCRIPTION:
URL:https://alt.alt-pankow.de/veranstaltung/kirchenchor-86/
LOCATION:Alte Pfarrkirche &#8222;Zu den vier Evangelisten&#8220;\, Breite StraÃŸe 37\, Berlin\, 13187\, Deutschland
CATEGORIES:Kirchenmusik,Proben
END:VEVENT
BEGIN:VEVENT
DTSTART;TZID=Europe/Berlin:20250506T160000
DTEND;TZID=Europe/Berlin:20250506T170000
DTSTAMP:20260421T181533
CREATED:20250110T103157Z
LAST-MODIFIED:20250110T103205Z
UID:13550-1746547200-1746550800@alt.alt-pankow.de
SUMMARY:Christenlehre 1.-3. Klasse
DESCRIPTION:mit Renate Wagner-Schill \n\nEinmal pro Woche treffen sich Kinder unserer Gemeinde bzw. aus dem Pankower Kiez zur Christenlehre. Wir hÃ¶ren Geschichten\, meist aus der Bibel\, singen\, beten\, tanzen\, spielen und basteln\, essen und feiern gemeinsam\, bereiten Feste vor\, gestalten die Kinderecke unserer Kirche und Familiengottesdienste &#8211; herzlich willkommen!
URL:https://alt.alt-pankow.de/veranstaltung/christenlehre-1-3-klasse-32/
LOCATION:Ev. Gemeindehaus Alt-Pankow Â· Keller\, Breite StraÃŸe 38\, Berlin\, 13187\, Deutschland
CATEGORIES:fÃ¼r Kinder,Proben
END:VEVENT
BEGIN:VEVENT
DTSTART;TZID=Europe/Berlin:20250506T170000
DTEND;TZID=Europe/Berlin:20250506T180000
DTSTAMP:20260421T181533
CREATED:20250110T105332Z
LAST-MODIFIED:20250110T105332Z
UID:13639-1746550800-1746554400@alt.alt-pankow.de
SUMMARY:Christenlehre 4.-6. Klasse
DESCRIPTION:mit Renate Wagner-Schill \n\nEinmal pro Woche treffen sich Kinder unserer Gemeinde bzw. aus dem Pankower Kiez zur Christenlehre. Wir hÃ¶ren Geschichten\, meist aus der Bibel\, singen\, beten\, tanzen\, spielen und basteln\, essen und feiern gemeinsam\, bereiten Feste vor\, gestalten die Kinderecke unserer Kirche und Familiengottesdienste &#8211; herzlich willkommen!
URL:https://alt.alt-pankow.de/veranstaltung/christenlehre-4-6-klasse-30/
LOCATION:Ev. Gemeindehaus Alt-Pankow Â· Keller\, Breite StraÃŸe 38\, Berlin\, 13187\, Deutschland
CATEGORIES:fÃ¼r Kinder,Proben
END:VEVENT
BEGIN:VEVENT
DTSTART;TZID=Europe/Berlin:20250506T180000
DTEND;TZID=Europe/Berlin:20250506T220000
DTSTAMP:20260421T181533
CREATED:20250110T141952Z
LAST-MODIFIED:20250110T141952Z
UID:13786-1746554400-1746568800@alt.alt-pankow.de
SUMMARY:Junge Gemeinde
DESCRIPTION:
URL:https://alt.alt-pankow.de/veranstaltung/junge-gemeinde-81/
LOCATION:Ev. Gemeindehaus Alt-Pankow Â· Garten\, Breite StraÃŸe 38\, Berlin\, 13187\, Deutschland
CATEGORIES:Gemeindekreise,GesprÃ¤che,Jugendliche
END:VEVENT
BEGIN:VEVENT
DTSTART;TZID=Europe/Berlin:20250506T200000
DTEND;TZID=Europe/Berlin:20250506T200000
DTSTAMP:20260421T181533
CREATED:20250110T101825Z
LAST-MODIFIED:20250110T101825Z
UID:13505-1746561600-1746561600@alt.alt-pankow.de
SUMMARY:Komplet - Das Gebet zur Nacht
DESCRIPTION:â€¦ in der Tradition christlicher KlÃ¶ster. Zur Ruhe kommen &#8211; Psalmen singen &#8211; um Frieden beten.
URL:https://alt.alt-pankow.de/veranstaltung/komplet-das-gebet-zur-nacht-93/
LOCATION:Alte Pfarrkirche &#8222;Zu den vier Evangelisten&#8220;\, Breite StraÃŸe 37\, Berlin\, 13187\, Deutschland
CATEGORIES:Andacht
END:VEVENT
BEGIN:VEVENT
DTSTART;TZID=Europe/Berlin:20250507T183000
DTEND;TZID=Europe/Berlin:20250507T200000
DTSTAMP:20260421T181533
CREATED:20250411T083829Z
LAST-MODIFIED:20250506T154654Z
UID:14489-1746642600-1746648000@alt.alt-pankow.de
SUMMARY:80 Jahre Frieden in Deutschland Â· Gedenkkonzert
DESCRIPTION:Veranstaltung des Deutsch-Russischen Forums \nDas Hikari Quartett sowie die Solisten Irina Papenbrock (Sopran)\, Mario Ottone (Bariton) und Vladimir Magalashvili (Orgel) spielen unter anderem Werke von Dmitri Schostakowitsch\, Felix Mendelssohn Bartholdy\, Johann Sebastian Bach und Sergej Rachmaninow. \nAnsprache: Pfarrerin i.R. Ruth Misselwitz \n 
URL:https://alt.alt-pankow.de/veranstaltung/80-jahre-frieden-in-deutschland/
LOCATION:Alte Pfarrkirche &#8222;Zu den vier Evangelisten&#8220;\, Breite StraÃŸe 37\, Berlin\, 13187\, Deutschland
CATEGORIES:Konzerte
END:VEVENT
BEGIN:VEVENT
DTSTART;TZID=Europe/Berlin:20250507T193000
DTEND;TZID=Europe/Berlin:20250507T210000
DTSTAMP:20260421T181533
CREATED:20250117T135807Z
LAST-MODIFIED:20250117T135807Z
UID:14145-1746646200-1746651600@alt.alt-pankow.de
SUMMARY:Tanz und Besinnung
DESCRIPTION:Kontakt: Sandra Pawlig Tel. 015906739626
URL:https://alt.alt-pankow.de/veranstaltung/tanz-und-besinnung/
LOCATION:Ev. Gemeindehaus Alt-Pankow Â· Gemeindesaal\, Breite StraÃŸe 38\, Berlin\, 13187\, Deutschland
CATEGORIES:Gemeindekreise,Meditation
END:VEVENT
BEGIN:VEVENT
DTSTART;TZID=Europe/Berlin:20250508T180000
DTEND;TZID=Europe/Berlin:20250508T200000
DTSTAMP:20260421T181533
CREATED:20250110T154748Z
LAST-MODIFIED:20250117T135413Z
UID:14068-1746727200-1746734400@alt.alt-pankow.de
SUMMARY:GesprÃ¤chskreis
DESCRIPTION:Kontakt: Donata Kleber\, Tel. 030-9122323 \n 
URL:https://alt.alt-pankow.de/veranstaltung/gespraechskreis-19/
LOCATION:Ev. Gemeindehaus Alt-Pankow Â· Gemeindesaal\, Breite StraÃŸe 38\, Berlin\, 13187\, Deutschland
CATEGORIES:Gemeindekreise,GesprÃ¤che
END:VEVENT
BEGIN:VEVENT
DTSTART;TZID=Europe/Berlin:20250509T120000
DTEND;TZID=Europe/Berlin:20250509T123000
DTSTAMP:20260421T181533
CREATED:20250110T152414Z
LAST-MODIFIED:20250110T152414Z
UID:13988-1746792000-1746793800@alt.alt-pankow.de
SUMMARY:Friedensgebet mit Orgelandacht
DESCRIPTION:
URL:https://alt.alt-pankow.de/veranstaltung/friedensgebet-mit-orgelandacht-89/
LOCATION:Alte Pfarrkirche &#8222;Zu den vier Evangelisten&#8220;\, Breite StraÃŸe 37\, Berlin\, 13187\, Deutschland
CATEGORIES:Andacht
END:VEVENT
BEGIN:VEVENT
DTSTART;TZID=Europe/Berlin:20250509T193000
DTEND;TZID=Europe/Berlin:20250509T210000
DTSTAMP:20260421T181533
CREATED:20250127T112422Z
LAST-MODIFIED:20250401T082356Z
UID:14193-1746819000-1746824400@alt.alt-pankow.de
SUMMARY:Sonderkonzert anlÃ¤sslich des 80. Jahrestags der Befreiung vom Nationalsozialismus und des Endes des Zweiten Weltkriegs
DESCRIPTION:FriedensklÃ¤nge der Romantik\nOrgelkonzert mit Matthias GrÃ¼nert\, Organist und Kantor der Frauenkirche in Dresden. Werke von Ernst Friedrich Richter\, F. Mendelssohn-Bartholdy\, J. G. Rheinberger u. a. \nMatthias GrÃ¼nert wurde 1973 in NÃ¼rnberg geboren. Erste prÃ¤gende musikalische EindrÃ¼cke empfing er im Windsbacher Knabenchor\, nach dem Abitur studierte er Kirchenmusik A\, Gesang und Orgel an der Hochschule fÃ¼r Kirchenmusik in Bayreuth und an der Hochschule fÃ¼r Musik in LÃ¼beck. 2004 wurde er als erster Kantor der Dresdner Frauenkirche berufen und ist seither kÃ¼nstlerisch verantwortlich fÃ¼r die Kirchenmusik im wiedererbauten Barockbau. Er grÃ¼ndete den Chor der Frauenkirche und den Kammerchor der Frauenkirche\, die er beide zu einer festen GrÃ¶ÃŸe in der Kulturlandschaft Mitteldeutschlands etablieren konnte. \n\nEintritt frei. Kollekte am Ausgang \n\nFoto: Susann Hehnen
URL:https://alt.alt-pankow.de/veranstaltung/sonderkonzert-anlaesslich-des-80-jahrestags-der-befreiung-vom-nationalsozialismus-und-des-endes-des-zweiten-weltkriegs/
LOCATION:Alte Pfarrkirche &#8222;Zu den vier Evangelisten&#8220;\, Breite StraÃŸe 37\, Berlin\, 13187\, Deutschland
CATEGORIES:Kirchenmusik,Konzerte
ATTACH;FMTTYPE=image/jpeg:https://alt.alt-pankow.de/wp-content/uploads/2025/01/Matthias_Gruenert.jpg
END:VEVENT
BEGIN:VEVENT
DTSTART;TZID=Europe/Berlin:20250511T100000
DTEND;TZID=Europe/Berlin:20250511T110000
DTSTAMP:20260421T181533
CREATED:20250127T131528Z
LAST-MODIFIED:20250127T131528Z
UID:14235-1746957600-1746961200@alt.alt-pankow.de
SUMMARY:Gottesdienst
DESCRIPTION:Jubilate \nPastor i.R. Thies Gundlach\nOrgel: N.N. \n 
URL:https://alt.alt-pankow.de/veranstaltung/gottesdienst-7/
LOCATION:Alte Pfarrkirche &#8222;Zu den vier Evangelisten&#8220;\, Breite StraÃŸe 37\, Berlin\, 13187\, Deutschland
CATEGORIES:Gottesdienste
END:VEVENT
BEGIN:VEVENT
DTSTART;TZID=Europe/Berlin:20250512T160000
DTEND;TZID=Europe/Berlin:20250512T163000
DTSTAMP:20260421T181533
CREATED:20250110T140259Z
LAST-MODIFIED:20250110T140259Z
UID:13697-1747065600-1747067400@alt.alt-pankow.de
SUMMARY:Kinderchor Â· 4-6 Jahre
DESCRIPTION:Kontakt\nKirchenmusikerin Rudite Livmane\nT 0157- 387 80 926\nkirchenmusik@alt-pankow.de
URL:https://alt.alt-pankow.de/veranstaltung/kinderchor-%c2%b7-4-6-jahre-66/
LOCATION:Ev. Gemeindehaus Alt-Pankow Â· Gemeindesaal\, Breite StraÃŸe 38\, Berlin\, 13187\, Deutschland
CATEGORIES:fÃ¼r Kinder,Kirchenmusik,Proben
END:VEVENT
BEGIN:VEVENT
DTSTART;TZID=Europe/Berlin:20250512T180000
DTEND;TZID=Europe/Berlin:20250512T183000
DTSTAMP:20260421T181533
CREATED:20250110T153641Z
LAST-MODIFIED:20250110T153641Z
UID:14037-1747072800-1747074600@alt.alt-pankow.de
SUMMARY:Friedensgebet
DESCRIPTION:
URL:https://alt.alt-pankow.de/veranstaltung/friedensgebet-82/
LOCATION:Alte Pfarrkirche &#8222;Zu den vier Evangelisten&#8220;\, Breite StraÃŸe 37\, Berlin\, 13187\, Deutschland
CATEGORIES:Andacht,Gottesdienste
END:VEVENT
BEGIN:VEVENT
DTSTART;TZID=Europe/Berlin:20250512T193000
DTEND;TZID=Europe/Berlin:20250512T213000
DTSTAMP:20260421T181533
CREATED:20250110T104013Z
LAST-MODIFIED:20250110T104013Z
UID:13579-1747078200-1747085400@alt.alt-pankow.de
SUMMARY:Kirchenchor
DESCRIPTION:
URL:https://alt.alt-pankow.de/veranstaltung/kirchenchor-81/
LOCATION:Alte Pfarrkirche &#8222;Zu den vier Evangelisten&#8220;\, Breite StraÃŸe 37\, Berlin\, 13187\, Deutschland
CATEGORIES:Kirchenmusik,Proben
END:VEVENT
BEGIN:VEVENT
DTSTART;TZID=Europe/Berlin:20250513T160000
DTEND;TZID=Europe/Berlin:20250513T170000
DTSTAMP:20260421T181533
CREATED:20250110T103112Z
LAST-MODIFIED:20250110T103218Z
UID:13548-1747152000-1747155600@alt.alt-pankow.de
SUMMARY:Christenlehre 1.-3. Klasse
DESCRIPTION:mit Renate Wagner-Schill \n\nEinmal pro Woche treffen sich Kinder unserer Gemeinde bzw. aus dem Pankower Kiez zur Christenlehre. Wir hÃ¶ren Geschichten\, meist aus der Bibel\, singen\, beten\, tanzen\, spielen und basteln\, essen und feiern gemeinsam\, bereiten Feste vor\, gestalten die Kinderecke unserer Kirche und Familiengottesdienste &#8211; herzlich willkommen!
URL:https://alt.alt-pankow.de/veranstaltung/christenlehre-1-3-klasse-31/
LOCATION:Ev. Gemeindehaus Alt-Pankow Â· Keller\, Breite StraÃŸe 38\, Berlin\, 13187\, Deutschland
CATEGORIES:fÃ¼r Kinder,Proben
END:VEVENT
BEGIN:VEVENT
DTSTART;TZID=Europe/Berlin:20250513T170000
DTEND;TZID=Europe/Berlin:20250513T180000
DTSTAMP:20260421T181533
CREATED:20250110T105340Z
LAST-MODIFIED:20250110T105340Z
UID:13640-1747155600-1747159200@alt.alt-pankow.de
SUMMARY:Christenlehre 4.-6. Klasse
DESCRIPTION:mit Renate Wagner-Schill \n\nEinmal pro Woche treffen sich Kinder unserer Gemeinde bzw. aus dem Pankower Kiez zur Christenlehre. Wir hÃ¶ren Geschichten\, meist aus der Bibel\, singen\, beten\, tanzen\, spielen und basteln\, essen und feiern gemeinsam\, bereiten Feste vor\, gestalten die Kinderecke unserer Kirche und Familiengottesdienste &#8211; herzlich willkommen!
URL:https://alt.alt-pankow.de/veranstaltung/christenlehre-4-6-klasse-31/
LOCATION:Ev. Gemeindehaus Alt-Pankow Â· Keller\, Breite StraÃŸe 38\, Berlin\, 13187\, Deutschland
CATEGORIES:fÃ¼r Kinder,Proben
END:VEVENT
BEGIN:VEVENT
DTSTART;TZID=Europe/Berlin:20250513T170000
DTEND;TZID=Europe/Berlin:20250513T183000
DTSTAMP:20260421T181533
CREATED:20250110T142510Z
LAST-MODIFIED:20250110T142510Z
UID:13815-1747155600-1747161000@alt.alt-pankow.de
SUMMARY:TrauercafÃ©
DESCRIPTION:des Ambulanten Caritas-Hospizes \nBonhoeffer-Saal in der Alten Pfarrkirche Pankow\, Breite StraÃŸe 37\nAnmeldung erbeten unter Tel. 030-666340360
URL:https://alt.alt-pankow.de/veranstaltung/trauercafe-21/
LOCATION:Alte Pfarrkirche Â· Bonhoeffer-Saal\, Breite StraÃŸe 37\, Berlin\, 13187\, Deutschland
CATEGORIES:GesprÃ¤che
END:VEVENT
BEGIN:VEVENT
DTSTART;TZID=Europe/Berlin:20250513T180000
DTEND;TZID=Europe/Berlin:20250513T220000
DTSTAMP:20260421T181533
CREATED:20250110T142000Z
LAST-MODIFIED:20250110T142000Z
UID:13787-1747159200-1747173600@alt.alt-pankow.de
SUMMARY:Junge Gemeinde
DESCRIPTION:
URL:https://alt.alt-pankow.de/veranstaltung/junge-gemeinde-82/
LOCATION:Ev. Gemeindehaus Alt-Pankow Â· Garten\, Breite StraÃŸe 38\, Berlin\, 13187\, Deutschland
CATEGORIES:Gemeindekreise,GesprÃ¤che,Jugendliche
END:VEVENT
BEGIN:VEVENT
DTSTART;TZID=Europe/Berlin:20250513T200000
DTEND;TZID=Europe/Berlin:20250513T200000
DTSTAMP:20260421T181533
CREATED:20250110T101834Z
LAST-MODIFIED:20250110T101834Z
UID:13506-1747166400-1747166400@alt.alt-pankow.de
SUMMARY:Komplet - Das Gebet zur Nacht
DESCRIPTION:â€¦ in der Tradition christlicher KlÃ¶ster. Zur Ruhe kommen &#8211; Psalmen singen &#8211; um Frieden beten.
URL:https://alt.alt-pankow.de/veranstaltung/komplet-das-gebet-zur-nacht-94/
LOCATION:Alte Pfarrkirche &#8222;Zu den vier Evangelisten&#8220;\, Breite StraÃŸe 37\, Berlin\, 13187\, Deutschland
CATEGORIES:Andacht
END:VEVENT
BEGIN:VEVENT
DTSTART;TZID=Europe/Berlin:20250514T193000
DTEND;TZID=Europe/Berlin:20250514T210000
DTSTAMP:20260421T181533
CREATED:20250206T184109Z
LAST-MODIFIED:20250228T071745Z
UID:14299-1747251000-1747256400@alt.alt-pankow.de
SUMMARY:Ã–kumenisches BibelgesprÃ¤ch
DESCRIPTION:â€žUnterscheidung der Geisterâ€œ \nLeitung: Br. Johannes KÃ¼pper ofm\, Franziskanerkloster Berlin-Pankow \n 
URL:https://alt.alt-pankow.de/veranstaltung/oekumenisches-bibelgespraech-2/
LOCATION:Ev. Gemeindehaus Alt-Pankow Â· Gemeindesaal\, Breite StraÃŸe 38\, Berlin\, 13187\, Deutschland
CATEGORIES:GesprÃ¤che,Ã–kumene InterreligiÃ¶s
END:VEVENT
BEGIN:VEVENT
DTSTART;TZID=Europe/Berlin:20250515T160000
DTEND;TZID=Europe/Berlin:20250515T164500
DTSTAMP:20260421T181533
CREATED:20250110T141126Z
LAST-MODIFIED:20250110T141126Z
UID:13740-1747324800-1747327500@alt.alt-pankow.de
SUMMARY:Kinderchor Â· Kinder ab 2. Klasse
DESCRIPTION:Kontakt\nKirchenmusikerin Rudite Livmane\nT 0157- 387 80 926\nkirchenmusik@alt-pankow.de
URL:https://alt.alt-pankow.de/veranstaltung/kinderchor-%c2%b7-kinder-ab-2-klasse-65/
LOCATION:Ev. Gemeindehaus Alt-Pankow Â· Gemeindesaal\, Breite StraÃŸe 38\, Berlin\, 13187\, Deutschland
CATEGORIES:fÃ¼r Kinder,Kirchenmusik,Proben
END:VEVENT
BEGIN:VEVENT
DTSTART;TZID=Europe/Berlin:20250516T120000
DTEND;TZID=Europe/Berlin:20250516T123000
DTSTAMP:20260421T181533
CREATED:20250110T152424Z
LAST-MODIFIED:20250110T152424Z
UID:13989-1747396800-1747398600@alt.alt-pankow.de
SUMMARY:Friedensgebet mit Orgelandacht
DESCRIPTION:
URL:https://alt.alt-pankow.de/veranstaltung/friedensgebet-mit-orgelandacht-90/
LOCATION:Alte Pfarrkirche &#8222;Zu den vier Evangelisten&#8220;\, Breite StraÃŸe 37\, Berlin\, 13187\, Deutschland
CATEGORIES:Andacht
END:VEVENT
BEGIN:VEVENT
DTSTART;TZID=Europe/Berlin:20250517T193000
DTEND;TZID=Europe/Berlin:20250517T210000
DTSTAMP:20260421T181533
CREATED:20250127T115616Z
LAST-MODIFIED:20250210T141807Z
UID:14196-1747510200-1747515600@alt.alt-pankow.de
SUMMARY:MoonBach Duo
DESCRIPTION:Azadeh Maghsoodi\, Violine Â· Andis Paegle\, E-Pianos\nDas Projekt Â»MoonBachÂ« verspricht eine fesselnde Fusion ausgewÃ¤hlter Kompositionen von Johann Sebastian Bach\, persischer Melodien undÂ  Dainas (lettische Volkslieder) als kulturelle Wurzeln der beiden Musiker. Die leidenschaftliche Violine erzÃ¤hlt bezaubernde Geschichten von der Magie der dunklen Nacht und der Helligkeit des Mondes. Ihre Begleitung durch Fender Rhodes und Hohner Clavinet D6\, die Tasteninstrumente der 70-er Jahre mit wahrem Kultstatus\, erinnert an den technologischen Fortschritt der Weltraumforschung und reprÃ¤sentiert die Faszination des Duos fÃ¼r die moderne Mondkunde. Eine durch nahtlose ÃœbergÃ¤nge zwischen den StÃ¼cken gekennzeichnete Konzertform lÃ¤dt den Zuschauer zu einer klangvollen Reise durch den musikalischen Weltraum ein. \nÂ»Azadeh hat wirklich eine fantastische Technik. Aber sie hat auch die Wahrhaftigkeit und SchÃ¶nheit des Tons\, die zeigt\, was wirklich in der Musik steckt. So etwas ist sehr selten; nicht nur fÃ¼r einen jungen Menschen\, sondern fÃ¼r jeden Musiker.Â« Nigel Kennedy \nAndis Paegle ist Organist\, Dirigent und Kirchenmusiker mit einer besonderen Leidenschaft fÃ¼r analoge Keyboards und Vintage-Synthesizer. Sein Fachwissen umfasst eine breite Palette von Tasteninstrumenten\, darunter Orgel\, Clavichord und Cembalo sowie das kultige Fender Rhodes\, Hohner Clavinet D6 und Yamaha CP70. \nFoto: Merlijn Doomernik \n\nEintritt frei. Kollekte am Ausgang. \n\n 
URL:https://alt.alt-pankow.de/veranstaltung/moonbach-duo/
LOCATION:Alte Pfarrkirche &#8222;Zu den vier Evangelisten&#8220;\, Breite StraÃŸe 37\, Berlin\, 13187\, Deutschland
CATEGORIES:Kirchenmusik,Konzerte
ATTACH;FMTTYPE=image/jpeg:https://alt.alt-pankow.de/wp-content/uploads/2025/01/archimage00003_MoonBach_l.jpg
END:VEVENT
BEGIN:VEVENT
DTSTART;TZID=Europe/Berlin:20250518T100000
DTEND;TZID=Europe/Berlin:20250518T110000
DTSTAMP:20260421T181533
CREATED:20250127T131631Z
LAST-MODIFIED:20250428T085716Z
UID:14237-1747562400-1747566000@alt.alt-pankow.de
SUMMARY:Gottesdienst
DESCRIPTION:Kantate \nÂ»Komm\, Heiliger GeistÂ« von Michael PrÃ¤torius\nÂ»Cantate dominoÂ« von Giovanni Gabrieli \nPfarrerin i.R. Ruth Misselwitz \nMusik:\nKirchenchor Alt-Pankow\nBlockflÃ¶ten\, Leitung: Henriette JÃ¼ttner\nBlechblÃ¤ser Quartett\nStreichquartett \n\nmit KirchencafÃ© \n 
URL:https://alt.alt-pankow.de/veranstaltung/gottesdienst-8/
LOCATION:Alte Pfarrkirche &#8222;Zu den vier Evangelisten&#8220;\, Breite StraÃŸe 37\, Berlin\, 13187\, Deutschland
CATEGORIES:Gottesdienste
END:VEVENT
BEGIN:VEVENT
DTSTART;TZID=Europe/Berlin:20250519T160000
DTEND;TZID=Europe/Berlin:20250519T163000
DTSTAMP:20260421T181533
CREATED:20250110T140310Z
LAST-MODIFIED:20250110T140310Z
UID:13698-1747670400-1747672200@alt.alt-pankow.de
SUMMARY:Kinderchor Â· 4-6 Jahre
DESCRIPTION:Kontakt\nKirchenmusikerin Rudite Livmane\nT 0157- 387 80 926\nkirchenmusik@alt-pankow.de
URL:https://alt.alt-pankow.de/veranstaltung/kinderchor-%c2%b7-4-6-jahre-67/
LOCATION:Ev. Gemeindehaus Alt-Pankow Â· Gemeindesaal\, Breite StraÃŸe 38\, Berlin\, 13187\, Deutschland
CATEGORIES:fÃ¼r Kinder,Kirchenmusik,Proben
END:VEVENT
BEGIN:VEVENT
DTSTART;TZID=Europe/Berlin:20250519T180000
DTEND;TZID=Europe/Berlin:20250519T183000
DTSTAMP:20260421T181533
CREATED:20250110T153650Z
LAST-MODIFIED:20250110T153650Z
UID:14038-1747677600-1747679400@alt.alt-pankow.de
SUMMARY:Friedensgebet
DESCRIPTION:
URL:https://alt.alt-pankow.de/veranstaltung/friedensgebet-83/
LOCATION:Alte Pfarrkirche &#8222;Zu den vier Evangelisten&#8220;\, Breite StraÃŸe 37\, Berlin\, 13187\, Deutschland
CATEGORIES:Andacht,Gottesdienste
END:VEVENT
END:VCALENDAR