BEGIN:VCALENDAR
VERSION:2.0
PRODID:-//Ev. Kirchengemeinde Alt-Pankow - ECPv6.15.15//NONSGML v1.0//EN
CALSCALE:GREGORIAN
METHOD:PUBLISH
X-ORIGINAL-URL:https://alt.alt-pankow.de
X-WR-CALDESC:Veranstaltungen fÃ¼r Ev. Kirchengemeinde Alt-Pankow
REFRESH-INTERVAL;VALUE=DURATION:PT1H
X-Robots-Tag:noindex
X-PUBLISHED-TTL:PT1H
BEGIN:VTIMEZONE
TZID:Europe/Berlin
BEGIN:DAYLIGHT
TZOFFSETFROM:+0100
TZOFFSETTO:+0200
TZNAME:CEST
DTSTART:20240331T010000
END:DAYLIGHT
BEGIN:STANDARD
TZOFFSETFROM:+0200
TZOFFSETTO:+0100
TZNAME:CET
DTSTART:20241027T010000
END:STANDARD
BEGIN:DAYLIGHT
TZOFFSETFROM:+0100
TZOFFSETTO:+0200
TZNAME:CEST
DTSTART:20250330T010000
END:DAYLIGHT
BEGIN:STANDARD
TZOFFSETFROM:+0200
TZOFFSETTO:+0100
TZNAME:CET
DTSTART:20251026T010000
END:STANDARD
BEGIN:DAYLIGHT
TZOFFSETFROM:+0100
TZOFFSETTO:+0200
TZNAME:CEST
DTSTART:20260329T010000
END:DAYLIGHT
BEGIN:STANDARD
TZOFFSETFROM:+0200
TZOFFSETTO:+0100
TZNAME:CET
DTSTART:20261025T010000
END:STANDARD
END:VTIMEZONE
BEGIN:VEVENT
DTSTART;TZID=Europe/Berlin:20250401T160000
DTEND;TZID=Europe/Berlin:20250401T170000
DTSTAMP:20260421T195308
CREATED:20250110T102836Z
LAST-MODIFIED:20250110T103003Z
UID:13530-1743523200-1743526800@alt.alt-pankow.de
SUMMARY:Christenlehre 1.-3. Klasse
DESCRIPTION:mit Renate Wagner-Schill \n\nEinmal pro Woche treffen sich Kinder unserer Gemeinde bzw. aus dem Pankower Kiez zur Christenlehre. Wir hÃ¶ren Geschichten\, meist aus der Bibel\, singen\, beten\, tanzen\, spielen und basteln\, essen und feiern gemeinsam\, bereiten Feste vor\, gestalten die Kinderecke unserer Kirche und Familiengottesdienste &#8211; herzlich willkommen!
URL:https://alt.alt-pankow.de/veranstaltung/christenlehre-1-3-klasse-25/
LOCATION:Ev. Gemeindehaus Alt-Pankow Â· Keller\, Breite StraÃŸe 38\, Berlin\, 13187\, Deutschland
CATEGORIES:fÃ¼r Kinder,Proben
END:VEVENT
BEGIN:VEVENT
DTSTART;TZID=Europe/Berlin:20250401T170000
DTEND;TZID=Europe/Berlin:20250401T180000
DTSTAMP:20260421T195308
CREATED:20250110T105300Z
LAST-MODIFIED:20250110T105300Z
UID:13636-1743526800-1743530400@alt.alt-pankow.de
SUMMARY:Christenlehre 4.-6. Klasse
DESCRIPTION:mit Renate Wagner-Schill \n\nEinmal pro Woche treffen sich Kinder unserer Gemeinde bzw. aus dem Pankower Kiez zur Christenlehre. Wir hÃ¶ren Geschichten\, meist aus der Bibel\, singen\, beten\, tanzen\, spielen und basteln\, essen und feiern gemeinsam\, bereiten Feste vor\, gestalten die Kinderecke unserer Kirche und Familiengottesdienste &#8211; herzlich willkommen!
URL:https://alt.alt-pankow.de/veranstaltung/christenlehre-4-6-klasse-27/
LOCATION:Ev. Gemeindehaus Alt-Pankow Â· Keller\, Breite StraÃŸe 38\, Berlin\, 13187\, Deutschland
CATEGORIES:fÃ¼r Kinder,Proben
END:VEVENT
BEGIN:VEVENT
DTSTART;TZID=Europe/Berlin:20250401T180000
DTEND;TZID=Europe/Berlin:20250401T220000
DTSTAMP:20260421T195308
CREATED:20250110T141828Z
LAST-MODIFIED:20250110T141828Z
UID:13772-1743530400-1743544800@alt.alt-pankow.de
SUMMARY:Junge Gemeinde
DESCRIPTION:
URL:https://alt.alt-pankow.de/veranstaltung/junge-gemeinde-78/
LOCATION:Ev. Gemeindehaus Alt-Pankow Â· Garten\, Breite StraÃŸe 38\, Berlin\, 13187\, Deutschland
CATEGORIES:Gemeindekreise,GesprÃ¤che,Jugendliche
END:VEVENT
BEGIN:VEVENT
DTSTART;TZID=Europe/Berlin:20250401T200000
DTEND;TZID=Europe/Berlin:20250401T200000
DTSTAMP:20260421T195308
CREATED:20250110T101654Z
LAST-MODIFIED:20250110T101654Z
UID:13493-1743537600-1743537600@alt.alt-pankow.de
SUMMARY:Komplet - Das Gebet zur Nacht
DESCRIPTION:â€¦ in der Tradition christlicher KlÃ¶ster. Zur Ruhe kommen &#8211; Psalmen singen &#8211; um Frieden beten.
URL:https://alt.alt-pankow.de/veranstaltung/komplet-das-gebet-zur-nacht-88/
LOCATION:Alte Pfarrkirche &#8222;Zu den vier Evangelisten&#8220;\, Breite StraÃŸe 37\, Berlin\, 13187\, Deutschland
CATEGORIES:Andacht
END:VEVENT
BEGIN:VEVENT
DTSTART;TZID=Europe/Berlin:20250402T190000
DTEND;TZID=Europe/Berlin:20250402T193000
DTSTAMP:20260421T195308
CREATED:20250110T150234Z
LAST-MODIFIED:20250127T094941Z
UID:13908-1743620400-1743622200@alt.alt-pankow.de
SUMMARY:Orgelandacht zur Passionszeit
DESCRIPTION:Eine halbe Stunde Orgelmusik und ein Text zur Passionszeit.\nMit Pfarrer Michael Hufen\nOrgel: Matthias Wilke
URL:https://alt.alt-pankow.de/veranstaltung/orgelandacht-zur-passionszeit-10/
LOCATION:Alte Pfarrkirche &#8222;Zu den vier Evangelisten&#8220;\, Breite StraÃŸe 37\, Berlin\, 13187\, Deutschland
CATEGORIES:Andacht,Kirchenmusik,Konzerte
ATTACH;FMTTYPE=image/jpeg:https://alt.alt-pankow.de/wp-content/uploads/2023/10/AP_14-2-2024_orgel_www.jpg
END:VEVENT
BEGIN:VEVENT
DTSTART;TZID=Europe/Berlin:20250402T193000
DTEND;TZID=Europe/Berlin:20250402T210000
DTSTAMP:20260421T195308
CREATED:20250110T143603Z
LAST-MODIFIED:20250110T143603Z
UID:13839-1743622200-1743627600@alt.alt-pankow.de
SUMMARY:Tanz und Besinnung
DESCRIPTION:Kontakt: Sandra Pawlig Tel. 015906739626
URL:https://alt.alt-pankow.de/veranstaltung/tanz-und-besinnung-39/
LOCATION:Ev. Gemeindehaus Alt-Pankow Â· Gemeindesaal\, Breite StraÃŸe 38\, Berlin\, 13187\, Deutschland
CATEGORIES:Gemeindekreise,Meditation
END:VEVENT
BEGIN:VEVENT
DTSTART;TZID=Europe/Berlin:20250403T160000
DTEND;TZID=Europe/Berlin:20250403T164500
DTSTAMP:20260421T195308
CREATED:20250110T141053Z
LAST-MODIFIED:20250110T141053Z
UID:13738-1743696000-1743698700@alt.alt-pankow.de
SUMMARY:Kinderchor Â· Kinder ab 2. Klasse
DESCRIPTION:Kontakt\nKirchenmusikerin Rudite Livmane\nT 0157- 387 80 926\nkirchenmusik@alt-pankow.de
URL:https://alt.alt-pankow.de/veranstaltung/kinderchor-%c2%b7-kinder-ab-2-klasse-63/
LOCATION:Ev. Gemeindehaus Alt-Pankow Â· Gemeindesaal\, Breite StraÃŸe 38\, Berlin\, 13187\, Deutschland
CATEGORIES:fÃ¼r Kinder,Kirchenmusik,Proben
END:VEVENT
BEGIN:VEVENT
DTSTART;TZID=Europe/Berlin:20250403T193000
DTEND;TZID=Europe/Berlin:20250403T213000
DTSTAMP:20260421T195308
CREATED:20250110T150754Z
LAST-MODIFIED:20250110T150754Z
UID:13929-1743708600-1743715800@alt.alt-pankow.de
SUMMARY:collegium instrumentale
DESCRIPTION:
URL:https://alt.alt-pankow.de/veranstaltung/collegium-instrumentale-74/
LOCATION:Ev. Gemeindehaus Alt-Pankow Â· Gemeindesaal\, Breite StraÃŸe 38\, Berlin\, 13187\, Deutschland
CATEGORIES:Kirchenmusik,Proben
END:VEVENT
BEGIN:VEVENT
DTSTART;TZID=Europe/Berlin:20250404T120000
DTEND;TZID=Europe/Berlin:20250404T123000
DTSTAMP:20260421T195308
CREATED:20250110T152248Z
LAST-MODIFIED:20250110T152248Z
UID:13976-1743768000-1743769800@alt.alt-pankow.de
SUMMARY:Friedensgebet mit Orgelandacht
DESCRIPTION:
URL:https://alt.alt-pankow.de/veranstaltung/friedensgebet-mit-orgelandacht-84/
LOCATION:Alte Pfarrkirche &#8222;Zu den vier Evangelisten&#8220;\, Breite StraÃŸe 37\, Berlin\, 13187\, Deutschland
CATEGORIES:Andacht
END:VEVENT
BEGIN:VEVENT
DTSTART;TZID=Europe/Berlin:20250404T190000
DTEND;TZID=Europe/Berlin:20250404T210000
DTSTAMP:20260421T195308
CREATED:20250113T090557Z
LAST-MODIFIED:20250113T090557Z
UID:14098-1743793200-1743800400@alt.alt-pankow.de
SUMMARY:BlÃ¤serkreis
DESCRIPTION:Fortgeschrittene BlÃ¤ser sind herzlich willkommen!Â  \nAnmeldung: Michael Timm\nTel. 0175-2044747\nE-Mail: post@michatimm.de
URL:https://alt.alt-pankow.de/veranstaltung/blaeserkreis-3/
LOCATION:Ev. Gemeindehaus Alt-Pankow Â· Gemeindesaal\, Breite StraÃŸe 38\, Berlin\, 13187\, Deutschland
CATEGORIES:BlÃ¤serkreis,Kirchenmusik,Proben
END:VEVENT
BEGIN:VEVENT
DTSTART;TZID=Europe/Berlin:20250405T193000
DTEND;TZID=Europe/Berlin:20250405T213000
DTSTAMP:20260421T195308
CREATED:20250127T111753Z
LAST-MODIFIED:20250401T082154Z
UID:14188-1743881400-1743888600@alt.alt-pankow.de
SUMMARY:Musikalische Vesper zur Passion
DESCRIPTION:Â»Aus tiefer Not schrei ich zu dirÂ«\nPsalm 130 Â· Johann Sebastian Bach\, Kantate BWV 38 (AuszÃ¼ge)\nDie Kantate BWV 38 beginnt mit Worten Â»Aus tiefer Not schrei ich zu DirÂ«\, die zum Psalm 130 gehÃ¶ren. Dieser zÃ¤hlt zu den BuÃŸpsalmen und zu den traditionellen BegrÃ¤bnisliedern. Er ist die Grundlage des bekannten Liedes von Martin Luther\, was Johann Sebastian Bach so eindrucksvoll vertont hat. Der Eingangschor im Stil einer Motette hat einen Renaissance-Charakter. Der Schlusschoral beginnt mit einer starken Dissonanz Â»Ob bei uns ist der SÃ¼nden viel&#8230;Â« \nBuÃŸpsalm 50 (51) Â· Â»Miserere in cÂ«\nvertont von Johann Christoph Friedrich Bach\, dem Sohn von Johann Sebastian\, besteht aus einem Wechsel von Chor und Solo Abschnitten. Beispiel des vorklassischen empfindsamen Stil. \nSolisten:\nBarbara Buntemeyer Â· Sopran\nJana Reiner Â· Alt\nHeie Erchinger Â· Tenor\nMichael Geisler Â· Bass \nKirchenchor und Collegium instrumentale Alt-Pankow\nMatthias Wilke &#8211; Orgel\nRudite Livmane &#8211; Leitung \n\nEintritt frei. Kollekte am Ausgang \n\n 
URL:https://alt.alt-pankow.de/veranstaltung/aus-tiefer-not-schrei-ich-zu-dir/
LOCATION:Alte Pfarrkirche &#8222;Zu den vier Evangelisten&#8220;\, Breite StraÃŸe 37\, Berlin\, 13187\, Deutschland
CATEGORIES:Kirchenmusik,Konzerte
ATTACH;FMTTYPE=image/jpeg:https://alt.alt-pankow.de/wp-content/uploads/2025/01/5-4-2025_korr2.jpg
END:VEVENT
BEGIN:VEVENT
DTSTART;TZID=Europe/Berlin:20250406T100000
DTEND;TZID=Europe/Berlin:20250406T110000
DTSTAMP:20260421T195308
CREATED:20250127T130503Z
LAST-MODIFIED:20250322T093032Z
UID:14222-1743933600-1743937200@alt.alt-pankow.de
SUMMARY:Gottesdienst Â· Predigtreihe III
DESCRIPTION:Judica \nPredigtreihe III zum Film: Â»Das Beste kommt zum SchlussÂ« Â· Trailer\nmit Pfarrer Michael Hufen\nOrgel: Matthias Wilke
URL:https://alt.alt-pankow.de/veranstaltung/gottesdienst-%c2%b7-predigtreihe-iii/
LOCATION:Alte Pfarrkirche &#8222;Zu den vier Evangelisten&#8220;\, Breite StraÃŸe 37\, Berlin\, 13187\, Deutschland
CATEGORIES:Gottesdienste
END:VEVENT
BEGIN:VEVENT
DTSTART;TZID=Europe/Berlin:20250407T160000
DTEND;TZID=Europe/Berlin:20250407T163000
DTSTAMP:20260421T195308
CREATED:20250110T140230Z
LAST-MODIFIED:20250110T140230Z
UID:13694-1744041600-1744043400@alt.alt-pankow.de
SUMMARY:Kinderchor Â· 4-6 Jahre
DESCRIPTION:Kontakt\nKirchenmusikerin Rudite Livmane\nT 0157- 387 80 926\nkirchenmusik@alt-pankow.de
URL:https://alt.alt-pankow.de/veranstaltung/kinderchor-%c2%b7-4-6-jahre-63/
LOCATION:Ev. Gemeindehaus Alt-Pankow Â· Gemeindesaal\, Breite StraÃŸe 38\, Berlin\, 13187\, Deutschland
CATEGORIES:fÃ¼r Kinder,Kirchenmusik,Proben
END:VEVENT
BEGIN:VEVENT
DTSTART;TZID=Europe/Berlin:20250407T180000
DTEND;TZID=Europe/Berlin:20250407T183000
DTSTAMP:20260421T195308
CREATED:20250110T153531Z
LAST-MODIFIED:20250228T072833Z
UID:14033-1744048800-1744050600@alt.alt-pankow.de
SUMMARY:Friedensgebet
DESCRIPTION:
URL:https://alt.alt-pankow.de/veranstaltung/friedensgebet-78/
LOCATION:Alte Pfarrkirche Â· Coventry-Saal\, Breite StraÃŸe 37\, Berlin\, 13187\, Deutschland
CATEGORIES:Andacht
END:VEVENT
BEGIN:VEVENT
DTSTART;TZID=Europe/Berlin:20250407T193000
DTEND;TZID=Europe/Berlin:20250407T213000
DTSTAMP:20260421T195308
CREATED:20250110T103945Z
LAST-MODIFIED:20250110T103945Z
UID:13576-1744054200-1744061400@alt.alt-pankow.de
SUMMARY:Kirchenchor
DESCRIPTION:
URL:https://alt.alt-pankow.de/veranstaltung/kirchenchor-78/
LOCATION:Alte Pfarrkirche &#8222;Zu den vier Evangelisten&#8220;\, Breite StraÃŸe 37\, Berlin\, 13187\, Deutschland
CATEGORIES:Kirchenmusik,Proben
END:VEVENT
BEGIN:VEVENT
DTSTART;TZID=Europe/Berlin:20250408T160000
DTEND;TZID=Europe/Berlin:20250408T170000
DTSTAMP:20260421T195308
CREATED:20250110T103047Z
LAST-MODIFIED:20250110T103047Z
UID:13544-1744128000-1744131600@alt.alt-pankow.de
SUMMARY:Christenlehre 1.-3. Klasse
DESCRIPTION:mit Renate Wagner-Schill \n\nEinmal pro Woche treffen sich Kinder unserer Gemeinde bzw. aus dem Pankower Kiez zur Christenlehre. Wir hÃ¶ren Geschichten\, meist aus der Bibel\, singen\, beten\, tanzen\, spielen und basteln\, essen und feiern gemeinsam\, bereiten Feste vor\, gestalten die Kinderecke unserer Kirche und Familiengottesdienste &#8211; herzlich willkommen!
URL:https://alt.alt-pankow.de/veranstaltung/christenlehre-1-3-klasse-29/
LOCATION:Ev. Gemeindehaus Alt-Pankow Â· Keller\, Breite StraÃŸe 38\, Berlin\, 13187\, Deutschland
CATEGORIES:fÃ¼r Kinder,Proben
END:VEVENT
BEGIN:VEVENT
DTSTART;TZID=Europe/Berlin:20250408T170000
DTEND;TZID=Europe/Berlin:20250408T180000
DTSTAMP:20260421T195308
CREATED:20250110T105312Z
LAST-MODIFIED:20250110T105312Z
UID:13637-1744131600-1744135200@alt.alt-pankow.de
SUMMARY:Christenlehre 4.-6. Klasse
DESCRIPTION:mit Renate Wagner-Schill \n\nEinmal pro Woche treffen sich Kinder unserer Gemeinde bzw. aus dem Pankower Kiez zur Christenlehre. Wir hÃ¶ren Geschichten\, meist aus der Bibel\, singen\, beten\, tanzen\, spielen und basteln\, essen und feiern gemeinsam\, bereiten Feste vor\, gestalten die Kinderecke unserer Kirche und Familiengottesdienste &#8211; herzlich willkommen!
URL:https://alt.alt-pankow.de/veranstaltung/christenlehre-4-6-klasse-28/
LOCATION:Ev. Gemeindehaus Alt-Pankow Â· Keller\, Breite StraÃŸe 38\, Berlin\, 13187\, Deutschland
CATEGORIES:fÃ¼r Kinder,Proben
END:VEVENT
BEGIN:VEVENT
DTSTART;TZID=Europe/Berlin:20250408T170000
DTEND;TZID=Europe/Berlin:20250408T183000
DTSTAMP:20260421T195308
CREATED:20250110T142458Z
LAST-MODIFIED:20250110T142458Z
UID:13814-1744131600-1744137000@alt.alt-pankow.de
SUMMARY:TrauercafÃ©
DESCRIPTION:des Ambulanten Caritas-Hospizes \nBonhoeffer-Saal in der Alten Pfarrkirche Pankow\, Breite StraÃŸe 37\nAnmeldung erbeten unter Tel. 030-666340360
URL:https://alt.alt-pankow.de/veranstaltung/trauercafe-20/
LOCATION:Alte Pfarrkirche Â· Bonhoeffer-Saal\, Breite StraÃŸe 37\, Berlin\, 13187\, Deutschland
CATEGORIES:GesprÃ¤che
END:VEVENT
BEGIN:VEVENT
DTSTART;TZID=Europe/Berlin:20250408T180000
DTEND;TZID=Europe/Berlin:20250408T220000
DTSTAMP:20260421T195308
CREATED:20250110T141934Z
LAST-MODIFIED:20250110T141934Z
UID:13784-1744135200-1744149600@alt.alt-pankow.de
SUMMARY:Junge Gemeinde
DESCRIPTION:
URL:https://alt.alt-pankow.de/veranstaltung/junge-gemeinde-79/
LOCATION:Ev. Gemeindehaus Alt-Pankow Â· Garten\, Breite StraÃŸe 38\, Berlin\, 13187\, Deutschland
CATEGORIES:Gemeindekreise,GesprÃ¤che,Jugendliche
END:VEVENT
BEGIN:VEVENT
DTSTART;TZID=Europe/Berlin:20250408T200000
DTEND;TZID=Europe/Berlin:20250408T200000
DTSTAMP:20260421T195308
CREATED:20250110T101703Z
LAST-MODIFIED:20250110T101703Z
UID:13494-1744142400-1744142400@alt.alt-pankow.de
SUMMARY:Komplet - Das Gebet zur Nacht
DESCRIPTION:â€¦ in der Tradition christlicher KlÃ¶ster. Zur Ruhe kommen &#8211; Psalmen singen &#8211; um Frieden beten.
URL:https://alt.alt-pankow.de/veranstaltung/komplet-das-gebet-zur-nacht-89/
LOCATION:Alte Pfarrkirche &#8222;Zu den vier Evangelisten&#8220;\, Breite StraÃŸe 37\, Berlin\, 13187\, Deutschland
CATEGORIES:Andacht
END:VEVENT
BEGIN:VEVENT
DTSTART;TZID=Europe/Berlin:20250409T190000
DTEND;TZID=Europe/Berlin:20250409T193000
DTSTAMP:20260421T195308
CREATED:20250127T095108Z
LAST-MODIFIED:20250127T095108Z
UID:14177-1744225200-1744227000@alt.alt-pankow.de
SUMMARY:Andacht zur Passionszeit
DESCRIPTION:Mit Pfarrer Michael Hufen\nGeorg Kettschau und Englisch Choir
URL:https://alt.alt-pankow.de/veranstaltung/andacht-zur-passionszeit/
LOCATION:Alte Pfarrkirche &#8222;Zu den vier Evangelisten&#8220;\, Breite StraÃŸe 37\, Berlin\, 13187\, Deutschland
CATEGORIES:Andacht,Kirchenmusik,Konzerte
ATTACH;FMTTYPE=image/jpeg:https://alt.alt-pankow.de/wp-content/uploads/2023/10/AP_14-2-2024_orgel_www.jpg
END:VEVENT
BEGIN:VEVENT
DTSTART;TZID=Europe/Berlin:20250410T160000
DTEND;TZID=Europe/Berlin:20250410T164500
DTSTAMP:20260421T195308
CREATED:20250110T141102Z
LAST-MODIFIED:20250110T141102Z
UID:13739-1744300800-1744303500@alt.alt-pankow.de
SUMMARY:Kinderchor Â· Kinder ab 2. Klasse
DESCRIPTION:Kontakt\nKirchenmusikerin Rudite Livmane\nT 0157- 387 80 926\nkirchenmusik@alt-pankow.de
URL:https://alt.alt-pankow.de/veranstaltung/kinderchor-%c2%b7-kinder-ab-2-klasse-64/
LOCATION:Ev. Gemeindehaus Alt-Pankow Â· Gemeindesaal\, Breite StraÃŸe 38\, Berlin\, 13187\, Deutschland
CATEGORIES:fÃ¼r Kinder,Kirchenmusik,Proben
END:VEVENT
BEGIN:VEVENT
DTSTART;TZID=Europe/Berlin:20250410T180000
DTEND;TZID=Europe/Berlin:20250410T200000
DTSTAMP:20260421T195308
CREATED:20250110T154732Z
LAST-MODIFIED:20250110T154732Z
UID:14067-1744308000-1744315200@alt.alt-pankow.de
SUMMARY:GesprÃ¤chskreis
DESCRIPTION:Kontakt: Donata Kleber\, Tel. 030-9122323 \n 
URL:https://alt.alt-pankow.de/veranstaltung/gespraechskreis-18/
LOCATION:Ev. Gemeindehaus Alt-Pankow Â· Gemeindesaal\, Breite StraÃŸe 38\, Berlin\, 13187\, Deutschland
CATEGORIES:Gemeindekreise,GesprÃ¤che
END:VEVENT
BEGIN:VEVENT
DTSTART;TZID=Europe/Berlin:20250410T193000
DTEND;TZID=Europe/Berlin:20250410T213000
DTSTAMP:20260421T195308
CREATED:20250110T150802Z
LAST-MODIFIED:20250110T150802Z
UID:13930-1744313400-1744320600@alt.alt-pankow.de
SUMMARY:collegium instrumentale
DESCRIPTION:
URL:https://alt.alt-pankow.de/veranstaltung/collegium-instrumentale-75/
LOCATION:Ev. Gemeindehaus Alt-Pankow Â· Gemeindesaal\, Breite StraÃŸe 38\, Berlin\, 13187\, Deutschland
CATEGORIES:Kirchenmusik,Proben
END:VEVENT
BEGIN:VEVENT
DTSTART;TZID=Europe/Berlin:20250411T120000
DTEND;TZID=Europe/Berlin:20250411T123000
DTSTAMP:20260421T195308
CREATED:20250110T152258Z
LAST-MODIFIED:20250110T152258Z
UID:13977-1744372800-1744374600@alt.alt-pankow.de
SUMMARY:Friedensgebet mit Orgelandacht
DESCRIPTION:
URL:https://alt.alt-pankow.de/veranstaltung/friedensgebet-mit-orgelandacht-85/
LOCATION:Alte Pfarrkirche &#8222;Zu den vier Evangelisten&#8220;\, Breite StraÃŸe 37\, Berlin\, 13187\, Deutschland
CATEGORIES:Andacht
END:VEVENT
BEGIN:VEVENT
DTSTART;TZID=Europe/Berlin:20250413T100000
DTEND;TZID=Europe/Berlin:20250413T110000
DTSTAMP:20260421T195308
CREATED:20250127T130626Z
LAST-MODIFIED:20250313T120526Z
UID:14208-1744538400-1744542000@alt.alt-pankow.de
SUMMARY:Gottesdienst
DESCRIPTION:Palmarum\n \nFamiliengottesdienst\nPfarrer Michael Hufen\nOrgel: Matthias Wilke
URL:https://alt.alt-pankow.de/veranstaltung/gottesdienst/
LOCATION:Alte Pfarrkirche &#8222;Zu den vier Evangelisten&#8220;\, Breite StraÃŸe 37\, Berlin\, 13187\, Deutschland
CATEGORIES:Gottesdienste
END:VEVENT
BEGIN:VEVENT
DTSTART;TZID=Europe/Berlin:20250414T160000
DTEND;TZID=Europe/Berlin:20250414T163000
DTSTAMP:20260421T195308
CREATED:20250110T140241Z
LAST-MODIFIED:20250110T140241Z
UID:13695-1744646400-1744648200@alt.alt-pankow.de
SUMMARY:Kinderchor Â· 4-6 Jahre
DESCRIPTION:Kontakt\nKirchenmusikerin Rudite Livmane\nT 0157- 387 80 926\nkirchenmusik@alt-pankow.de
URL:https://alt.alt-pankow.de/veranstaltung/kinderchor-%c2%b7-4-6-jahre-64/
LOCATION:Ev. Gemeindehaus Alt-Pankow Â· Gemeindesaal\, Breite StraÃŸe 38\, Berlin\, 13187\, Deutschland
CATEGORIES:fÃ¼r Kinder,Kirchenmusik,Proben
END:VEVENT
BEGIN:VEVENT
DTSTART;TZID=Europe/Berlin:20250414T180000
DTEND;TZID=Europe/Berlin:20250414T183000
DTSTAMP:20260421T195308
CREATED:20250110T153541Z
LAST-MODIFIED:20250228T072755Z
UID:14034-1744653600-1744655400@alt.alt-pankow.de
SUMMARY:Friedensgebet
DESCRIPTION:
URL:https://alt.alt-pankow.de/veranstaltung/friedensgebet-79/
LOCATION:Alte Pfarrkirche Â· Coventry-Saal\, Breite StraÃŸe 37\, Berlin\, 13187\, Deutschland
CATEGORIES:Andacht
END:VEVENT
BEGIN:VEVENT
DTSTART;TZID=Europe/Berlin:20250414T193000
DTEND;TZID=Europe/Berlin:20250414T213000
DTSTAMP:20260421T195308
CREATED:20250110T103954Z
LAST-MODIFIED:20250110T103954Z
UID:13577-1744659000-1744666200@alt.alt-pankow.de
SUMMARY:Kirchenchor
DESCRIPTION:
URL:https://alt.alt-pankow.de/veranstaltung/kirchenchor-79/
LOCATION:Alte Pfarrkirche &#8222;Zu den vier Evangelisten&#8220;\, Breite StraÃŸe 37\, Berlin\, 13187\, Deutschland
CATEGORIES:Kirchenmusik,Proben
END:VEVENT
BEGIN:VEVENT
DTSTART;TZID=Europe/Berlin:20250415T160000
DTEND;TZID=Europe/Berlin:20250415T170000
DTSTAMP:20260421T195308
CREATED:20250110T103059Z
LAST-MODIFIED:20250110T103059Z
UID:13546-1744732800-1744736400@alt.alt-pankow.de
SUMMARY:Christenlehre 1.-3. Klasse
DESCRIPTION:mit Renate Wagner-Schill \n\nEinmal pro Woche treffen sich Kinder unserer Gemeinde bzw. aus dem Pankower Kiez zur Christenlehre. Wir hÃ¶ren Geschichten\, meist aus der Bibel\, singen\, beten\, tanzen\, spielen und basteln\, essen und feiern gemeinsam\, bereiten Feste vor\, gestalten die Kinderecke unserer Kirche und Familiengottesdienste &#8211; herzlich willkommen!
URL:https://alt.alt-pankow.de/veranstaltung/christenlehre-1-3-klasse-30/
LOCATION:Ev. Gemeindehaus Alt-Pankow Â· Keller\, Breite StraÃŸe 38\, Berlin\, 13187\, Deutschland
CATEGORIES:fÃ¼r Kinder,Proben
END:VEVENT
END:VCALENDAR