BEGIN:VCALENDAR
VERSION:2.0
PRODID:-//Ev. Kirchengemeinde Alt-Pankow - ECPv6.15.15//NONSGML v1.0//EN
CALSCALE:GREGORIAN
METHOD:PUBLISH
X-ORIGINAL-URL:https://alt.alt-pankow.de
X-WR-CALDESC:Veranstaltungen für Ev. Kirchengemeinde Alt-Pankow
REFRESH-INTERVAL;VALUE=DURATION:PT1H
X-Robots-Tag:noindex
X-PUBLISHED-TTL:PT1H
BEGIN:VTIMEZONE
TZID:Europe/Berlin
BEGIN:DAYLIGHT
TZOFFSETFROM:+0100
TZOFFSETTO:+0200
TZNAME:CEST
DTSTART:20230326T010000
END:DAYLIGHT
BEGIN:STANDARD
TZOFFSETFROM:+0200
TZOFFSETTO:+0100
TZNAME:CET
DTSTART:20231029T010000
END:STANDARD
BEGIN:DAYLIGHT
TZOFFSETFROM:+0100
TZOFFSETTO:+0200
TZNAME:CEST
DTSTART:20240331T010000
END:DAYLIGHT
BEGIN:STANDARD
TZOFFSETFROM:+0200
TZOFFSETTO:+0100
TZNAME:CET
DTSTART:20241027T010000
END:STANDARD
BEGIN:DAYLIGHT
TZOFFSETFROM:+0100
TZOFFSETTO:+0200
TZNAME:CEST
DTSTART:20250330T010000
END:DAYLIGHT
BEGIN:STANDARD
TZOFFSETFROM:+0200
TZOFFSETTO:+0100
TZNAME:CET
DTSTART:20251026T010000
END:STANDARD
END:VTIMEZONE
BEGIN:VEVENT
DTSTART;TZID=Europe/Berlin:20241130T193000
DTEND;TZID=Europe/Berlin:20241130T213000
DTSTAMP:20260422T032013
CREATED:20240809T170223Z
LAST-MODIFIED:20241119T155211Z
UID:12927-1732995000-1733002200@alt.alt-pankow.de
SUMMARY:Bläsermusik zum Advent
DESCRIPTION:Wie soll ich dich empfangen\nBläser- und Orgelmusik zur klangvollen Einstimmung in die Adventszeit: der Alt-Pankower Blechbläserkreis spielt Choräle von Paul-Gerhardt und mehr. Dazu gibt es Historisches zu dem berühmten Kirchenlieddichter und seiner Wirkungszeit in Berlin.\nBläserkreis Alt-Pankow. Orgel: Matthias Wilke\nLeitung: Michael Timm \n\nEintritt. frei. Kollekte am Ausgang
URL:https://alt.alt-pankow.de/veranstaltung/blaesermusik-zum-advent/
LOCATION:Alte Pfarrkirche &#8222;Zu den vier Evangelisten&#8220;\, Breite Straße 37\, Berlin\, 13187\, Deutschland
CATEGORIES:Bläserkreis,Kirchenmusik,Konzerte
ATTACH;FMTTYPE=image/jpeg:https://alt.alt-pankow.de/wp-content/uploads/2024/11/30-11-2024_blaeser.jpg
END:VEVENT
END:VCALENDAR