BEGIN:VCALENDAR
VERSION:2.0
PRODID:-//Ev. Kirchengemeinde Alt-Pankow - ECPv6.15.15//NONSGML v1.0//EN
CALSCALE:GREGORIAN
METHOD:PUBLISH
X-WR-CALNAME:Ev. Kirchengemeinde Alt-Pankow
X-ORIGINAL-URL:https://alt.alt-pankow.de
X-WR-CALDESC:Veranstaltungen für Ev. Kirchengemeinde Alt-Pankow
REFRESH-INTERVAL;VALUE=DURATION:PT1H
X-Robots-Tag:noindex
X-PUBLISHED-TTL:PT1H
BEGIN:VTIMEZONE
TZID:Europe/Berlin
BEGIN:DAYLIGHT
TZOFFSETFROM:+0100
TZOFFSETTO:+0200
TZNAME:CEST
DTSTART:20240331T010000
END:DAYLIGHT
BEGIN:STANDARD
TZOFFSETFROM:+0200
TZOFFSETTO:+0100
TZNAME:CET
DTSTART:20241027T010000
END:STANDARD
BEGIN:DAYLIGHT
TZOFFSETFROM:+0100
TZOFFSETTO:+0200
TZNAME:CEST
DTSTART:20250330T010000
END:DAYLIGHT
BEGIN:STANDARD
TZOFFSETFROM:+0200
TZOFFSETTO:+0100
TZNAME:CET
DTSTART:20251026T010000
END:STANDARD
BEGIN:DAYLIGHT
TZOFFSETFROM:+0100
TZOFFSETTO:+0200
TZNAME:CEST
DTSTART:20260329T010000
END:DAYLIGHT
BEGIN:STANDARD
TZOFFSETFROM:+0200
TZOFFSETTO:+0100
TZNAME:CET
DTSTART:20261025T010000
END:STANDARD
END:VTIMEZONE
BEGIN:VEVENT
DTSTART;TZID=Europe/Berlin:20250919T120000
DTEND;TZID=Europe/Berlin:20250919T123000
DTSTAMP:20260421T132946
CREATED:20250825T150253Z
LAST-MODIFIED:20250825T150253Z
UID:14967-1758283200-1758285000@alt.alt-pankow.de
SUMMARY:Friedensgebet mit Orgelandacht
DESCRIPTION:
URL:https://alt.alt-pankow.de/veranstaltung/friedensgebet-mit-orgelandacht-4/
LOCATION:Alte Pfarrkirche &#8222;Zu den vier Evangelisten&#8220;\, Breite Straße 37\, Berlin\, 13187\, Deutschland
CATEGORIES:Andacht
END:VEVENT
BEGIN:VEVENT
DTSTART;TZID=Europe/Berlin:20250919T190000
DTEND;TZID=Europe/Berlin:20250919T210000
DTSTAMP:20260421T132946
CREATED:20250825T152929Z
LAST-MODIFIED:20250825T152929Z
UID:15073-1758308400-1758315600@alt.alt-pankow.de
SUMMARY:Bläserkreis
DESCRIPTION:Fortgeschrittene Bläser sind herzlich willkommen!  \nAnmeldung: Michael Timm\nTel. 0175-2044747\nE-Mail: post@michatimm.de
URL:https://alt.alt-pankow.de/veranstaltung/blaeserkreis-8/
LOCATION:Ev. Gemeindehaus Alt-Pankow · Gemeindesaal\, Breite Straße 38\, Berlin\, 13187\, Deutschland
CATEGORIES:Bläserkreis,Kirchenmusik,Proben
END:VEVENT
END:VCALENDAR