BEGIN:VCALENDAR
VERSION:2.0
PRODID:-//Ev. Kirchengemeinde Alt-Pankow - ECPv6.15.15//NONSGML v1.0//EN
CALSCALE:GREGORIAN
METHOD:PUBLISH
X-ORIGINAL-URL:https://alt.alt-pankow.de
X-WR-CALDESC:Veranstaltungen für Ev. Kirchengemeinde Alt-Pankow
REFRESH-INTERVAL;VALUE=DURATION:PT1H
X-Robots-Tag:noindex
X-PUBLISHED-TTL:PT1H
BEGIN:VTIMEZONE
TZID:Europe/Berlin
BEGIN:DAYLIGHT
TZOFFSETFROM:+0100
TZOFFSETTO:+0200
TZNAME:CEST
DTSTART:20240331T010000
END:DAYLIGHT
BEGIN:STANDARD
TZOFFSETFROM:+0200
TZOFFSETTO:+0100
TZNAME:CET
DTSTART:20241027T010000
END:STANDARD
BEGIN:DAYLIGHT
TZOFFSETFROM:+0100
TZOFFSETTO:+0200
TZNAME:CEST
DTSTART:20250330T010000
END:DAYLIGHT
BEGIN:STANDARD
TZOFFSETFROM:+0200
TZOFFSETTO:+0100
TZNAME:CET
DTSTART:20251026T010000
END:STANDARD
BEGIN:DAYLIGHT
TZOFFSETFROM:+0100
TZOFFSETTO:+0200
TZNAME:CEST
DTSTART:20260329T010000
END:DAYLIGHT
BEGIN:STANDARD
TZOFFSETFROM:+0200
TZOFFSETTO:+0100
TZNAME:CET
DTSTART:20261025T010000
END:STANDARD
END:VTIMEZONE
BEGIN:VEVENT
DTSTART;TZID=Europe/Berlin:20250917T110000
DTEND;TZID=Europe/Berlin:20250917T130000
DTSTAMP:20260421T133106
CREATED:20250510T134529Z
LAST-MODIFIED:20250826T113152Z
UID:13873-1758106800-1758114000@alt.alt-pankow.de
SUMMARY:Seniorenfrühstück
DESCRIPTION:Wir bitten um Anmeldung bei Regina Burger\,\nTel. 030-485 6709.
URL:https://alt.alt-pankow.de/veranstaltung/seniorenfruehstueck-28/
LOCATION:Alte Pfarrkirche · Bonhoeffer-Saal\, Breite Straße 37\, Berlin\, 13187\, Deutschland
CATEGORIES:Gemeindekreise,Gespräche
END:VEVENT
BEGIN:VEVENT
DTSTART;TZID=Europe/Berlin:20250917T160000
DTEND;TZID=Europe/Berlin:20250917T170000
DTSTAMP:20260421T133106
CREATED:20250910T102502Z
LAST-MODIFIED:20250910T102502Z
UID:15285-1758124800-1758128400@alt.alt-pankow.de
SUMMARY:Christenlehre 1.-3. Klasse
DESCRIPTION:mit Renate Wagner-Schill \n\nEinmal pro Woche treffen sich Kinder unserer Gemeinde bzw. aus dem Pankower Kiez zur Christenlehre. Wir hören Geschichten\, meist aus der Bibel\, singen\, beten\, tanzen\, spielen und basteln\, essen und feiern gemeinsam\, bereiten Feste vor\, gestalten die Kinderecke unserer Kirche und Familiengottesdienste &#8211; herzlich willkommen!
URL:https://alt.alt-pankow.de/veranstaltung/christenlehre-1-3-klasse/
LOCATION:Ev. Gemeindehaus Alt-Pankow · Keller\, Breite Straße 38\, Berlin\, 13187\, Deutschland
CATEGORIES:für Kinder
END:VEVENT
BEGIN:VEVENT
DTSTART;TZID=Europe/Berlin:20250917T190000
DTEND;TZID=Europe/Berlin:20250917T210000
DTSTAMP:20260421T133106
CREATED:20250522T083008Z
LAST-MODIFIED:20250825T105409Z
UID:14581-1758135600-1758142800@alt.alt-pankow.de
SUMMARY:Orgelkonzert mit Konstantin Volostnov · Russland
DESCRIPTION:Orgelherbst 2025\nIn Memoriam\nWerke von Bach\, Goedicke\, Glazunov\, und Catoire  \nDie Musik der drei russischen Komponisten Glazunov\, Catoire und Goedicke birgt viel Tragik\, aber auch Internationalität in sich. Alexander Glazunow war der erste russische Komponist\, der ein großes Werk für Orgel schrieb. Aufgrund der wachsenden Spannungen nach der Revolution verließ er 1928 Russland und starb in Frankreich. Georges Catoire war wiederum französischer Abstammung\, er unterrichtete bis zu seinem Tod am Moskauer Konservatorium. Ebenfalls in Moskau lebte und wirkte Alexander Fjodorowitsch Goedicke; seine Vorfahren stammten aus Deutschland. Konstantin Volostnov trennt die russischen Kompositionen mit Musik Johann Sebastian Bachs. \n\nKonstantin Volostnov (geb. 1979) zählt zu den gefragtesten Organisten Europas. Bis 2022 spielte er regelmäßig im Großen Saal des Moskauer Konservatoriums an der berühmten Cavaillé-Coll Orgel. Seine Interpretation ist geprägt von seiner starken Ausdruckskraft. Er gewann zahlreiche internationale Wettbewerbe\, seine Diskografie umfasst 20 CDs. Bis 2022 unterrichtete Volostnov am Moskauer Konservatorium. Er ist Jurymitglied bei internationalen Orgelwettbewerben\, unterrichtet an Orgelakademien und gastiert weltweit. Seit 2024 wohnt er in Berlin. \n\nEINTRITT FREI. KOLLEKTE AM AUSGANG.
URL:https://alt.alt-pankow.de/veranstaltung/orgelkonzert-konstantin-volostnov-russland/
LOCATION:Alte Pfarrkirche &#8222;Zu den vier Evangelisten&#8220;\, Breite Straße 37\, Berlin\, 13187\, Deutschland
CATEGORIES:Konzerte,Orgelherbst 2025
ATTACH;FMTTYPE=image/jpeg:https://alt.alt-pankow.de/wp-content/uploads/2025/05/volostnov-web.jpg
END:VEVENT
END:VCALENDAR