BEGIN:VCALENDAR
VERSION:2.0
PRODID:-//Ev. Kirchengemeinde Alt-Pankow - ECPv6.15.15//NONSGML v1.0//EN
CALSCALE:GREGORIAN
METHOD:PUBLISH
X-ORIGINAL-URL:https://alt.alt-pankow.de
X-WR-CALDESC:Veranstaltungen fÃ¼r Ev. Kirchengemeinde Alt-Pankow
REFRESH-INTERVAL;VALUE=DURATION:PT1H
X-Robots-Tag:noindex
X-PUBLISHED-TTL:PT1H
BEGIN:VTIMEZONE
TZID:Europe/Berlin
BEGIN:DAYLIGHT
TZOFFSETFROM:+0100
TZOFFSETTO:+0200
TZNAME:CEST
DTSTART:20240331T010000
END:DAYLIGHT
BEGIN:STANDARD
TZOFFSETFROM:+0200
TZOFFSETTO:+0100
TZNAME:CET
DTSTART:20241027T010000
END:STANDARD
BEGIN:DAYLIGHT
TZOFFSETFROM:+0100
TZOFFSETTO:+0200
TZNAME:CEST
DTSTART:20250330T010000
END:DAYLIGHT
BEGIN:STANDARD
TZOFFSETFROM:+0200
TZOFFSETTO:+0100
TZNAME:CET
DTSTART:20251026T010000
END:STANDARD
BEGIN:DAYLIGHT
TZOFFSETFROM:+0100
TZOFFSETTO:+0200
TZNAME:CEST
DTSTART:20260329T010000
END:DAYLIGHT
BEGIN:STANDARD
TZOFFSETFROM:+0200
TZOFFSETTO:+0100
TZNAME:CET
DTSTART:20261025T010000
END:STANDARD
END:VTIMEZONE
BEGIN:VEVENT
DTSTART;TZID=Europe/Berlin:20250914T100000
DTEND;TZID=Europe/Berlin:20250914T110000
DTSTAMP:20260421T133234
CREATED:20250526T110253Z
LAST-MODIFIED:20250828T074322Z
UID:15094-1757844000-1757847600@alt.alt-pankow.de
SUMMARY:Gottesdienst
DESCRIPTION:13. Sonntag nach Trinitatis \nGottesdienst zum Schuljahresanfang\nPfarrer Michael Hufen \n  \n  \n 
URL:https://alt.alt-pankow.de/veranstaltung/gottesdienst-25/
LOCATION:Alte Pfarrkirche &#8222;Zu den vier Evangelisten&#8220;\, Breite StraÃŸe 37\, Berlin\, 13187\, Deutschland
CATEGORIES:Gottesdienste
END:VEVENT
BEGIN:VEVENT
DTSTART;TZID=Europe/Berlin:20250914T110000
DTEND;TZID=Europe/Berlin:20250914T123000
DTSTAMP:20260421T133234
CREATED:20250522T082526Z
LAST-MODIFIED:20250522T084512Z
UID:14575-1757847600-1757853000@alt.alt-pankow.de
SUMMARY:Wir bauen eine Orgel
DESCRIPTION:Angebot zum Fest an der Panke\n\nEine Orgel selber bauen\, geht denn das? Mit dem Bausatz einer echten kleinen Pfeifenorgel schaffen wir das unter fachkundiger Anleitung in 60 Minuten. Am Ende kann die Miniaturorgel sogar gespielt werden. Den Aufbau leitet unsere Kirchenmusikerin Rudite Livmane.\nFÃ¼r groÃŸe und kleine Menschen ab 8 Jahren. \nDer Al:legrO Orgelbausatz kann selbst von Kindern aufgebaut werden. Es handelt sich um eine echte Pfeifenorgel im Miniaturformat. Etwa 100 Teile\, wie Pfeifen\, Tasten\, Magazinbalg\, SchÃ¶pfbalg\, Windlade und Windrohr werden auf einem Tisch zusammengesteckt. \n\nEintritt frei. Kollekte am Ausgang.
URL:https://alt.alt-pankow.de/veranstaltung/wir-bauen-eine-orgel/
LOCATION:Alte Pfarrkirche Â· Bonhoeffer-Saal\, Breite StraÃŸe 37\, Berlin\, 13187\, Deutschland
CATEGORIES:Orgelherbst 2025
ATTACH;FMTTYPE=image/jpeg:https://alt.alt-pankow.de/wp-content/uploads/2025/05/allegro_web.jpg
END:VEVENT
BEGIN:VEVENT
DTSTART;TZID=Europe/Berlin:20250914T140000
DTEND;TZID=Europe/Berlin:20250914T170000
DTSTAMP:20260421T133234
CREATED:20250522T082754Z
LAST-MODIFIED:20250825T105400Z
UID:14579-1757858400-1757869200@alt.alt-pankow.de
SUMMARY:Orgelmarathon
DESCRIPTION:Angebot zum Fest an der Panke\nOrganistinnen und Organisten aus der Region spielen ihre Lieblingswerke. Jeder Interpret spielt etwa Â½ Stunde; dazwischen gibt es kurze EinfÃ¼hrungen zu den Musikern und Werken. Es erklingt Musik von Barock bis Moderne. Die KirchentÃ¼r steht offen\, sodass Sie jederzeit eintreten und verweilen kÃ¶nnen.
URL:https://alt.alt-pankow.de/veranstaltung/orgelmarathon/
LOCATION:Alte Pfarrkirche &#8222;Zu den vier Evangelisten&#8220;\, Breite StraÃŸe 37\, Berlin\, 13187\, Deutschland
CATEGORIES:Konzerte,Orgelherbst 2025
ATTACH;FMTTYPE=image/jpeg:https://alt.alt-pankow.de/wp-content/uploads/2022/06/orgelakademie.jpg
END:VEVENT
END:VCALENDAR