BEGIN:VCALENDAR
VERSION:2.0
PRODID:-//Ev. Kirchengemeinde Alt-Pankow - ECPv6.15.15//NONSGML v1.0//EN
CALSCALE:GREGORIAN
METHOD:PUBLISH
X-ORIGINAL-URL:https://alt.alt-pankow.de
X-WR-CALDESC:Veranstaltungen fÃ¼r Ev. Kirchengemeinde Alt-Pankow
REFRESH-INTERVAL;VALUE=DURATION:PT1H
X-Robots-Tag:noindex
X-PUBLISHED-TTL:PT1H
BEGIN:VTIMEZONE
TZID:Europe/Berlin
BEGIN:DAYLIGHT
TZOFFSETFROM:+0100
TZOFFSETTO:+0200
TZNAME:CEST
DTSTART:20240331T010000
END:DAYLIGHT
BEGIN:STANDARD
TZOFFSETFROM:+0200
TZOFFSETTO:+0100
TZNAME:CET
DTSTART:20241027T010000
END:STANDARD
BEGIN:DAYLIGHT
TZOFFSETFROM:+0100
TZOFFSETTO:+0200
TZNAME:CEST
DTSTART:20250330T010000
END:DAYLIGHT
BEGIN:STANDARD
TZOFFSETFROM:+0200
TZOFFSETTO:+0100
TZNAME:CET
DTSTART:20251026T010000
END:STANDARD
BEGIN:DAYLIGHT
TZOFFSETFROM:+0100
TZOFFSETTO:+0200
TZNAME:CEST
DTSTART:20260329T010000
END:DAYLIGHT
BEGIN:STANDARD
TZOFFSETFROM:+0200
TZOFFSETTO:+0100
TZNAME:CET
DTSTART:20261025T010000
END:STANDARD
END:VTIMEZONE
BEGIN:VEVENT
DTSTART;TZID=Europe/Berlin:20250911T160000
DTEND;TZID=Europe/Berlin:20250911T164500
DTSTAMP:20260421T133313
CREATED:20250110T141353Z
LAST-MODIFIED:20250826T155702Z
UID:13757-1757606400-1757609100@alt.alt-pankow.de
SUMMARY:Kinderchor Â· Kinder ab 2. Klasse
DESCRIPTION:Wir singen\, was SpaÃŸ macht: Kinderlieder und Volkslieder\, Traditionelles und Modernes\, Christliches und Weltliches\, Klassik und Pop. Und nÃ¤chstes Jahr ein Singspiel.\nUnsere nÃ¤chsten Projekte sind ein Auftritt zum Adventsnachmittag in Alt-Pankow am 30. November sowie das Krippenspiel an Heiligabend. \nKontakt\nKirchenmusikerin Rudite Livmane\nT 0157- 387 80 926\nkirchenmusik@alt-pankow.de
URL:https://alt.alt-pankow.de/veranstaltung/kinderchor-%c2%b7-kinder-ab-2-klasse-74/
LOCATION:Ev. Gemeindehaus Alt-Pankow Â· Gemeindesaal\, Breite StraÃŸe 38\, Berlin\, 13187\, Deutschland
CATEGORIES:fÃ¼r Kinder,Kirchenmusik,Proben
END:VEVENT
BEGIN:VEVENT
DTSTART;TZID=Europe/Berlin:20250911T180000
DTEND;TZID=Europe/Berlin:20250911T200000
DTSTAMP:20260421T133313
CREATED:20250110T154838Z
LAST-MODIFIED:20250110T154849Z
UID:14071-1757613600-1757620800@alt.alt-pankow.de
SUMMARY:GesprÃ¤chskreis
DESCRIPTION:Kontakt: Donata Kleber\, Tel. 030-9122323 \n 
URL:https://alt.alt-pankow.de/veranstaltung/gespraechskreis-22/
LOCATION:Ev. Gemeindehaus Alt-Pankow Â· Gemeindesaal\, Breite StraÃŸe 38\, Berlin\, 13187\, Deutschland
CATEGORIES:Gemeindekreise,GesprÃ¤che
END:VEVENT
BEGIN:VEVENT
DTSTART;TZID=Europe/Berlin:20250911T193000
DTEND;TZID=Europe/Berlin:20250911T213000
DTSTAMP:20260421T133313
CREATED:20250825T151906Z
LAST-MODIFIED:20250825T151906Z
UID:15047-1757619000-1757626200@alt.alt-pankow.de
SUMMARY:collegium instrumentale
DESCRIPTION:
URL:https://alt.alt-pankow.de/veranstaltung/collegium-instrumentale-2/
LOCATION:Ev. Gemeindehaus Alt-Pankow Â· Gemeindesaal\, Breite StraÃŸe 38\, Berlin\, 13187\, Deutschland
CATEGORIES:Kirchenmusik,Proben
END:VEVENT
END:VCALENDAR