BEGIN:VCALENDAR
VERSION:2.0
PRODID:-//Ev. Kirchengemeinde Alt-Pankow - ECPv6.15.15//NONSGML v1.0//EN
CALSCALE:GREGORIAN
METHOD:PUBLISH
X-ORIGINAL-URL:https://alt.alt-pankow.de
X-WR-CALDESC:Veranstaltungen für Ev. Kirchengemeinde Alt-Pankow
REFRESH-INTERVAL;VALUE=DURATION:PT1H
X-Robots-Tag:noindex
X-PUBLISHED-TTL:PT1H
BEGIN:VTIMEZONE
TZID:Europe/Berlin
BEGIN:DAYLIGHT
TZOFFSETFROM:+0100
TZOFFSETTO:+0200
TZNAME:CEST
DTSTART:20240331T010000
END:DAYLIGHT
BEGIN:STANDARD
TZOFFSETFROM:+0200
TZOFFSETTO:+0100
TZNAME:CET
DTSTART:20241027T010000
END:STANDARD
BEGIN:DAYLIGHT
TZOFFSETFROM:+0100
TZOFFSETTO:+0200
TZNAME:CEST
DTSTART:20250330T010000
END:DAYLIGHT
BEGIN:STANDARD
TZOFFSETFROM:+0200
TZOFFSETTO:+0100
TZNAME:CET
DTSTART:20251026T010000
END:STANDARD
BEGIN:DAYLIGHT
TZOFFSETFROM:+0100
TZOFFSETTO:+0200
TZNAME:CEST
DTSTART:20260329T010000
END:DAYLIGHT
BEGIN:STANDARD
TZOFFSETFROM:+0200
TZOFFSETTO:+0100
TZNAME:CET
DTSTART:20261025T010000
END:STANDARD
END:VTIMEZONE
BEGIN:VEVENT
DTSTART;TZID=Europe/Berlin:20250910T190000
DTEND;TZID=Europe/Berlin:20250910T210000
DTSTAMP:20260421T133234
CREATED:20250522T082221Z
LAST-MODIFIED:20250825T105347Z
UID:14572-1757530800-1757538000@alt.alt-pankow.de
SUMMARY:Orgelkonzert mit Tom Rioult · Frankreich
DESCRIPTION:Orgelherbst 2025\nChant de Paix (Gesang des Friedens)\nWerke von Bach\, Jehan Alain\, Duruflé und Langlais \nDie klagenden »Litanies« sind das wohl bekannteste Orgelwerk des französischen Komponisten Jehan Alain (1911-1940). 1939 wurde er zum Krieg einberufen und fiel 29-jährig. Er hinterließ eine Frau und drei kleine Kinder. Maurice Duruflé (1902-1986) komponierte als Nachruf das »Prélude and Fugue on A-L-A-I-N«. Tom Rioult umrahmt diese Werke mit Johann Sebastian Bachs Fantaisie und Fuge g-moll und Jean Langlais&#8216; »Chant de Paix«. \n\nTom Rioult\, geboren 1997\, ist Preisträger internationaler Orgelwettbewerbe in Freiburg\, Saint-Maurice\, Vicenza\, Armagh\, Saint-Albans\, Atlanta\, Miami und Seoul. Er studierte am Konservatorium von Caen (Normandie) Posaune und Orgel. Am Lyoner Konservatorium folgte das Orgel-Masterstudium. Derzeit ist Tom Rioult Titularorganist der Cavaillé-Coll-Orgel in der Kathedrale von Lisieux (Normandie). Außerdem unterrichtet er Orgel am Konservatorium von Lisieux und verfolgt eine rege Konzerttätigkeit. \n\nEintritt frei. Kollekte am Ausgang.
URL:https://alt.alt-pankow.de/veranstaltung/orgelkonzert-mit-tom-rioult-frankreich/
LOCATION:Alte Pfarrkirche &#8222;Zu den vier Evangelisten&#8220;\, Breite Straße 37\, Berlin\, 13187\, Deutschland
CATEGORIES:Konzerte,Orgelherbst 2025
ATTACH;FMTTYPE=image/jpeg:https://alt.alt-pankow.de/wp-content/uploads/2025/05/Tom_rioult_web.jpg
END:VEVENT
END:VCALENDAR