BEGIN:VCALENDAR
VERSION:2.0
PRODID:-//Ev. Kirchengemeinde Alt-Pankow - ECPv6.15.15//NONSGML v1.0//EN
CALSCALE:GREGORIAN
METHOD:PUBLISH
X-WR-CALNAME:Ev. Kirchengemeinde Alt-Pankow
X-ORIGINAL-URL:https://alt.alt-pankow.de
X-WR-CALDESC:Veranstaltungen für Ev. Kirchengemeinde Alt-Pankow
REFRESH-INTERVAL;VALUE=DURATION:PT1H
X-Robots-Tag:noindex
X-PUBLISHED-TTL:PT1H
BEGIN:VTIMEZONE
TZID:Europe/Berlin
BEGIN:DAYLIGHT
TZOFFSETFROM:+0100
TZOFFSETTO:+0200
TZNAME:CEST
DTSTART:20240331T010000
END:DAYLIGHT
BEGIN:STANDARD
TZOFFSETFROM:+0200
TZOFFSETTO:+0100
TZNAME:CET
DTSTART:20241027T010000
END:STANDARD
BEGIN:DAYLIGHT
TZOFFSETFROM:+0100
TZOFFSETTO:+0200
TZNAME:CEST
DTSTART:20250330T010000
END:DAYLIGHT
BEGIN:STANDARD
TZOFFSETFROM:+0200
TZOFFSETTO:+0100
TZNAME:CET
DTSTART:20251026T010000
END:STANDARD
BEGIN:DAYLIGHT
TZOFFSETFROM:+0100
TZOFFSETTO:+0200
TZNAME:CEST
DTSTART:20260329T010000
END:DAYLIGHT
BEGIN:STANDARD
TZOFFSETFROM:+0200
TZOFFSETTO:+0100
TZNAME:CET
DTSTART:20261025T010000
END:STANDARD
END:VTIMEZONE
BEGIN:VEVENT
DTSTART;TZID=Europe/Berlin:20250909T170000
DTEND;TZID=Europe/Berlin:20250909T183000
DTSTAMP:20260421T133108
CREATED:20250110T142630Z
LAST-MODIFIED:20250610T103140Z
UID:13825-1757437200-1757442600@alt.alt-pankow.de
SUMMARY:Trauercafé
DESCRIPTION:des Ambulanten Caritas-Hospizes \nBonhoeffer-Saal in der Alten Pfarrkirche Pankow\, Breite Straße 37\nAnmeldung erbeten unter Tel. 030-666340360
URL:https://alt.alt-pankow.de/veranstaltung/trauercafe-25/
LOCATION:Alte Pfarrkirche · Bonhoeffer-Saal\, Breite Straße 37\, Berlin\, 13187\, Deutschland
CATEGORIES:Beratung,Gespräche
END:VEVENT
BEGIN:VEVENT
DTSTART;TZID=Europe/Berlin:20250909T180000
DTEND;TZID=Europe/Berlin:20250909T220000
DTSTAMP:20260421T133108
CREATED:20250825T151333Z
LAST-MODIFIED:20250825T151333Z
UID:15022-1757440800-1757455200@alt.alt-pankow.de
SUMMARY:Junge Gemeinde
DESCRIPTION:
URL:https://alt.alt-pankow.de/veranstaltung/junge-gemeinde/
LOCATION:Ev. Gemeindehaus Alt-Pankow · Garten\, Breite Straße 38\, Berlin\, 13187\, Deutschland
CATEGORIES:Gemeindekreise,Gespräche,Jugendliche
END:VEVENT
BEGIN:VEVENT
DTSTART;TZID=Europe/Berlin:20250909T193000
DTEND;TZID=Europe/Berlin:20250909T210000
DTSTAMP:20260421T133108
CREATED:20250825T104952Z
LAST-MODIFIED:20250909T140043Z
UID:14914-1757446200-1757451600@alt.alt-pankow.de
SUMMARY:Johannes Bobrowski: Lesung · Musik · Film
DESCRIPTION:Zeit \ngeht umher \nin Kleidern \naus Glück \nund Unglück. \nJohannes Bobrowski\nRuf und Zuruf\nVor 60 Jahren\, am 2. September 1965\, starb Johannes Bobrowski im Alter von nur 48 Jahren in Ost-Berlin. Aus diesem Anlass wollen wir ihn auch wieder hörbar machen. Heute zählt Bobrowski zu den markantesten Vertretern der deutschsprachigen Literatur des 20. Jahrhunderts. Corinna Harfouch wird ihre Auswahl des großen Dichters und Prosaautoren vortragen. Dietrich Sagert spricht Verbindendes  und ergänzt die Textauswahl. Klaus Völker war ein Freund Bobrowskis und steht heute auch der Internationalen Johannes-Bobrowski-Gesellschaft vor. Er wird auch von der Beerdigung in Berlin-Friedrichshagen erzählen. Kristian Wegscheider wird die Buxtehude-Erzählung vortragen. Als Orgelbaumeister hat seine Werkstatt im Jahr 2021 die Orgel für die Alte Pfarrkirche Pankow fertiggestellt. So ergibt sich an diesem Abend eine besondere Verbindung zum Dichter: Johannes Bobrowski spielte schon in seiner Jugend Orgel\, bevorzugt auch Buxtehude und Bach. Die Kantorin und Organistin der Pfarrkirche\, Rudite Livmane\, spielt heute deren Werke. Zum Beginn des Abends werden auf einer Leinwand Ausschnitte aus Filmen von Volker Koepp zu Johannes Bobrowskis Landschaften zu sehen sein. \n\n\n\n\n\nIn Kooperation mit Vineta Film. Bildrechte: Volker Koepp \n\n\n\n\n\nEintritt frei. Kollekte am Ausgang
URL:https://alt.alt-pankow.de/veranstaltung/14914/
LOCATION:Alte Pfarrkirche &#8222;Zu den vier Evangelisten&#8220;\, Breite Straße 37\, Berlin\, 13187\, Deutschland
CATEGORIES:im Kiez,Lesung
ATTACH;FMTTYPE=image/jpeg:https://alt.alt-pankow.de/wp-content/uploads/2025/08/9-8-2025-bobrowski.jpg
END:VEVENT
END:VCALENDAR