BEGIN:VCALENDAR
VERSION:2.0
PRODID:-//Ev. Kirchengemeinde Alt-Pankow - ECPv6.15.15//NONSGML v1.0//EN
CALSCALE:GREGORIAN
METHOD:PUBLISH
X-WR-CALNAME:Ev. Kirchengemeinde Alt-Pankow
X-ORIGINAL-URL:https://alt.alt-pankow.de
X-WR-CALDESC:Veranstaltungen für Ev. Kirchengemeinde Alt-Pankow
REFRESH-INTERVAL;VALUE=DURATION:PT1H
X-Robots-Tag:noindex
X-PUBLISHED-TTL:PT1H
BEGIN:VTIMEZONE
TZID:Europe/Berlin
BEGIN:DAYLIGHT
TZOFFSETFROM:+0100
TZOFFSETTO:+0200
TZNAME:CEST
DTSTART:20240331T010000
END:DAYLIGHT
BEGIN:STANDARD
TZOFFSETFROM:+0200
TZOFFSETTO:+0100
TZNAME:CET
DTSTART:20241027T010000
END:STANDARD
BEGIN:DAYLIGHT
TZOFFSETFROM:+0100
TZOFFSETTO:+0200
TZNAME:CEST
DTSTART:20250330T010000
END:DAYLIGHT
BEGIN:STANDARD
TZOFFSETFROM:+0200
TZOFFSETTO:+0100
TZNAME:CET
DTSTART:20251026T010000
END:STANDARD
BEGIN:DAYLIGHT
TZOFFSETFROM:+0100
TZOFFSETTO:+0200
TZNAME:CEST
DTSTART:20260329T010000
END:DAYLIGHT
BEGIN:STANDARD
TZOFFSETFROM:+0200
TZOFFSETTO:+0100
TZNAME:CET
DTSTART:20261025T010000
END:STANDARD
END:VTIMEZONE
BEGIN:VEVENT
DTSTART;TZID=Europe/Berlin:20250903T190000
DTEND;TZID=Europe/Berlin:20250903T210000
DTSTAMP:20260421T133055
CREATED:20250522T081843Z
LAST-MODIFIED:20250825T113711Z
UID:14567-1756926000-1756933200@alt.alt-pankow.de
SUMMARY:Orgelkonzert mit LKMD Gunter Kennel
DESCRIPTION:Eröffnungskonzert zum 5. Orgelherbst 2025\n»Verleih uns Frieden«\nWerke von Bach\, Mendelssohn und Gunter Kennel  \nFelix Mendelssohn Bartholdy\n(1809-1847)\nSonate I f-Moll op 65/1\nAllegro moderato – Andante – Recitativ – Allegro assai vivace \nGunter Kennel\n(geb. 1961)\nGib Frieden\, Herr\, gib Frieden\nChoralpräludium \nFelix Mendelssohn Bartholdy\nPräludium und Fuge d-Moll op. 37/3\nEntfällt ggf. \nGunter Kennel\nDa-Pacem-Tocca-Li-ta-nei \nJohann Sebastian Bach\n(1685-1750)\nPräludium in e\nBWV 548/I \nFelix Woyrsch\n(1860-1944)\nVerleih’ uns Frieden gnädiglich\nop. 59 Nr. 10 (Im Kriegsjahr 1918) \nJohann Sebastian Bach\nFuga in e\nBWV 548/II \nJoseph Gabriel Rheinberger\n(1834-1901)\nAus der Sonate Nr. 20 F-Dur „Zur Friedensfeier“\nPastorale &#8211; Finale \n\nGunther Kennel (geb. 1961) studierte Kirchenmusik\, Orgel und Theologie in München und London. Er konzertierte und dirigierte in Deutschland\, Europa und Übersee. Neben der Pflege des traditionellen Orgelrepertoires ergänzt er seine Programme häufig mit eigenen Kompositionen. Seit 2002 ist Gunter Kennel Landeskirchenmusikdirektor in Berlin\, Brandenburg und der schlesischen Oberlausitz. Er lehrt Kirchenmusik an der Universität der Künste und der Humboldt-Universität Berlin. \n\nEintritt frei. Kollekte am Ausgang.
URL:https://alt.alt-pankow.de/veranstaltung/orgelkonzert-mit-prof-gunter-kennel-landeskirchenmusikdirektor-berlin/
LOCATION:Alte Pfarrkirche &#8222;Zu den vier Evangelisten&#8220;\, Breite Straße 37\, Berlin\, 13187\, Deutschland
CATEGORIES:Konzerte,Orgelherbst 2025
ATTACH;FMTTYPE=image/jpeg:https://alt.alt-pankow.de/wp-content/uploads/2025/05/KWG-4-Gunter_Kennel_web.jpg
END:VEVENT
BEGIN:VEVENT
DTSTART;TZID=Europe/Berlin:20250903T193000
DTEND;TZID=Europe/Berlin:20250903T210000
DTSTAMP:20260421T133055
CREATED:20250110T143746Z
LAST-MODIFIED:20250110T143746Z
UID:13844-1756927800-1756933200@alt.alt-pankow.de
SUMMARY:Tanz und Besinnung
DESCRIPTION:Kontakt: Sandra Pawlig Tel. 015906739626
URL:https://alt.alt-pankow.de/veranstaltung/tanz-und-besinnung-46/
LOCATION:Ev. Gemeindehaus Alt-Pankow · Gemeindesaal\, Breite Straße 38\, Berlin\, 13187\, Deutschland
CATEGORIES:Gemeindekreise,Meditation
END:VEVENT
END:VCALENDAR