BEGIN:VCALENDAR
VERSION:2.0
PRODID:-//Ev. Kirchengemeinde Alt-Pankow - ECPv6.15.15//NONSGML v1.0//EN
CALSCALE:GREGORIAN
METHOD:PUBLISH
X-WR-CALNAME:Ev. Kirchengemeinde Alt-Pankow
X-ORIGINAL-URL:https://alt.alt-pankow.de
X-WR-CALDESC:Veranstaltungen für Ev. Kirchengemeinde Alt-Pankow
REFRESH-INTERVAL;VALUE=DURATION:PT1H
X-Robots-Tag:noindex
X-PUBLISHED-TTL:PT1H
BEGIN:VTIMEZONE
TZID:Europe/Berlin
BEGIN:DAYLIGHT
TZOFFSETFROM:+0100
TZOFFSETTO:+0200
TZNAME:CEST
DTSTART:20240331T010000
END:DAYLIGHT
BEGIN:STANDARD
TZOFFSETFROM:+0200
TZOFFSETTO:+0100
TZNAME:CET
DTSTART:20241027T010000
END:STANDARD
BEGIN:DAYLIGHT
TZOFFSETFROM:+0100
TZOFFSETTO:+0200
TZNAME:CEST
DTSTART:20250330T010000
END:DAYLIGHT
BEGIN:STANDARD
TZOFFSETFROM:+0200
TZOFFSETTO:+0100
TZNAME:CET
DTSTART:20251026T010000
END:STANDARD
BEGIN:DAYLIGHT
TZOFFSETFROM:+0100
TZOFFSETTO:+0200
TZNAME:CEST
DTSTART:20260329T010000
END:DAYLIGHT
BEGIN:STANDARD
TZOFFSETFROM:+0200
TZOFFSETTO:+0100
TZNAME:CET
DTSTART:20261025T010000
END:STANDARD
END:VTIMEZONE
BEGIN:VEVENT
DTSTART;TZID=Europe/Berlin:20250708T160000
DTEND;TZID=Europe/Berlin:20250708T170000
DTSTAMP:20260421T164149
CREATED:20250110T105828Z
LAST-MODIFIED:20250610T103522Z
UID:13669-1751990400-1751994000@alt.alt-pankow.de
SUMMARY:Christenlehre 1.-3. Klasse
DESCRIPTION:mit Renate Wagner-Schill \n\nEinmal pro Woche treffen sich Kinder unserer Gemeinde bzw. aus dem Pankower Kiez zur Christenlehre. Wir hören Geschichten\, meist aus der Bibel\, singen\, beten\, tanzen\, spielen und basteln\, essen und feiern gemeinsam\, bereiten Feste vor\, gestalten die Kinderecke unserer Kirche und Familiengottesdienste &#8211; herzlich willkommen!
URL:https://alt.alt-pankow.de/veranstaltung/christenlehre-1-3-klasse-40/
LOCATION:Ev. Gemeindehaus Alt-Pankow · Keller\, Breite Straße 38\, Berlin\, 13187\, Deutschland
CATEGORIES:für Kinder
END:VEVENT
BEGIN:VEVENT
DTSTART;TZID=Europe/Berlin:20250708T170000
DTEND;TZID=Europe/Berlin:20250708T180000
DTSTAMP:20260421T164150
CREATED:20250110T105555Z
LAST-MODIFIED:20250610T103437Z
UID:13661-1751994000-1751997600@alt.alt-pankow.de
SUMMARY:Christenlehre 4.-6. Klasse
DESCRIPTION:mit Renate Wagner-Schill \n\nEinmal pro Woche treffen sich Kinder unserer Gemeinde bzw. aus dem Pankower Kiez zur Christenlehre. Wir hören Geschichten\, meist aus der Bibel\, singen\, beten\, tanzen\, spielen und basteln\, essen und feiern gemeinsam\, bereiten Feste vor\, gestalten die Kinderecke unserer Kirche und Familiengottesdienste &#8211; herzlich willkommen!
URL:https://alt.alt-pankow.de/veranstaltung/christenlehre-4-6-klasse-39/
LOCATION:Ev. Gemeindehaus Alt-Pankow · Keller\, Breite Straße 38\, Berlin\, 13187\, Deutschland
CATEGORIES:für Kinder
END:VEVENT
BEGIN:VEVENT
DTSTART;TZID=Europe/Berlin:20250708T170000
DTEND;TZID=Europe/Berlin:20250708T183000
DTSTAMP:20260421T164150
CREATED:20250110T142540Z
LAST-MODIFIED:20250610T103147Z
UID:13817-1751994000-1751999400@alt.alt-pankow.de
SUMMARY:Trauercafé
DESCRIPTION:des Ambulanten Caritas-Hospizes \nBonhoeffer-Saal in der Alten Pfarrkirche Pankow\, Breite Straße 37\nAnmeldung erbeten unter Tel. 030-666340360
URL:https://alt.alt-pankow.de/veranstaltung/trauercafe-23/
LOCATION:Alte Pfarrkirche · Bonhoeffer-Saal\, Breite Straße 37\, Berlin\, 13187\, Deutschland
CATEGORIES:Beratung,Gespräche
END:VEVENT
BEGIN:VEVENT
DTSTART;TZID=Europe/Berlin:20250708T180000
DTEND;TZID=Europe/Berlin:20250708T220000
DTSTAMP:20260421T164150
CREATED:20250110T142146Z
LAST-MODIFIED:20250110T142146Z
UID:13806-1751997600-1752012000@alt.alt-pankow.de
SUMMARY:Junge Gemeinde
DESCRIPTION:
URL:https://alt.alt-pankow.de/veranstaltung/junge-gemeinde-90/
LOCATION:Ev. Gemeindehaus Alt-Pankow · Garten\, Breite Straße 38\, Berlin\, 13187\, Deutschland
CATEGORIES:Gemeindekreise,Gespräche,Jugendliche
END:VEVENT
END:VCALENDAR