BEGIN:VCALENDAR
VERSION:2.0
PRODID:-//Ev. Kirchengemeinde Alt-Pankow - ECPv6.15.15//NONSGML v1.0//EN
CALSCALE:GREGORIAN
METHOD:PUBLISH
X-ORIGINAL-URL:https://alt.alt-pankow.de
X-WR-CALDESC:Veranstaltungen fÃ¼r Ev. Kirchengemeinde Alt-Pankow
REFRESH-INTERVAL;VALUE=DURATION:PT1H
X-Robots-Tag:noindex
X-PUBLISHED-TTL:PT1H
BEGIN:VTIMEZONE
TZID:Europe/Berlin
BEGIN:DAYLIGHT
TZOFFSETFROM:+0100
TZOFFSETTO:+0200
TZNAME:CEST
DTSTART:20240331T010000
END:DAYLIGHT
BEGIN:STANDARD
TZOFFSETFROM:+0200
TZOFFSETTO:+0100
TZNAME:CET
DTSTART:20241027T010000
END:STANDARD
BEGIN:DAYLIGHT
TZOFFSETFROM:+0100
TZOFFSETTO:+0200
TZNAME:CEST
DTSTART:20250330T010000
END:DAYLIGHT
BEGIN:STANDARD
TZOFFSETFROM:+0200
TZOFFSETTO:+0100
TZNAME:CET
DTSTART:20251026T010000
END:STANDARD
BEGIN:DAYLIGHT
TZOFFSETFROM:+0100
TZOFFSETTO:+0200
TZNAME:CEST
DTSTART:20260329T010000
END:DAYLIGHT
BEGIN:STANDARD
TZOFFSETFROM:+0200
TZOFFSETTO:+0100
TZNAME:CET
DTSTART:20261025T010000
END:STANDARD
END:VTIMEZONE
BEGIN:VEVENT
DTSTART;TZID=Europe/Berlin:20250628T150000
DTEND;TZID=Europe/Berlin:20250628T220000
DTSTAMP:20260421T181346
CREATED:20250522T121944Z
LAST-MODIFIED:20250619T134847Z
UID:14645-1751122800-1751148000@alt.alt-pankow.de
SUMMARY:Sommerfest der Kirchengemeinde
DESCRIPTION:Das Gemeindehaus bzw der Gemeindegarten sind geschmÃ¼ckt\, die Technik steht. \n15 Uhr\nKaffee&Kuchen \n\nAngebote fÃ¼r Kinder vom Kindergarten\nLieder singen\nkleine Andacht\n\n17.30 Uhr\nBlÃ¤serserenade im Gemeindegarten\nÂ»Herz und Herz vereint zusammen\nVom Choral bis zum Jazz \n19 Uhr\nTanzen&Grillen \n&#8222;FrÃ¤ulein Winkelmann&#8220; spielt zum Tanz auf\, wozu Tanzmeister Ronald Kossellek KreistÃ¤nze anleitet.\nDie Junge Gemeinde wird Grillgut fleischlicher\, vegetarischer und veganer Natur vorbereiten. \nHerzlich willkommen! \n\nDarÃ¼ber hinaus sind kulinarische BeitrÃ¤ge\, sÃ¼ÃŸ wie herzhaft\, willkommen! \n 
URL:https://alt.alt-pankow.de/veranstaltung/sommerfest-der-kirchengemeinde/
LOCATION:Ev. Gemeindehaus Alt-Pankow Â· Garten\, Breite StraÃŸe 38\, Berlin\, 13187\, Deutschland
ATTACH;FMTTYPE=image/jpeg:https://alt.alt-pankow.de/wp-content/uploads/2025/05/28-6-2025_sommerfest.jpg
END:VEVENT
END:VCALENDAR