BEGIN:VCALENDAR
VERSION:2.0
PRODID:-//Ev. Kirchengemeinde Alt-Pankow - ECPv6.15.15//NONSGML v1.0//EN
CALSCALE:GREGORIAN
METHOD:PUBLISH
X-ORIGINAL-URL:https://alt.alt-pankow.de
X-WR-CALDESC:Veranstaltungen für Ev. Kirchengemeinde Alt-Pankow
REFRESH-INTERVAL;VALUE=DURATION:PT1H
X-Robots-Tag:noindex
X-PUBLISHED-TTL:PT1H
BEGIN:VTIMEZONE
TZID:Europe/Berlin
BEGIN:DAYLIGHT
TZOFFSETFROM:+0100
TZOFFSETTO:+0200
TZNAME:CEST
DTSTART:20240331T010000
END:DAYLIGHT
BEGIN:STANDARD
TZOFFSETFROM:+0200
TZOFFSETTO:+0100
TZNAME:CET
DTSTART:20241027T010000
END:STANDARD
BEGIN:DAYLIGHT
TZOFFSETFROM:+0100
TZOFFSETTO:+0200
TZNAME:CEST
DTSTART:20250330T010000
END:DAYLIGHT
BEGIN:STANDARD
TZOFFSETFROM:+0200
TZOFFSETTO:+0100
TZNAME:CET
DTSTART:20251026T010000
END:STANDARD
BEGIN:DAYLIGHT
TZOFFSETFROM:+0100
TZOFFSETTO:+0200
TZNAME:CEST
DTSTART:20260329T010000
END:DAYLIGHT
BEGIN:STANDARD
TZOFFSETFROM:+0200
TZOFFSETTO:+0100
TZNAME:CET
DTSTART:20261025T010000
END:STANDARD
END:VTIMEZONE
BEGIN:VEVENT
DTSTART;TZID=Europe/Berlin:20250627T120000
DTEND;TZID=Europe/Berlin:20250627T123000
DTSTAMP:20260421T180546
CREATED:20250110T152613Z
LAST-MODIFIED:20250110T152613Z
UID:14000-1751025600-1751027400@alt.alt-pankow.de
SUMMARY:Friedensgebet mit Orgelandacht
DESCRIPTION:
URL:https://alt.alt-pankow.de/veranstaltung/friedensgebet-mit-orgelandacht-95/
LOCATION:Alte Pfarrkirche &#8222;Zu den vier Evangelisten&#8220;\, Breite Straße 37\, Berlin\, 13187\, Deutschland
CATEGORIES:Andacht
END:VEVENT
BEGIN:VEVENT
DTSTART;TZID=Europe/Berlin:20250627T190000
DTEND;TZID=Europe/Berlin:20250627T210000
DTSTAMP:20260421T180546
CREATED:20250113T090800Z
LAST-MODIFIED:20250113T090815Z
UID:14106-1751050800-1751058000@alt.alt-pankow.de
SUMMARY:Bläserkreis · Generalprobe
DESCRIPTION:Fortgeschrittene Bläser sind herzlich willkommen!  \nAnmeldung: Michael Timm\nTel. 0175-2044747\nE-Mail: post@michatimm.de
URL:https://alt.alt-pankow.de/veranstaltung/blaeserkreis-6/
LOCATION:Alte Pfarrkirche &#8222;Zu den vier Evangelisten&#8220;\, Breite Straße 37\, Berlin\, 13187\, Deutschland
CATEGORIES:Bläserkreis,Kirchenmusik,Proben
END:VEVENT
END:VCALENDAR