BEGIN:VCALENDAR
VERSION:2.0
PRODID:-//Ev. Kirchengemeinde Alt-Pankow - ECPv6.15.15//NONSGML v1.0//EN
CALSCALE:GREGORIAN
METHOD:PUBLISH
X-WR-CALNAME:Ev. Kirchengemeinde Alt-Pankow
X-ORIGINAL-URL:https://alt.alt-pankow.de
X-WR-CALDESC:Veranstaltungen für Ev. Kirchengemeinde Alt-Pankow
REFRESH-INTERVAL;VALUE=DURATION:PT1H
X-Robots-Tag:noindex
X-PUBLISHED-TTL:PT1H
BEGIN:VTIMEZONE
TZID:Europe/Berlin
BEGIN:DAYLIGHT
TZOFFSETFROM:+0100
TZOFFSETTO:+0200
TZNAME:CEST
DTSTART:20240331T010000
END:DAYLIGHT
BEGIN:STANDARD
TZOFFSETFROM:+0200
TZOFFSETTO:+0100
TZNAME:CET
DTSTART:20241027T010000
END:STANDARD
BEGIN:DAYLIGHT
TZOFFSETFROM:+0100
TZOFFSETTO:+0200
TZNAME:CEST
DTSTART:20250330T010000
END:DAYLIGHT
BEGIN:STANDARD
TZOFFSETFROM:+0200
TZOFFSETTO:+0100
TZNAME:CET
DTSTART:20251026T010000
END:STANDARD
BEGIN:DAYLIGHT
TZOFFSETFROM:+0100
TZOFFSETTO:+0200
TZNAME:CEST
DTSTART:20260329T010000
END:DAYLIGHT
BEGIN:STANDARD
TZOFFSETFROM:+0200
TZOFFSETTO:+0100
TZNAME:CET
DTSTART:20261025T010000
END:STANDARD
END:VTIMEZONE
BEGIN:VEVENT
DTSTART;TZID=Europe/Berlin:20250626T160000
DTEND;TZID=Europe/Berlin:20250626T164500
DTSTAMP:20260421T180320
CREATED:20250110T141307Z
LAST-MODIFIED:20250110T141307Z
UID:13754-1750953600-1750956300@alt.alt-pankow.de
SUMMARY:Kinderchor · Kinder ab 2. Klasse
DESCRIPTION:Kontakt\nKirchenmusikerin Rudite Livmane\nT 0157- 387 80 926\nkirchenmusik@alt-pankow.de
URL:https://alt.alt-pankow.de/veranstaltung/kinderchor-%c2%b7-kinder-ab-2-klasse-71/
LOCATION:Ev. Gemeindehaus Alt-Pankow · Gemeindesaal\, Breite Straße 38\, Berlin\, 13187\, Deutschland
CATEGORIES:für Kinder,Kirchenmusik,Proben
END:VEVENT
BEGIN:VEVENT
DTSTART;TZID=Europe/Berlin:20250626T190000
DTEND;TZID=Europe/Berlin:20250626T210000
DTSTAMP:20260421T180320
CREATED:20250113T090736Z
LAST-MODIFIED:20250113T090741Z
UID:14105-1750964400-1750971600@alt.alt-pankow.de
SUMMARY:Bläserkreis · Hauptprobe
DESCRIPTION:Fortgeschrittene Bläser sind herzlich willkommen!  \nAnmeldung: Michael Timm\nTel. 0175-2044747\nE-Mail: post@michatimm.de
URL:https://alt.alt-pankow.de/veranstaltung/blaeserkreis-%c2%b7-hauotprobe/
LOCATION:Alte Pfarrkirche &#8222;Zu den vier Evangelisten&#8220;\, Breite Straße 37\, Berlin\, 13187\, Deutschland
CATEGORIES:Bläserkreis,Kirchenmusik,Proben
END:VEVENT
BEGIN:VEVENT
DTSTART;TZID=Europe/Berlin:20250626T193000
DTEND;TZID=Europe/Berlin:20250626T210000
DTSTAMP:20260421T180320
CREATED:20250619T145531Z
LAST-MODIFIED:20250619T145533Z
UID:14759-1750966200-1750971600@alt.alt-pankow.de
SUMMARY:Zwei Cembali im Duo
DESCRIPTION:Andreas Marti · Thomas Lanz\nKompositionen von Krebs\, Bach und Blanco \nZwei Cembali im Duo &#8211; eine seltene Kombination. In der Musikgeschichte hatte sie eine kurze Blütezeit im 18. Jahrhundert\, bei Bach\, seinen Söhnen und Schülern. Orgel-Duos gab es vor allem in Spanien\, wo in den grossen Kirchen häufig zwei Chororgeln einander gegenüber gebaut wurden; diese Musik ist gleichermassen für das Cembalo bestimmt und wirkt trotz ihrer Herkunft aus dem Kirchenraum heiter und verspielt.
URL:https://alt.alt-pankow.de/veranstaltung/zwei-cembali-im-duo/
LOCATION:Alte Pfarrkirche &#8222;Zu den vier Evangelisten&#8220;\, Breite Straße 37\, Berlin\, 13187\, Deutschland
CATEGORIES:Konzerte
ATTACH;FMTTYPE=image/jpeg:https://alt.alt-pankow.de/wp-content/uploads/2025/06/26-6-2025_web.jpg
END:VEVENT
BEGIN:VEVENT
DTSTART;TZID=Europe/Berlin:20250626T193000
DTEND;TZID=Europe/Berlin:20250626T213000
DTSTAMP:20260421T180320
CREATED:20250110T151053Z
LAST-MODIFIED:20250110T151104Z
UID:13945-1750966200-1750973400@alt.alt-pankow.de
SUMMARY:collegium instrumentale
DESCRIPTION:
URL:https://alt.alt-pankow.de/veranstaltung/collegium-instrumentale-83/
LOCATION:Ev. Gemeindehaus Alt-Pankow · Gemeindesaal\, Breite Straße 38\, Berlin\, 13187\, Deutschland
CATEGORIES:Kirchenmusik,Proben
END:VEVENT
END:VCALENDAR