BEGIN:VCALENDAR
VERSION:2.0
PRODID:-//Ev. Kirchengemeinde Alt-Pankow - ECPv6.15.15//NONSGML v1.0//EN
CALSCALE:GREGORIAN
METHOD:PUBLISH
X-WR-CALNAME:Ev. Kirchengemeinde Alt-Pankow
X-ORIGINAL-URL:https://alt.alt-pankow.de
X-WR-CALDESC:Veranstaltungen für Ev. Kirchengemeinde Alt-Pankow
REFRESH-INTERVAL;VALUE=DURATION:PT1H
X-Robots-Tag:noindex
X-PUBLISHED-TTL:PT1H
BEGIN:VTIMEZONE
TZID:Europe/Berlin
BEGIN:DAYLIGHT
TZOFFSETFROM:+0100
TZOFFSETTO:+0200
TZNAME:CEST
DTSTART:20240331T010000
END:DAYLIGHT
BEGIN:STANDARD
TZOFFSETFROM:+0200
TZOFFSETTO:+0100
TZNAME:CET
DTSTART:20241027T010000
END:STANDARD
BEGIN:DAYLIGHT
TZOFFSETFROM:+0100
TZOFFSETTO:+0200
TZNAME:CEST
DTSTART:20250330T010000
END:DAYLIGHT
BEGIN:STANDARD
TZOFFSETFROM:+0200
TZOFFSETTO:+0100
TZNAME:CET
DTSTART:20251026T010000
END:STANDARD
BEGIN:DAYLIGHT
TZOFFSETFROM:+0100
TZOFFSETTO:+0200
TZNAME:CEST
DTSTART:20260329T010000
END:DAYLIGHT
BEGIN:STANDARD
TZOFFSETFROM:+0200
TZOFFSETTO:+0100
TZNAME:CET
DTSTART:20261025T010000
END:STANDARD
END:VTIMEZONE
BEGIN:VEVENT
DTSTART;TZID=Europe/Berlin:20250621T190000
DTEND;TZID=Europe/Berlin:20250621T200000
DTSTAMP:20260421T180132
CREATED:20250617T114016Z
LAST-MODIFIED:20250617T114941Z
UID:14744-1750532400-1750536000@alt.alt-pankow.de
SUMMARY:Fête de la Musique: Zentraler Singalong in Pankow
DESCRIPTION:In Kooperation mit dem Chorverband Berlin und dem Landesmusikrat Berlin findet ein großer Singalong an der &#8222;Pankow Kirche&#8220; in der Breiten Straße statt.\nDer Landesmusikrat hat 2025 zum Jahr der Stimme erklärt und mit Jocelyn B. Smith eine starke Botschafterin gewonnen. Sie wird vor Ort sein und gemeinsam mit Euch weltbekannte Songs anstimmen:\n\nOde an die Freude\nJocelyn B. Smith – Maria\nLeonard Cohen &#8211; Halleluja\nDer Ewige Kreis (Der König der Löwen)\n\nIm Anschluss singen wir zusammen die beliebtesten Songs der Musikgeschichte von den Beatles\, ABBA vielen weiteren Held:innen.\n\nAuch an diesen Orten wird um 19 Uhr gesungen – einfach vorbeikommen und mitmachen:\nZukunftswerkstatt HeinersdorfFreizeithaus WeißenseeStadtgut BlankenfeldeAmtshaus BuchholzKommt vorbei und bringt Freundinnen\, Freunde und Nachbar:innen mit!
URL:https://alt.alt-pankow.de/veranstaltung/fete-de-la-musique-zentraler-singalong-in-pankow/
LOCATION:Alte Pfarrkirche &#8222;Zu den vier Evangelisten&#8220;\, Breite Straße 37\, Berlin\, 13187\, Deutschland
CATEGORIES:im Kiez,Konzerte
ATTACH;FMTTYPE=image/jpeg:https://alt.alt-pankow.de/wp-content/uploads/2025/06/21-6-2025.jpg
END:VEVENT
END:VCALENDAR