BEGIN:VCALENDAR
VERSION:2.0
PRODID:-//Ev. Kirchengemeinde Alt-Pankow - ECPv6.15.15//NONSGML v1.0//EN
CALSCALE:GREGORIAN
METHOD:PUBLISH
X-ORIGINAL-URL:https://alt.alt-pankow.de
X-WR-CALDESC:Veranstaltungen für Ev. Kirchengemeinde Alt-Pankow
REFRESH-INTERVAL;VALUE=DURATION:PT1H
X-Robots-Tag:noindex
X-PUBLISHED-TTL:PT1H
BEGIN:VTIMEZONE
TZID:Europe/Berlin
BEGIN:DAYLIGHT
TZOFFSETFROM:+0100
TZOFFSETTO:+0200
TZNAME:CEST
DTSTART:20240331T010000
END:DAYLIGHT
BEGIN:STANDARD
TZOFFSETFROM:+0200
TZOFFSETTO:+0100
TZNAME:CET
DTSTART:20241027T010000
END:STANDARD
BEGIN:DAYLIGHT
TZOFFSETFROM:+0100
TZOFFSETTO:+0200
TZNAME:CEST
DTSTART:20250330T010000
END:DAYLIGHT
BEGIN:STANDARD
TZOFFSETFROM:+0200
TZOFFSETTO:+0100
TZNAME:CET
DTSTART:20251026T010000
END:STANDARD
BEGIN:DAYLIGHT
TZOFFSETFROM:+0100
TZOFFSETTO:+0200
TZNAME:CEST
DTSTART:20260329T010000
END:DAYLIGHT
BEGIN:STANDARD
TZOFFSETFROM:+0200
TZOFFSETTO:+0100
TZNAME:CET
DTSTART:20261025T010000
END:STANDARD
END:VTIMEZONE
BEGIN:VEVENT
DTSTART;TZID=Europe/Berlin:20250616T160000
DTEND;TZID=Europe/Berlin:20250616T163000
DTSTAMP:20260421T180540
CREATED:20250110T140417Z
LAST-MODIFIED:20250110T140417Z
UID:13709-1750089600-1750091400@alt.alt-pankow.de
SUMMARY:Kinderchor · 4-6 Jahre
DESCRIPTION:Kontakt\nKirchenmusikerin Rudite Livmane\nT 0157- 387 80 926\nkirchenmusik@alt-pankow.de
URL:https://alt.alt-pankow.de/veranstaltung/kinderchor-%c2%b7-4-6-jahre-70/
LOCATION:Ev. Gemeindehaus Alt-Pankow · Gemeindesaal\, Breite Straße 38\, Berlin\, 13187\, Deutschland
CATEGORIES:für Kinder,Kirchenmusik,Proben
END:VEVENT
BEGIN:VEVENT
DTSTART;TZID=Europe/Berlin:20250616T180000
DTEND;TZID=Europe/Berlin:20250616T183000
DTSTAMP:20260421T180540
CREATED:20250110T153737Z
LAST-MODIFIED:20250110T153737Z
UID:14042-1750096800-1750098600@alt.alt-pankow.de
SUMMARY:Friedensgebet
DESCRIPTION:
URL:https://alt.alt-pankow.de/veranstaltung/friedensgebet-87/
LOCATION:Alte Pfarrkirche &#8222;Zu den vier Evangelisten&#8220;\, Breite Straße 37\, Berlin\, 13187\, Deutschland
CATEGORIES:Andacht,Gottesdienste
END:VEVENT
BEGIN:VEVENT
DTSTART;TZID=Europe/Berlin:20250616T193000
DTEND;TZID=Europe/Berlin:20250616T213000
DTSTAMP:20260421T180540
CREATED:20250110T104324Z
LAST-MODIFIED:20250110T104324Z
UID:13602-1750102200-1750109400@alt.alt-pankow.de
SUMMARY:Kirchenchor
DESCRIPTION:
URL:https://alt.alt-pankow.de/veranstaltung/kirchenchor-92/
LOCATION:Alte Pfarrkirche &#8222;Zu den vier Evangelisten&#8220;\, Breite Straße 37\, Berlin\, 13187\, Deutschland
CATEGORIES:Kirchenmusik,Proben
END:VEVENT
END:VCALENDAR