BEGIN:VCALENDAR
VERSION:2.0
PRODID:-//Ev. Kirchengemeinde Alt-Pankow - ECPv6.15.15//NONSGML v1.0//EN
CALSCALE:GREGORIAN
METHOD:PUBLISH
X-WR-CALNAME:Ev. Kirchengemeinde Alt-Pankow
X-ORIGINAL-URL:https://alt.alt-pankow.de
X-WR-CALDESC:Veranstaltungen fÃ¼r Ev. Kirchengemeinde Alt-Pankow
REFRESH-INTERVAL;VALUE=DURATION:PT1H
X-Robots-Tag:noindex
X-PUBLISHED-TTL:PT1H
BEGIN:VTIMEZONE
TZID:Europe/Berlin
BEGIN:DAYLIGHT
TZOFFSETFROM:+0100
TZOFFSETTO:+0200
TZNAME:CEST
DTSTART:20240331T010000
END:DAYLIGHT
BEGIN:STANDARD
TZOFFSETFROM:+0200
TZOFFSETTO:+0100
TZNAME:CET
DTSTART:20241027T010000
END:STANDARD
BEGIN:DAYLIGHT
TZOFFSETFROM:+0100
TZOFFSETTO:+0200
TZNAME:CEST
DTSTART:20250330T010000
END:DAYLIGHT
BEGIN:STANDARD
TZOFFSETFROM:+0200
TZOFFSETTO:+0100
TZNAME:CET
DTSTART:20251026T010000
END:STANDARD
BEGIN:DAYLIGHT
TZOFFSETFROM:+0100
TZOFFSETTO:+0200
TZNAME:CEST
DTSTART:20260329T010000
END:DAYLIGHT
BEGIN:STANDARD
TZOFFSETFROM:+0200
TZOFFSETTO:+0100
TZNAME:CET
DTSTART:20261025T010000
END:STANDARD
END:VTIMEZONE
BEGIN:VEVENT
DTSTART;TZID=Europe/Berlin:20250612T160000
DTEND;TZID=Europe/Berlin:20250612T164500
DTSTAMP:20260421T180320
CREATED:20250110T141216Z
LAST-MODIFIED:20250110T141216Z
UID:13744-1749744000-1749746700@alt.alt-pankow.de
SUMMARY:Kinderchor Â· Kinder ab 2. Klasse
DESCRIPTION:Kontakt\nKirchenmusikerin Rudite Livmane\nT 0157- 387 80 926\nkirchenmusik@alt-pankow.de
URL:https://alt.alt-pankow.de/veranstaltung/kinderchor-%c2%b7-kinder-ab-2-klasse-69/
LOCATION:Ev. Gemeindehaus Alt-Pankow Â· Gemeindesaal\, Breite StraÃŸe 38\, Berlin\, 13187\, Deutschland
CATEGORIES:fÃ¼r Kinder,Kirchenmusik,Proben
END:VEVENT
BEGIN:VEVENT
DTSTART;TZID=Europe/Berlin:20250612T180000
DTEND;TZID=Europe/Berlin:20250612T200000
DTSTAMP:20260421T180320
CREATED:20250110T154801Z
LAST-MODIFIED:20250110T154801Z
UID:14069-1749751200-1749758400@alt.alt-pankow.de
SUMMARY:GesprÃ¤chskreis
DESCRIPTION:Kontakt: Donata Kleber\, Tel. 030-9122323 \n 
URL:https://alt.alt-pankow.de/veranstaltung/gespraechskreis-20/
LOCATION:Ev. Gemeindehaus Alt-Pankow Â· Gemeindesaal\, Breite StraÃŸe 38\, Berlin\, 13187\, Deutschland
CATEGORIES:Gemeindekreise,GesprÃ¤che
END:VEVENT
BEGIN:VEVENT
DTSTART;TZID=Europe/Berlin:20250612T193000
DTEND;TZID=Europe/Berlin:20250612T213000
DTSTAMP:20260421T180320
CREATED:20250110T151029Z
LAST-MODIFIED:20250110T151029Z
UID:13943-1749756600-1749763800@alt.alt-pankow.de
SUMMARY:collegium instrumentale
DESCRIPTION:
URL:https://alt.alt-pankow.de/veranstaltung/collegium-instrumentale-81/
LOCATION:Ev. Gemeindehaus Alt-Pankow Â· Gemeindesaal\, Breite StraÃŸe 38\, Berlin\, 13187\, Deutschland
CATEGORIES:Kirchenmusik,Proben
END:VEVENT
END:VCALENDAR