BEGIN:VCALENDAR
VERSION:2.0
PRODID:-//Ev. Kirchengemeinde Alt-Pankow - ECPv6.15.15//NONSGML v1.0//EN
CALSCALE:GREGORIAN
METHOD:PUBLISH
X-ORIGINAL-URL:https://alt.alt-pankow.de
X-WR-CALDESC:Veranstaltungen für Ev. Kirchengemeinde Alt-Pankow
REFRESH-INTERVAL;VALUE=DURATION:PT1H
X-Robots-Tag:noindex
X-PUBLISHED-TTL:PT1H
BEGIN:VTIMEZONE
TZID:Europe/Berlin
BEGIN:DAYLIGHT
TZOFFSETFROM:+0100
TZOFFSETTO:+0200
TZNAME:CEST
DTSTART:20240331T010000
END:DAYLIGHT
BEGIN:STANDARD
TZOFFSETFROM:+0200
TZOFFSETTO:+0100
TZNAME:CET
DTSTART:20241027T010000
END:STANDARD
BEGIN:DAYLIGHT
TZOFFSETFROM:+0100
TZOFFSETTO:+0200
TZNAME:CEST
DTSTART:20250330T010000
END:DAYLIGHT
BEGIN:STANDARD
TZOFFSETFROM:+0200
TZOFFSETTO:+0100
TZNAME:CET
DTSTART:20251026T010000
END:STANDARD
BEGIN:DAYLIGHT
TZOFFSETFROM:+0100
TZOFFSETTO:+0200
TZNAME:CEST
DTSTART:20260329T010000
END:DAYLIGHT
BEGIN:STANDARD
TZOFFSETFROM:+0200
TZOFFSETTO:+0100
TZNAME:CET
DTSTART:20261025T010000
END:STANDARD
END:VTIMEZONE
BEGIN:VEVENT
DTSTART;TZID=Europe/Berlin:20250611T193000
DTEND;TZID=Europe/Berlin:20250611T210000
DTSTAMP:20260421T181428
CREATED:20250228T071906Z
LAST-MODIFIED:20250506T065318Z
UID:14354-1749670200-1749675600@alt.alt-pankow.de
SUMMARY:Ökumenisches Bibelgespräch
DESCRIPTION:Thema: &#8222;Die Wohnung Gottes unter den Menschen&#8220;\nLeitung: Pfarrerin i.R. Annemarie Werner\, Vorsitzende der AG Judentum und Christentum\, Berlin.
URL:https://alt.alt-pankow.de/veranstaltung/oekumenisches-bibelgespraech-3/
LOCATION:Ev. Gemeindehaus Alt-Pankow · Gemeindesaal\, Breite Straße 38\, Berlin\, 13187\, Deutschland
CATEGORIES:Gespräche,Ökumene Interreligiös
END:VEVENT
END:VCALENDAR