BEGIN:VCALENDAR
VERSION:2.0
PRODID:-//Ev. Kirchengemeinde Alt-Pankow - ECPv6.15.15//NONSGML v1.0//EN
CALSCALE:GREGORIAN
METHOD:PUBLISH
X-WR-CALNAME:Ev. Kirchengemeinde Alt-Pankow
X-ORIGINAL-URL:https://alt.alt-pankow.de
X-WR-CALDESC:Veranstaltungen für Ev. Kirchengemeinde Alt-Pankow
REFRESH-INTERVAL;VALUE=DURATION:PT1H
X-Robots-Tag:noindex
X-PUBLISHED-TTL:PT1H
BEGIN:VTIMEZONE
TZID:Europe/Berlin
BEGIN:DAYLIGHT
TZOFFSETFROM:+0100
TZOFFSETTO:+0200
TZNAME:CEST
DTSTART:20240331T010000
END:DAYLIGHT
BEGIN:STANDARD
TZOFFSETFROM:+0200
TZOFFSETTO:+0100
TZNAME:CET
DTSTART:20241027T010000
END:STANDARD
BEGIN:DAYLIGHT
TZOFFSETFROM:+0100
TZOFFSETTO:+0200
TZNAME:CEST
DTSTART:20250330T010000
END:DAYLIGHT
BEGIN:STANDARD
TZOFFSETFROM:+0200
TZOFFSETTO:+0100
TZNAME:CET
DTSTART:20251026T010000
END:STANDARD
BEGIN:DAYLIGHT
TZOFFSETFROM:+0100
TZOFFSETTO:+0200
TZNAME:CEST
DTSTART:20260329T010000
END:DAYLIGHT
BEGIN:STANDARD
TZOFFSETFROM:+0200
TZOFFSETTO:+0100
TZNAME:CET
DTSTART:20261025T010000
END:STANDARD
END:VTIMEZONE
BEGIN:VEVENT
DTSTART;TZID=Europe/Berlin:20250604T190000
DTEND;TZID=Europe/Berlin:20250604T210000
DTSTAMP:20260421T180133
CREATED:20250402T141639Z
LAST-MODIFIED:20250428T104840Z
UID:14462-1749063600-1749070800@alt.alt-pankow.de
SUMMARY:Mein Lieblingsstück
DESCRIPTION:Orgelkonzert\nWerke von J. S. Bach\, Buxtehude und Walther\nOrgel: Matthias Wilke (Berlin)
URL:https://alt.alt-pankow.de/veranstaltung/mein-lieblingsstueck/
LOCATION:Alte Pfarrkirche &#8222;Zu den vier Evangelisten&#8220;\, Breite Straße 37\, Berlin\, 13187\, Deutschland
CATEGORIES:Kirchenmusik,Konzerte,Orgelkonzerte
ATTACH;FMTTYPE=image/jpeg:https://alt.alt-pankow.de/wp-content/uploads/2025/04/AP_18_11_wilke_web.jpg
END:VEVENT
BEGIN:VEVENT
DTSTART;TZID=Europe/Berlin:20250604T193000
DTEND;TZID=Europe/Berlin:20250604T210000
DTSTAMP:20260421T180133
CREATED:20250110T143647Z
LAST-MODIFIED:20250110T143647Z
UID:13842-1749065400-1749070800@alt.alt-pankow.de
SUMMARY:Tanz und Besinnung
DESCRIPTION:Kontakt: Sandra Pawlig Tel. 015906739626
URL:https://alt.alt-pankow.de/veranstaltung/tanz-und-besinnung-42/
LOCATION:Ev. Gemeindehaus Alt-Pankow · Gemeindesaal\, Breite Straße 38\, Berlin\, 13187\, Deutschland
CATEGORIES:Gemeindekreise,Meditation
END:VEVENT
END:VCALENDAR