BEGIN:VCALENDAR
VERSION:2.0
PRODID:-//Ev. Kirchengemeinde Alt-Pankow - ECPv6.15.15//NONSGML v1.0//EN
CALSCALE:GREGORIAN
METHOD:PUBLISH
X-ORIGINAL-URL:https://alt.alt-pankow.de
X-WR-CALDESC:Veranstaltungen für Ev. Kirchengemeinde Alt-Pankow
REFRESH-INTERVAL;VALUE=DURATION:PT1H
X-Robots-Tag:noindex
X-PUBLISHED-TTL:PT1H
BEGIN:VTIMEZONE
TZID:Europe/Berlin
BEGIN:DAYLIGHT
TZOFFSETFROM:+0100
TZOFFSETTO:+0200
TZNAME:CEST
DTSTART:20240331T010000
END:DAYLIGHT
BEGIN:STANDARD
TZOFFSETFROM:+0200
TZOFFSETTO:+0100
TZNAME:CET
DTSTART:20241027T010000
END:STANDARD
BEGIN:DAYLIGHT
TZOFFSETFROM:+0100
TZOFFSETTO:+0200
TZNAME:CEST
DTSTART:20250330T010000
END:DAYLIGHT
BEGIN:STANDARD
TZOFFSETFROM:+0200
TZOFFSETTO:+0100
TZNAME:CET
DTSTART:20251026T010000
END:STANDARD
BEGIN:DAYLIGHT
TZOFFSETFROM:+0100
TZOFFSETTO:+0200
TZNAME:CEST
DTSTART:20260329T010000
END:DAYLIGHT
BEGIN:STANDARD
TZOFFSETFROM:+0200
TZOFFSETTO:+0100
TZNAME:CET
DTSTART:20261025T010000
END:STANDARD
END:VTIMEZONE
BEGIN:VEVENT
DTSTART;TZID=Europe/Berlin:20250529T080000
DTEND;TZID=Europe/Berlin:20250601T170000
DTSTAMP:20260421T180543
CREATED:20250127T132814Z
LAST-MODIFIED:20250317T135910Z
UID:14249-1748505600-1748797200@alt.alt-pankow.de
SUMMARY:Rüstzeit in Zingst
DESCRIPTION:Da berühren sich Himmel und Erde…\n\nHoffnung und Alt-Pankow unterwegs:\nNeue Horizonte · Kirche Kunterbunt · Musik und Andacht · Aktivitäten auf dem Zingst und am Meer\, Musik und Spiel \nOrt:\nMarthas Gästehaus · Zingsthof · Zingst / Ostsee\nAnmeldung:\n bei Pfarrer Michael Hufen\npfarrer@alt-pankow.de
URL:https://alt.alt-pankow.de/veranstaltung/ruestzeit-in-zingst/
LOCATION:Zingsthof\, Landstraße 1\, Zingst\, Mecklenburg/Vorpommern\, 18374\, Deutschland
CATEGORIES:Gemeindekreise,Gespräche,Gottesdienste
END:VEVENT
END:VCALENDAR