BEGIN:VCALENDAR
VERSION:2.0
PRODID:-//Ev. Kirchengemeinde Alt-Pankow - ECPv6.15.15//NONSGML v1.0//EN
CALSCALE:GREGORIAN
METHOD:PUBLISH
X-ORIGINAL-URL:https://alt.alt-pankow.de
X-WR-CALDESC:Veranstaltungen fÃ¼r Ev. Kirchengemeinde Alt-Pankow
REFRESH-INTERVAL;VALUE=DURATION:PT1H
X-Robots-Tag:noindex
X-PUBLISHED-TTL:PT1H
BEGIN:VTIMEZONE
TZID:Europe/Berlin
BEGIN:DAYLIGHT
TZOFFSETFROM:+0100
TZOFFSETTO:+0200
TZNAME:CEST
DTSTART:20240331T010000
END:DAYLIGHT
BEGIN:STANDARD
TZOFFSETFROM:+0200
TZOFFSETTO:+0100
TZNAME:CET
DTSTART:20241027T010000
END:STANDARD
BEGIN:DAYLIGHT
TZOFFSETFROM:+0100
TZOFFSETTO:+0200
TZNAME:CEST
DTSTART:20250330T010000
END:DAYLIGHT
BEGIN:STANDARD
TZOFFSETFROM:+0200
TZOFFSETTO:+0100
TZNAME:CET
DTSTART:20251026T010000
END:STANDARD
BEGIN:DAYLIGHT
TZOFFSETFROM:+0100
TZOFFSETTO:+0200
TZNAME:CEST
DTSTART:20260329T010000
END:DAYLIGHT
BEGIN:STANDARD
TZOFFSETFROM:+0200
TZOFFSETTO:+0100
TZNAME:CET
DTSTART:20261025T010000
END:STANDARD
END:VTIMEZONE
BEGIN:VEVENT
DTSTART;TZID=Europe/Berlin:20250507T183000
DTEND;TZID=Europe/Berlin:20250507T200000
DTSTAMP:20260421T194254
CREATED:20250411T083829Z
LAST-MODIFIED:20250506T154654Z
UID:14489-1746642600-1746648000@alt.alt-pankow.de
SUMMARY:80 Jahre Frieden in Deutschland Â· Gedenkkonzert
DESCRIPTION:Veranstaltung des Deutsch-Russischen Forums \nDas Hikari Quartett sowie die Solisten Irina Papenbrock (Sopran)\, Mario Ottone (Bariton) und Vladimir Magalashvili (Orgel) spielen unter anderem Werke von Dmitri Schostakowitsch\, Felix Mendelssohn Bartholdy\, Johann Sebastian Bach und Sergej Rachmaninow. \nAnsprache: Pfarrerin i.R. Ruth Misselwitz \n 
URL:https://alt.alt-pankow.de/veranstaltung/80-jahre-frieden-in-deutschland/
LOCATION:Alte Pfarrkirche &#8222;Zu den vier Evangelisten&#8220;\, Breite StraÃŸe 37\, Berlin\, 13187\, Deutschland
CATEGORIES:Konzerte
END:VEVENT
BEGIN:VEVENT
DTSTART;TZID=Europe/Berlin:20250507T193000
DTEND;TZID=Europe/Berlin:20250507T210000
DTSTAMP:20260421T194254
CREATED:20250117T135807Z
LAST-MODIFIED:20250117T135807Z
UID:14145-1746646200-1746651600@alt.alt-pankow.de
SUMMARY:Tanz und Besinnung
DESCRIPTION:Kontakt: Sandra Pawlig Tel. 015906739626
URL:https://alt.alt-pankow.de/veranstaltung/tanz-und-besinnung/
LOCATION:Ev. Gemeindehaus Alt-Pankow Â· Gemeindesaal\, Breite StraÃŸe 38\, Berlin\, 13187\, Deutschland
CATEGORIES:Gemeindekreise,Meditation
END:VEVENT
END:VCALENDAR