BEGIN:VCALENDAR
VERSION:2.0
PRODID:-//Ev. Kirchengemeinde Alt-Pankow - ECPv6.15.15//NONSGML v1.0//EN
CALSCALE:GREGORIAN
METHOD:PUBLISH
X-ORIGINAL-URL:https://alt.alt-pankow.de
X-WR-CALDESC:Veranstaltungen fÃ¼r Ev. Kirchengemeinde Alt-Pankow
REFRESH-INTERVAL;VALUE=DURATION:PT1H
X-Robots-Tag:noindex
X-PUBLISHED-TTL:PT1H
BEGIN:VTIMEZONE
TZID:Europe/Berlin
BEGIN:DAYLIGHT
TZOFFSETFROM:+0100
TZOFFSETTO:+0200
TZNAME:CEST
DTSTART:20240331T010000
END:DAYLIGHT
BEGIN:STANDARD
TZOFFSETFROM:+0200
TZOFFSETTO:+0100
TZNAME:CET
DTSTART:20241027T010000
END:STANDARD
BEGIN:DAYLIGHT
TZOFFSETFROM:+0100
TZOFFSETTO:+0200
TZNAME:CEST
DTSTART:20250330T010000
END:DAYLIGHT
BEGIN:STANDARD
TZOFFSETFROM:+0200
TZOFFSETTO:+0100
TZNAME:CET
DTSTART:20251026T010000
END:STANDARD
BEGIN:DAYLIGHT
TZOFFSETFROM:+0100
TZOFFSETTO:+0200
TZNAME:CEST
DTSTART:20260329T010000
END:DAYLIGHT
BEGIN:STANDARD
TZOFFSETFROM:+0200
TZOFFSETTO:+0100
TZNAME:CET
DTSTART:20261025T010000
END:STANDARD
END:VTIMEZONE
BEGIN:VEVENT
DTSTART;TZID=Europe/Berlin:20250322T193000
DTEND;TZID=Europe/Berlin:20250322T213000
DTSTAMP:20260421T224623
CREATED:20250127T103508Z
LAST-MODIFIED:20250310T085855Z
UID:14181-1742671800-1742679000@alt.alt-pankow.de
SUMMARY:Klavierabend mit Nikita Volov
DESCRIPTION:Konzert & CD-PrÃ¤sentation:\nÂ»Out of PlaceÂ«\nNikita Volov vereint Klavierwerke dreier Komponisten â€“ Grieg\, Korngold und Schumann â€“\, die sich mit tragikomischen Figuren der Literatur auseinandersetzen. \nÂ»Out of PlaceÂ« hat Nikita Volov sein neues GENUIN-Album genannt\, das sich mit farbenprÃ¤chtigen\, komplexen und teilweise ausgestoÃŸenen Charakteren aus berÃ¼hmten Romanen beschÃ¤ftigt. Volov spielt in seinem innovativ zusammengestellten Programm eine fantasievolle Bearbeitung von Edvard Griegs Â»Peer-GyntÂ«-Suite\, Erich Wolfgang Korngolds StÃ¼cke Ã¼ber den verrÃ¼ckten Idealisten Â»Don QuixoteÂ« und Robert Schumanns Â»KreislerianaÂ«\, das PortrÃ¤t des tragikomischen Kapellmeisters Kreisler aus E.T.A. Hoffmanns BÃ¼chern. Diese einzigartigen Individuen\, die Â»Out of PlaceÂ« sind\, inspirieren weiterhin die Welt. Mit meisterhafter Interpretation und tiefem VerstÃ¤ndnis erweckt Volov diese faszinierenden Charaktere zum Leben und zeigt ihre zeitlose Relevanz. \n\nEintritt frei. Kollekte am Ausgang \n\n 
URL:https://alt.alt-pankow.de/veranstaltung/klavierabend-mit-nikita-volov/
LOCATION:Alte Pfarrkirche &#8222;Zu den vier Evangelisten&#8220;\, Breite StraÃŸe 37\, Berlin\, 13187\, Deutschland
CATEGORIES:Konzerte
ATTACH;FMTTYPE=image/jpeg:https://alt.alt-pankow.de/wp-content/uploads/2025/01/Out-of-place_Volov_l.jpg
END:VEVENT
END:VCALENDAR