BEGIN:VCALENDAR
VERSION:2.0
PRODID:-//Ev. Kirchengemeinde Alt-Pankow - ECPv6.15.15//NONSGML v1.0//EN
CALSCALE:GREGORIAN
METHOD:PUBLISH
X-ORIGINAL-URL:https://alt.alt-pankow.de
X-WR-CALDESC:Veranstaltungen für Ev. Kirchengemeinde Alt-Pankow
REFRESH-INTERVAL;VALUE=DURATION:PT1H
X-Robots-Tag:noindex
X-PUBLISHED-TTL:PT1H
BEGIN:VTIMEZONE
TZID:Europe/Berlin
BEGIN:DAYLIGHT
TZOFFSETFROM:+0100
TZOFFSETTO:+0200
TZNAME:CEST
DTSTART:20240331T010000
END:DAYLIGHT
BEGIN:STANDARD
TZOFFSETFROM:+0200
TZOFFSETTO:+0100
TZNAME:CET
DTSTART:20241027T010000
END:STANDARD
BEGIN:DAYLIGHT
TZOFFSETFROM:+0100
TZOFFSETTO:+0200
TZNAME:CEST
DTSTART:20250330T010000
END:DAYLIGHT
BEGIN:STANDARD
TZOFFSETFROM:+0200
TZOFFSETTO:+0100
TZNAME:CET
DTSTART:20251026T010000
END:STANDARD
BEGIN:DAYLIGHT
TZOFFSETFROM:+0100
TZOFFSETTO:+0200
TZNAME:CEST
DTSTART:20260329T010000
END:DAYLIGHT
BEGIN:STANDARD
TZOFFSETFROM:+0200
TZOFFSETTO:+0100
TZNAME:CET
DTSTART:20261025T010000
END:STANDARD
END:VTIMEZONE
BEGIN:VEVENT
DTSTART;TZID=Europe/Berlin:20250319T110000
DTEND;TZID=Europe/Berlin:20250319T130000
DTSTAMP:20260421T224554
CREATED:20250110T144339Z
LAST-MODIFIED:20250110T144339Z
UID:13861-1742382000-1742389200@alt.alt-pankow.de
SUMMARY:Seniorenfrühstück
DESCRIPTION:Wir bitten um Anmeldung bei Regina Burger\,\nTel. 030-485 6709.
URL:https://alt.alt-pankow.de/veranstaltung/seniorenfruehstueck-22/
LOCATION:Alte Pfarrkirche · Bonhoeffer-Saal\, Breite Straße 37\, Berlin\, 13187\, Deutschland
CATEGORIES:Gemeindekreise,Gespräche
END:VEVENT
BEGIN:VEVENT
DTSTART;TZID=Europe/Berlin:20250319T190000
DTEND;TZID=Europe/Berlin:20250319T193000
DTSTAMP:20260421T224554
CREATED:20250110T150211Z
LAST-MODIFIED:20250127T094859Z
UID:13906-1742410800-1742412600@alt.alt-pankow.de
SUMMARY:Orgelandacht zur Passionszeit
DESCRIPTION:Eine halbe Stunde Orgelmusik und ein Text zur Passionszeit.\nMit Pfarrer Michael Hufen\nOrgel: Matthias Wilke
URL:https://alt.alt-pankow.de/veranstaltung/orgelandacht-zur-passionszeit-8/
LOCATION:Alte Pfarrkirche &#8222;Zu den vier Evangelisten&#8220;\, Breite Straße 37\, Berlin\, 13187\, Deutschland
CATEGORIES:Andacht,Kirchenmusik,Konzerte
ATTACH;FMTTYPE=image/jpeg:https://alt.alt-pankow.de/wp-content/uploads/2023/10/AP_14-2-2024_orgel_www.jpg
END:VEVENT
BEGIN:VEVENT
DTSTART;TZID=Europe/Berlin:20250319T193000
DTEND;TZID=Europe/Berlin:20250319T210000
DTSTAMP:20260421T224554
CREATED:20250110T144827Z
LAST-MODIFIED:20250110T144827Z
UID:13884-1742412600-1742418000@alt.alt-pankow.de
SUMMARY:Tanz und Besinnung
DESCRIPTION:Kontakt: Sandra Pawlig Tel. 015906739626
URL:https://alt.alt-pankow.de/veranstaltung/tanz-und-besinnung-54/
LOCATION:Ev. Gemeindehaus Alt-Pankow · Gemeindesaal\, Breite Straße 38\, Berlin\, 13187\, Deutschland
CATEGORIES:Gemeindekreise,Meditation
END:VEVENT
END:VCALENDAR