BEGIN:VCALENDAR
VERSION:2.0
PRODID:-//Ev. Kirchengemeinde Alt-Pankow - ECPv6.15.15//NONSGML v1.0//EN
CALSCALE:GREGORIAN
METHOD:PUBLISH
X-ORIGINAL-URL:https://alt.alt-pankow.de
X-WR-CALDESC:Veranstaltungen für Ev. Kirchengemeinde Alt-Pankow
REFRESH-INTERVAL;VALUE=DURATION:PT1H
X-Robots-Tag:noindex
X-PUBLISHED-TTL:PT1H
BEGIN:VTIMEZONE
TZID:Europe/Berlin
BEGIN:DAYLIGHT
TZOFFSETFROM:+0100
TZOFFSETTO:+0200
TZNAME:CEST
DTSTART:20240331T010000
END:DAYLIGHT
BEGIN:STANDARD
TZOFFSETFROM:+0200
TZOFFSETTO:+0100
TZNAME:CET
DTSTART:20241027T010000
END:STANDARD
BEGIN:DAYLIGHT
TZOFFSETFROM:+0100
TZOFFSETTO:+0200
TZNAME:CEST
DTSTART:20250330T010000
END:DAYLIGHT
BEGIN:STANDARD
TZOFFSETFROM:+0200
TZOFFSETTO:+0100
TZNAME:CET
DTSTART:20251026T010000
END:STANDARD
BEGIN:DAYLIGHT
TZOFFSETFROM:+0100
TZOFFSETTO:+0200
TZNAME:CEST
DTSTART:20260329T010000
END:DAYLIGHT
BEGIN:STANDARD
TZOFFSETFROM:+0200
TZOFFSETTO:+0100
TZNAME:CET
DTSTART:20261025T010000
END:STANDARD
END:VTIMEZONE
BEGIN:VEVENT
DTSTART;TZID=Europe/Berlin:20250311T160000
DTEND;TZID=Europe/Berlin:20250311T170000
DTSTAMP:20260421T224630
CREATED:20250110T102845Z
LAST-MODIFIED:20250110T102845Z
UID:13531-1741708800-1741712400@alt.alt-pankow.de
SUMMARY:Christenlehre 1.-3. Klasse
DESCRIPTION:mit Renate Wagner-Schill \n\nEinmal pro Woche treffen sich Kinder unserer Gemeinde bzw. aus dem Pankower Kiez zur Christenlehre. Wir hören Geschichten\, meist aus der Bibel\, singen\, beten\, tanzen\, spielen und basteln\, essen und feiern gemeinsam\, bereiten Feste vor\, gestalten die Kinderecke unserer Kirche und Familiengottesdienste &#8211; herzlich willkommen!
URL:https://alt.alt-pankow.de/veranstaltung/christenlehre-1-3-klasse-26/
LOCATION:Ev. Gemeindehaus Alt-Pankow · Keller\, Breite Straße 38\, Berlin\, 13187\, Deutschland
CATEGORIES:für Kinder,Proben
END:VEVENT
BEGIN:VEVENT
DTSTART;TZID=Europe/Berlin:20250311T170000
DTEND;TZID=Europe/Berlin:20250311T180000
DTSTAMP:20260421T224630
CREATED:20250110T105148Z
LAST-MODIFIED:20250110T105148Z
UID:13625-1741712400-1741716000@alt.alt-pankow.de
SUMMARY:Christenlehre 4.-6. Klasse
DESCRIPTION:mit Renate Wagner-Schill \n\nEinmal pro Woche treffen sich Kinder unserer Gemeinde bzw. aus dem Pankower Kiez zur Christenlehre. Wir hören Geschichten\, meist aus der Bibel\, singen\, beten\, tanzen\, spielen und basteln\, essen und feiern gemeinsam\, bereiten Feste vor\, gestalten die Kinderecke unserer Kirche und Familiengottesdienste &#8211; herzlich willkommen!
URL:https://alt.alt-pankow.de/veranstaltung/christenlehre-4-6-klasse-24/
LOCATION:Ev. Gemeindehaus Alt-Pankow · Keller\, Breite Straße 38\, Berlin\, 13187\, Deutschland
CATEGORIES:für Kinder,Proben
END:VEVENT
BEGIN:VEVENT
DTSTART;TZID=Europe/Berlin:20250311T170000
DTEND;TZID=Europe/Berlin:20250311T183000
DTSTAMP:20260421T224630
CREATED:20250110T142446Z
LAST-MODIFIED:20250110T142446Z
UID:13813-1741712400-1741717800@alt.alt-pankow.de
SUMMARY:Trauercafé
DESCRIPTION:des Ambulanten Caritas-Hospizes \nBonhoeffer-Saal in der Alten Pfarrkirche Pankow\, Breite Straße 37\nAnmeldung erbeten unter Tel. 030-666340360
URL:https://alt.alt-pankow.de/veranstaltung/trauercafe-19/
LOCATION:Alte Pfarrkirche · Bonhoeffer-Saal\, Breite Straße 37\, Berlin\, 13187\, Deutschland
CATEGORIES:Gespräche
END:VEVENT
BEGIN:VEVENT
DTSTART;TZID=Europe/Berlin:20250311T180000
DTEND;TZID=Europe/Berlin:20250311T220000
DTSTAMP:20260421T224630
CREATED:20250110T141758Z
LAST-MODIFIED:20250110T141758Z
UID:13769-1741716000-1741730400@alt.alt-pankow.de
SUMMARY:Junge Gemeinde
DESCRIPTION:
URL:https://alt.alt-pankow.de/veranstaltung/junge-gemeinde-74/
LOCATION:Ev. Gemeindehaus Alt-Pankow · Garten\, Breite Straße 38\, Berlin\, 13187\, Deutschland
CATEGORIES:Gemeindekreise,Gespräche,Jugendliche
END:VEVENT
BEGIN:VEVENT
DTSTART;TZID=Europe/Berlin:20250311T200000
DTEND;TZID=Europe/Berlin:20250311T200000
DTSTAMP:20260421T224630
CREATED:20250110T101626Z
LAST-MODIFIED:20250110T101626Z
UID:13490-1741723200-1741723200@alt.alt-pankow.de
SUMMARY:Komplet - Das Gebet zur Nacht
DESCRIPTION:… in der Tradition christlicher Klöster. Zur Ruhe kommen &#8211; Psalmen singen &#8211; um Frieden beten.
URL:https://alt.alt-pankow.de/veranstaltung/komplet-das-gebet-zur-nacht-85/
LOCATION:Alte Pfarrkirche &#8222;Zu den vier Evangelisten&#8220;\, Breite Straße 37\, Berlin\, 13187\, Deutschland
CATEGORIES:Andacht
END:VEVENT
END:VCALENDAR