BEGIN:VCALENDAR
VERSION:2.0
PRODID:-//Ev. Kirchengemeinde Alt-Pankow - ECPv6.15.15//NONSGML v1.0//EN
CALSCALE:GREGORIAN
METHOD:PUBLISH
X-ORIGINAL-URL:https://alt.alt-pankow.de
X-WR-CALDESC:Veranstaltungen für Ev. Kirchengemeinde Alt-Pankow
REFRESH-INTERVAL;VALUE=DURATION:PT1H
X-Robots-Tag:noindex
X-PUBLISHED-TTL:PT1H
BEGIN:VTIMEZONE
TZID:Europe/Berlin
BEGIN:DAYLIGHT
TZOFFSETFROM:+0100
TZOFFSETTO:+0200
TZNAME:CEST
DTSTART:20240331T010000
END:DAYLIGHT
BEGIN:STANDARD
TZOFFSETFROM:+0200
TZOFFSETTO:+0100
TZNAME:CET
DTSTART:20241027T010000
END:STANDARD
BEGIN:DAYLIGHT
TZOFFSETFROM:+0100
TZOFFSETTO:+0200
TZNAME:CEST
DTSTART:20250330T010000
END:DAYLIGHT
BEGIN:STANDARD
TZOFFSETFROM:+0200
TZOFFSETTO:+0100
TZNAME:CET
DTSTART:20251026T010000
END:STANDARD
BEGIN:DAYLIGHT
TZOFFSETFROM:+0100
TZOFFSETTO:+0200
TZNAME:CEST
DTSTART:20260329T010000
END:DAYLIGHT
BEGIN:STANDARD
TZOFFSETFROM:+0200
TZOFFSETTO:+0100
TZNAME:CET
DTSTART:20261025T010000
END:STANDARD
END:VTIMEZONE
BEGIN:VEVENT
DTSTART;TZID=Europe/Berlin:20250114T160000
DTEND;TZID=Europe/Berlin:20250114T163000
DTSTAMP:20260422T014130
CREATED:20240203T151802Z
LAST-MODIFIED:20250110T131643Z
UID:11937-1736870400-1736872200@alt.alt-pankow.de
SUMMARY:Kinderchor · 4-6 Jahre
DESCRIPTION:Kontakt\nKirchenmusikerin Rudite Livmane\nT 0157- 387 80 926\nkirchenmusik@alt-pankow.de
URL:https://alt.alt-pankow.de/veranstaltung/kinderchor-%c2%b7-4-6-jahre-52/
LOCATION:Ev. Gemeindehaus Alt-Pankow · Gemeindesaal\, Breite Straße 38\, Berlin\, 13187\, Deutschland
CATEGORIES:für Kinder,Kirchenmusik,Proben
END:VEVENT
BEGIN:VEVENT
DTSTART;TZID=Europe/Berlin:20250114T160000
DTEND;TZID=Europe/Berlin:20250114T170000
DTSTAMP:20260422T014130
CREATED:20250110T102551Z
LAST-MODIFIED:20250110T102623Z
UID:13522-1736870400-1736874000@alt.alt-pankow.de
SUMMARY:Christenlehre 1.-3. Klasse
DESCRIPTION:mit Renate Wagner-Schill \n\nEinmal pro Woche treffen sich Kinder unserer Gemeinde bzw. aus dem Pankower Kiez zur Christenlehre. Wir hören Geschichten\, meist aus der Bibel\, singen\, beten\, tanzen\, spielen und basteln\, essen und feiern gemeinsam\, bereiten Feste vor\, gestalten die Kinderecke unserer Kirche und Familiengottesdienste &#8211; herzlich willkommen!
URL:https://alt.alt-pankow.de/veranstaltung/christenlehre-1-3-klasse-18/
LOCATION:Ev. Gemeindehaus Alt-Pankow · Keller\, Breite Straße 38\, Berlin\, 13187\, Deutschland
CATEGORIES:für Kinder,Proben
END:VEVENT
BEGIN:VEVENT
DTSTART;TZID=Europe/Berlin:20250114T170000
DTEND;TZID=Europe/Berlin:20250114T180000
DTSTAMP:20260422T014130
CREATED:20250110T104909Z
LAST-MODIFIED:20250110T104941Z
UID:13616-1736874000-1736877600@alt.alt-pankow.de
SUMMARY:Christenlehre 4.-6. Klasse
DESCRIPTION:mit Renate Wagner-Schill \n\nEinmal pro Woche treffen sich Kinder unserer Gemeinde bzw. aus dem Pankower Kiez zur Christenlehre. Wir hören Geschichten\, meist aus der Bibel\, singen\, beten\, tanzen\, spielen und basteln\, essen und feiern gemeinsam\, bereiten Feste vor\, gestalten die Kinderecke unserer Kirche und Familiengottesdienste &#8211; herzlich willkommen!
URL:https://alt.alt-pankow.de/veranstaltung/christenlehre-4-6-klasse-8/
LOCATION:Ev. Gemeindehaus Alt-Pankow · Keller\, Breite Straße 38\, Berlin\, 13187\, Deutschland
CATEGORIES:für Kinder,Proben
END:VEVENT
BEGIN:VEVENT
DTSTART;TZID=Europe/Berlin:20250114T170000
DTEND;TZID=Europe/Berlin:20250114T183000
DTSTAMP:20260422T014130
CREATED:20240204T205908Z
LAST-MODIFIED:20250110T142346Z
UID:12070-1736874000-1736879400@alt.alt-pankow.de
SUMMARY:Trauercafé
DESCRIPTION:des Ambulanten Caritas-Hospizes \nBonhoeffer-Saal in der Alten Pfarrkirche Pankow\, Breite Straße 37\nAnmeldung erbeten unter Tel. 030-666340360
URL:https://alt.alt-pankow.de/veranstaltung/trauercafe-17/
LOCATION:Alte Pfarrkirche · Bonhoeffer-Saal\, Breite Straße 37\, Berlin\, 13187\, Deutschland
CATEGORIES:Gespräche
END:VEVENT
BEGIN:VEVENT
DTSTART;TZID=Europe/Berlin:20250114T180000
DTEND;TZID=Europe/Berlin:20250114T220000
DTSTAMP:20260422T014130
CREATED:20250110T141651Z
LAST-MODIFIED:20250110T141651Z
UID:13762-1736877600-1736892000@alt.alt-pankow.de
SUMMARY:Junge Gemeinde
DESCRIPTION:
URL:https://alt.alt-pankow.de/veranstaltung/junge-gemeinde-67/
LOCATION:Ev. Gemeindehaus Alt-Pankow · Garten\, Breite Straße 38\, Berlin\, 13187\, Deutschland
CATEGORIES:Gemeindekreise,Gespräche,Jugendliche
END:VEVENT
BEGIN:VEVENT
DTSTART;TZID=Europe/Berlin:20250114T200000
DTEND;TZID=Europe/Berlin:20250114T203000
DTSTAMP:20260422T014130
CREATED:20250110T102028Z
LAST-MODIFIED:20250110T102028Z
UID:13514-1736884800-1736886600@alt.alt-pankow.de
SUMMARY:Komplet - Das Gebet zur Nacht
DESCRIPTION:… in der Tradition christlicher Klöster. Zur Ruhe kommen &#8211; Psalmen singen &#8211; um Frieden beten.
URL:https://alt.alt-pankow.de/veranstaltung/komplet-das-gebet-zur-nacht-97/
LOCATION:Alte Pfarrkirche &#8222;Zu den vier Evangelisten&#8220;\, Breite Straße 37\, Berlin\, 13187\, Deutschland
CATEGORIES:Andacht
END:VEVENT
END:VCALENDAR