BEGIN:VCALENDAR
VERSION:2.0
PRODID:-//Ev. Kirchengemeinde Alt-Pankow - ECPv6.15.15//NONSGML v1.0//EN
CALSCALE:GREGORIAN
METHOD:PUBLISH
X-WR-CALNAME:Ev. Kirchengemeinde Alt-Pankow
X-ORIGINAL-URL:https://alt.alt-pankow.de
X-WR-CALDESC:Veranstaltungen für Ev. Kirchengemeinde Alt-Pankow
REFRESH-INTERVAL;VALUE=DURATION:PT1H
X-Robots-Tag:noindex
X-PUBLISHED-TTL:PT1H
BEGIN:VTIMEZONE
TZID:Europe/Berlin
BEGIN:DAYLIGHT
TZOFFSETFROM:+0100
TZOFFSETTO:+0200
TZNAME:CEST
DTSTART:20240331T010000
END:DAYLIGHT
BEGIN:STANDARD
TZOFFSETFROM:+0200
TZOFFSETTO:+0100
TZNAME:CET
DTSTART:20241027T010000
END:STANDARD
BEGIN:DAYLIGHT
TZOFFSETFROM:+0100
TZOFFSETTO:+0200
TZNAME:CEST
DTSTART:20250330T010000
END:DAYLIGHT
BEGIN:STANDARD
TZOFFSETFROM:+0200
TZOFFSETTO:+0100
TZNAME:CET
DTSTART:20251026T010000
END:STANDARD
BEGIN:DAYLIGHT
TZOFFSETFROM:+0100
TZOFFSETTO:+0200
TZNAME:CEST
DTSTART:20260329T010000
END:DAYLIGHT
BEGIN:STANDARD
TZOFFSETFROM:+0200
TZOFFSETTO:+0100
TZNAME:CET
DTSTART:20261025T010000
END:STANDARD
END:VTIMEZONE
BEGIN:VEVENT
DTSTART;TZID=Europe/Berlin:20250111T193000
DTEND;TZID=Europe/Berlin:20250111T210000
DTSTAMP:20260422T014005
CREATED:20241230T131237Z
LAST-MODIFIED:20250110T095004Z
UID:13405-1736623800-1736629200@alt.alt-pankow.de
SUMMARY:Logos Quartett
DESCRIPTION:Kammermusik im Gemeindehaus \n»Musik aus Wien«\nStreichquartette von Joseph Haydn\, Hugo Wolf und Franz Schubert \nDas 2021 gegründete LOGOS Quartett vereinigt Musiker:innen aus verschiedenen europäischen Ländern\, die ihre Heimat in Berlin haben. Wir teilen unsere gemeinsame Leidenschaft in der Kammermusik. Die vielschichtigen musikalischen Erfahrungen\, die jeder und jede von uns mitbringt\, bereichern unsere Auseinandersetzung mit den großartigen Meisterwerken der Musikliteratur. Wir laden Sie ein\, mit uns zusammen auf die Entdeckungsreise in die Welt der Streichquartett Meisterwerke mitzukommen und die Sinnhaftigkeit der Musik in der heutigen Welt zu erleben. \nJulita Tabisz-Forck ·  1. Violine\nMaria Kapshuchenko · 2. Violine\nFrauke Huhs · Viola\nHans-Georg Dill · Cello \nProgramm:\nJoseph Haydn (1732 &#8211; 1809)\nStreichquartett in G Dur Op. 77 Nr. 1 (Lobkowitz) \nHugo Wolf (1860 &#8211; 1903)\nItalienische Serenade \nFranz Schubert (1797 &#8211; 1828)\nStreichquartett a Moll Op. 29 D (Rosamunde) \n\nFoto: Logos Quartett \n\nEintritt frei · Kollekte am Ausgang
URL:https://alt.alt-pankow.de/veranstaltung/logos-quartett/
LOCATION:Ev. Gemeindehaus Alt-Pankow · Gemeindesaal\, Breite Straße 38\, Berlin\, 13187\, Deutschland
CATEGORIES:Kirchenmusik,Konzerte
ATTACH;FMTTYPE=image/jpeg:https://alt.alt-pankow.de/wp-content/uploads/2024/12/Logos-Garten-2-kleiner_ap.jpg
END:VEVENT
END:VCALENDAR