BEGIN:VCALENDAR
VERSION:2.0
PRODID:-//Ev. Kirchengemeinde Alt-Pankow - ECPv6.15.15//NONSGML v1.0//EN
CALSCALE:GREGORIAN
METHOD:PUBLISH
X-ORIGINAL-URL:https://alt.alt-pankow.de
X-WR-CALDESC:Veranstaltungen fÃ¼r Ev. Kirchengemeinde Alt-Pankow
REFRESH-INTERVAL;VALUE=DURATION:PT1H
X-Robots-Tag:noindex
X-PUBLISHED-TTL:PT1H
BEGIN:VTIMEZONE
TZID:Europe/Berlin
BEGIN:DAYLIGHT
TZOFFSETFROM:+0100
TZOFFSETTO:+0200
TZNAME:CEST
DTSTART:20240331T010000
END:DAYLIGHT
BEGIN:STANDARD
TZOFFSETFROM:+0200
TZOFFSETTO:+0100
TZNAME:CET
DTSTART:20241027T010000
END:STANDARD
BEGIN:DAYLIGHT
TZOFFSETFROM:+0100
TZOFFSETTO:+0200
TZNAME:CEST
DTSTART:20250330T010000
END:DAYLIGHT
BEGIN:STANDARD
TZOFFSETFROM:+0200
TZOFFSETTO:+0100
TZNAME:CET
DTSTART:20251026T010000
END:STANDARD
BEGIN:DAYLIGHT
TZOFFSETFROM:+0100
TZOFFSETTO:+0200
TZNAME:CEST
DTSTART:20260329T010000
END:DAYLIGHT
BEGIN:STANDARD
TZOFFSETFROM:+0200
TZOFFSETTO:+0100
TZNAME:CET
DTSTART:20261025T010000
END:STANDARD
END:VTIMEZONE
BEGIN:VEVENT
DTSTART;TZID=Europe/Berlin:20250109T180000
DTEND;TZID=Europe/Berlin:20250109T200000
DTSTAMP:20260422T014258
CREATED:20250110T154559Z
LAST-MODIFIED:20250110T154559Z
UID:14063-1736445600-1736452800@alt.alt-pankow.de
SUMMARY:GesprÃ¤chskreis
DESCRIPTION:Kontakt: Donata Kleber\, Tel. 030-9122323 \n 
URL:https://alt.alt-pankow.de/veranstaltung/gespraechskreis-15/
LOCATION:Ev. Gemeindehaus Alt-Pankow Â· Gemeindesaal\, Breite StraÃŸe 38\, Berlin\, 13187\, Deutschland
CATEGORIES:Gemeindekreise,GesprÃ¤che
END:VEVENT
BEGIN:VEVENT
DTSTART;TZID=Europe/Berlin:20250109T193000
DTEND;TZID=Europe/Berlin:20250109T213000
DTSTAMP:20260422T014258
CREATED:20231103T150633Z
LAST-MODIFIED:20250110T150358Z
UID:11451-1736451000-1736458200@alt.alt-pankow.de
SUMMARY:collegium instrumentale
DESCRIPTION:
URL:https://alt.alt-pankow.de/veranstaltung/collegium-instrumentale-47/
LOCATION:Ev. Gemeindehaus Alt-Pankow Â· Gemeindesaal\, Breite StraÃŸe 38\, Berlin\, 13187\, Deutschland
CATEGORIES:Kirchenmusik,Proben
END:VEVENT
END:VCALENDAR