BEGIN:VCALENDAR
VERSION:2.0
PRODID:-//Ev. Kirchengemeinde Alt-Pankow - ECPv6.15.15//NONSGML v1.0//EN
CALSCALE:GREGORIAN
METHOD:PUBLISH
X-ORIGINAL-URL:https://alt.alt-pankow.de
X-WR-CALDESC:Veranstaltungen für Ev. Kirchengemeinde Alt-Pankow
REFRESH-INTERVAL;VALUE=DURATION:PT1H
X-Robots-Tag:noindex
X-PUBLISHED-TTL:PT1H
BEGIN:VTIMEZONE
TZID:Europe/Berlin
BEGIN:DAYLIGHT
TZOFFSETFROM:+0100
TZOFFSETTO:+0200
TZNAME:CEST
DTSTART:20230326T010000
END:DAYLIGHT
BEGIN:STANDARD
TZOFFSETFROM:+0200
TZOFFSETTO:+0100
TZNAME:CET
DTSTART:20231029T010000
END:STANDARD
BEGIN:DAYLIGHT
TZOFFSETFROM:+0100
TZOFFSETTO:+0200
TZNAME:CEST
DTSTART:20240331T010000
END:DAYLIGHT
BEGIN:STANDARD
TZOFFSETFROM:+0200
TZOFFSETTO:+0100
TZNAME:CET
DTSTART:20241027T010000
END:STANDARD
BEGIN:DAYLIGHT
TZOFFSETFROM:+0100
TZOFFSETTO:+0200
TZNAME:CEST
DTSTART:20250330T010000
END:DAYLIGHT
BEGIN:STANDARD
TZOFFSETFROM:+0200
TZOFFSETTO:+0100
TZNAME:CET
DTSTART:20251026T010000
END:STANDARD
END:VTIMEZONE
BEGIN:VEVENT
DTSTART;TZID=Europe/Berlin:20241221T193000
DTEND;TZID=Europe/Berlin:20241221T210000
DTSTAMP:20260422T031917
CREATED:20241119T152948Z
LAST-MODIFIED:20241210T135859Z
UID:13254-1734809400-1734814800@alt.alt-pankow.de
SUMMARY:Weihnachtsoratorium · Kantaten 1 und 3
DESCRIPTION:Johann Sebastian Bach (1685-1750)\nBWV 248 · Kantaten 1 und 3 \n\nKirchenchor\, collegium instrumentale Alt-Pankow und Gäste \nLilli Mutzke · Sopran\nDorothe Ingenfeld · Alt\nHeie Erchinger · Tenor\nMichael Timm · Bass \nLeitung: Matthias Wilke
URL:https://alt.alt-pankow.de/veranstaltung/weihnachtsoratorium-%c2%b7-kantaten-1-und-3/
LOCATION:Alte Pfarrkirche &#8222;Zu den vier Evangelisten&#8220;\, Breite Straße 37\, Berlin\, 13187\, Deutschland
CATEGORIES:Konzerte
ATTACH;FMTTYPE=image/jpeg:https://alt.alt-pankow.de/wp-content/uploads/2024/11/hirten.jpg
END:VEVENT
END:VCALENDAR