BEGIN:VCALENDAR
VERSION:2.0
PRODID:-//Ev. Kirchengemeinde Alt-Pankow - ECPv6.15.15//NONSGML v1.0//EN
CALSCALE:GREGORIAN
METHOD:PUBLISH
X-ORIGINAL-URL:https://alt.alt-pankow.de
X-WR-CALDESC:Veranstaltungen für Ev. Kirchengemeinde Alt-Pankow
REFRESH-INTERVAL;VALUE=DURATION:PT1H
X-Robots-Tag:noindex
X-PUBLISHED-TTL:PT1H
BEGIN:VTIMEZONE
TZID:Europe/Berlin
BEGIN:DAYLIGHT
TZOFFSETFROM:+0100
TZOFFSETTO:+0200
TZNAME:CEST
DTSTART:20230326T010000
END:DAYLIGHT
BEGIN:STANDARD
TZOFFSETFROM:+0200
TZOFFSETTO:+0100
TZNAME:CET
DTSTART:20231029T010000
END:STANDARD
BEGIN:DAYLIGHT
TZOFFSETFROM:+0100
TZOFFSETTO:+0200
TZNAME:CEST
DTSTART:20240331T010000
END:DAYLIGHT
BEGIN:STANDARD
TZOFFSETFROM:+0200
TZOFFSETTO:+0100
TZNAME:CET
DTSTART:20241027T010000
END:STANDARD
BEGIN:DAYLIGHT
TZOFFSETFROM:+0100
TZOFFSETTO:+0200
TZNAME:CEST
DTSTART:20250330T010000
END:DAYLIGHT
BEGIN:STANDARD
TZOFFSETFROM:+0200
TZOFFSETTO:+0100
TZNAME:CET
DTSTART:20251026T010000
END:STANDARD
END:VTIMEZONE
BEGIN:VEVENT
DTSTART;TZID=Europe/Berlin:20241214T193000
DTEND;TZID=Europe/Berlin:20241214T210000
DTSTAMP:20260422T031939
CREATED:20241119T133110Z
LAST-MODIFIED:20241119T141434Z
UID:13235-1734204600-1734210000@alt.alt-pankow.de
SUMMARY:Orgelkonzert zur neuen Schumann-CD
DESCRIPTION:Orgel: Prof. Henry Fairs\n \nHenry Fairs (UdK Berlin) hat im Frühjahr 2024 eine CD mit Werken Robert Schumanns an unserer Wegscheider/Buchholz-Orgel aufgenommen. Am 14.12. spielt er ein Konzert zur Präsentation des Tonträgers. Im Anschluss an das Konzert besteht die Möglichkeit\, eine signierte CD zu erwerben und bei einem Glas Wein mit dem Künstler ins Gespräch zu kommen. \nIdeales Instrument: Für die neue Orgel der evangelischen Kirche zu den Vier Evangelisten in Berlin-Pankow hat sich der Orgelbauer Kristian Wegscheider das ursprüngliche\, leider nicht mehr vorhandene Instrument des berühmten Berliner Orgelbauers Carl August Buchholz (1796–1884) zum Vorbild genommen und so das perfekte Instrument für die Einspielung der Orgelwerke von Robert Schumann mit Henry Fairs geschaffen. \nRobert Schumann (1810-1856) \n\nStudien für den Pedalflügel op. 56\nSkizzen für den Pedalflügel op. 58\n6 Fugen über B-A-C-H op. 60\nAlbumblatt op. 124 Nr. 20\n\n \nHenry Fairs ist Professor für Orgel an der Universität der Künste Berlin. Der Preisträger internationaler Orgelwettbewerbe spielt zu Konzerten und Festivals auf der ganzen Welt. \n\nEintritt frei. Kollekte am Ausgang
URL:https://alt.alt-pankow.de/veranstaltung/orgelkonzert-zur-neuen-schumann-cd/
LOCATION:Alte Pfarrkirche &#8222;Zu den vier Evangelisten&#8220;\, Breite Straße 37\, Berlin\, 13187\, Deutschland
CATEGORIES:Konzerte
ATTACH;FMTTYPE=image/jpeg:https://alt.alt-pankow.de/wp-content/uploads/2024/11/ASSET_MMS_145090742.jpg
END:VEVENT
END:VCALENDAR